BEGIN:VCALENDAR
VERSION:2.0
PRODID:-//Notorious Jazz - ECPv6.15.17//NONSGML v1.0//EN
CALSCALE:GREGORIAN
METHOD:PUBLISH
X-WR-CALNAME:Notorious Jazz
X-ORIGINAL-URL:https://notoriousjazz.com
X-WR-CALDESC:Events for Notorious Jazz
REFRESH-INTERVAL;VALUE=DURATION:PT1H
X-Robots-Tag:noindex
X-PUBLISHED-TTL:PT1H
BEGIN:VTIMEZONE
TZID:America/New_York
BEGIN:DAYLIGHT
TZOFFSETFROM:-0500
TZOFFSETTO:-0400
TZNAME:EDT
DTSTART:20220313T070000
END:DAYLIGHT
BEGIN:STANDARD
TZOFFSETFROM:-0400
TZOFFSETTO:-0500
TZNAME:EST
DTSTART:20221106T060000
END:STANDARD
BEGIN:DAYLIGHT
TZOFFSETFROM:-0500
TZOFFSETTO:-0400
TZNAME:EDT
DTSTART:20230312T070000
END:DAYLIGHT
BEGIN:STANDARD
TZOFFSETFROM:-0400
TZOFFSETTO:-0500
TZNAME:EST
DTSTART:20231105T060000
END:STANDARD
BEGIN:DAYLIGHT
TZOFFSETFROM:-0500
TZOFFSETTO:-0400
TZNAME:EDT
DTSTART:20240310T070000
END:DAYLIGHT
BEGIN:STANDARD
TZOFFSETFROM:-0400
TZOFFSETTO:-0500
TZNAME:EST
DTSTART:20241103T060000
END:STANDARD
END:VTIMEZONE
BEGIN:VTIMEZONE
TZID:America/Los_Angeles
BEGIN:DAYLIGHT
TZOFFSETFROM:-0800
TZOFFSETTO:-0700
TZNAME:PDT
DTSTART:20220313T100000
END:DAYLIGHT
BEGIN:STANDARD
TZOFFSETFROM:-0700
TZOFFSETTO:-0800
TZNAME:PST
DTSTART:20221106T090000
END:STANDARD
BEGIN:DAYLIGHT
TZOFFSETFROM:-0800
TZOFFSETTO:-0700
TZNAME:PDT
DTSTART:20230312T100000
END:DAYLIGHT
BEGIN:STANDARD
TZOFFSETFROM:-0700
TZOFFSETTO:-0800
TZNAME:PST
DTSTART:20231105T090000
END:STANDARD
BEGIN:DAYLIGHT
TZOFFSETFROM:-0800
TZOFFSETTO:-0700
TZNAME:PDT
DTSTART:20240310T100000
END:DAYLIGHT
BEGIN:STANDARD
TZOFFSETFROM:-0700
TZOFFSETTO:-0800
TZNAME:PST
DTSTART:20241103T090000
END:STANDARD
END:VTIMEZONE
BEGIN:VEVENT
DTSTART;TZID=America/New_York:20231003T190000
DTEND;TZID=America/New_York:20231003T223000
DTSTAMP:20260420T164725
CREATED:20230910T172234Z
LAST-MODIFIED:20230910T173106Z
UID:37034-1696359600-1696372200@notoriousjazz.com
SUMMARY:TIERNEY SUTTON & RANDY BRECKER
DESCRIPTION:“Blind Date” feat. Christian Jacob\n\n“Ms. Sutton is a pure jazz spirit who respects a song. Even when going out on an improvisatory limb\, she never lets its essence slip away.” – The New York Times “Brecker has the chops to play it cool or hot\, laid-back or virtuosic.” – Downbeat \n9-time Grammy-nominated vocalist Tierney Sutton and legendary multi-Grammy-winning trumpet master Randy Brecker share a stage for the very first time in an evening of spontaneous music-making. This special Tuesday night performance will also feature the illuminating pianist Christian Jacob. \nTierney Sutton – vocals | Randy Brecker – trumpet | Christian Jacob – piano
URL:https://notoriousjazz.com/event/tierney-sutton-randy-brecker
LOCATION:Smoke Jazz & Supper Club\, 2751 Broadway\, New York City\, NY\, 10025\, United States
CATEGORIES:Club
ATTACH;FMTTYPE=image/jpeg:https://notoriousjazz.com/wp-content/uploads/2023/09/TIERNEY-SUTTON.jpeg
END:VEVENT
BEGIN:VEVENT
DTSTART;TZID=America/Los_Angeles:20231011T190000
DTEND;TZID=America/Los_Angeles:20231015T230000
DTSTAMP:20260420T164725
CREATED:20231008T184028Z
LAST-MODIFIED:20231008T184232Z
UID:37345-1697050800-1697410800@notoriousjazz.com
SUMMARY:NICHOLAS PAYTON & NEW WORLD ORDER
DESCRIPTION:As a leading voice in American popular music\, the 2x Grammy Award-winning and 5x Grammy nominee\, Nicholas Payton is a multi-instrumentalist\, vocalist\, composer\, producer\, arranger\, essayist\, and social activist who defies musical and artistic categories.\n\nAll the while\, he honors the tradition of what he terms “postmodern New Orleans music\,” as well as the spirit of Black American Music\, of which he states\, “There are no fields\, per se. There are lineages.”
URL:https://notoriousjazz.com/event/nicholas-payton-new-world-order
LOCATION:Black Cat\, 400 Eddy Street\, San Francisco\, CA\, 94109\, United States
CATEGORIES:Club
ATTACH;FMTTYPE=image/jpeg:https://notoriousjazz.com/wp-content/uploads/2023/10/NICHOLAS-PAYTON.jpeg
END:VEVENT
BEGIN:VEVENT
DTSTART;TZID=America/New_York:20231022T080000
DTEND;TZID=America/New_York:20231022T170000
DTSTAMP:20260420T164725
CREATED:20231022T234331Z
LAST-MODIFIED:20231022T234519Z
UID:37570-1697961600-1697994000@notoriousjazz.com
SUMMARY:BENNY BENACK III
DESCRIPTION:The Band: Benny Benack III – trumpet & vocals | TBA – piano | Russell Hall – bass | Joe Peri – drums \nBy age 32\, Emmy-nominated trumpeter and singer Benny Benack III has proven to be that rarest of talents: not only a fiery trumpet player with a stirring command of the postbop trumpet vernacular in the vein of Kenny Dorham and Freddie Hubbard\, but also a singer with a sly\, mature\, naturally expressive delivery in the post-Sinatra mold\, performing standards and his own astute songs with a thrilling sense of showmanship. This duel-threat ability was recognized by the 2022 Downbeat Critics Poll where he appeared as not only the #2 Rising Star Male Vocalist\, but a top Rising Star Trumpeter as well. His superb intonation and bracing virtuosity enable him to handle astounding feats of originally composed vocalese (complex solos with written lyrics). On top of it all\, he’s a highly capable pianist as well. \nBenny has performed internationally as an Emcee/Host for the Youtube sensation Postmodern Jukebox\, and achieved his own viral success amassing millions of views for his crooning alongside the Grammy-award winning “8-Bit Big Band”. In early 2020 he released A Lot of Livin’ to Do\, the follow-up to his well-received 2017 debut One of a Kind. This sophomore effort\, richly varied in mood and brimming with bop inflection\, features bassist extraordinaire and Jazz ambassador Christian McBride (whose Grammy-award winning Big Band frequently calls upon Benny in the trumpet section) and drummer/producer Ulysses Owens\, Jr.\, as well as the radiant Takeshi Ohbayashi on piano and Rhodes. His vocalese duet on “Social Call” from this album alongside fellow young star vocalist Veronica Swift became an instant smash hit single\, being transcribed and learned by Jazz vocalists around the world. \nAlongside his global touring as a straight-ahead/contemporary bandleader\, Benny has appeared as a trumpet soloist in more commercial circles alongside Josh Groban\, Ben Folds\, fashion icon Isaac Mizrahi\, Ann Hampton Callaway and more. He’s been featured at Birdland\, Jazz @ Lincoln Center\, Mezzrow\, Bemelmans Bar at the Carlyle and other leading New York venues\, and has also been a special guest with the Pittsburgh Symphony Pops Orchestra\, the Columbus Jazz Orchestra and the Minsk Philharmonic Orchestra. He made his television debut in NBC’s short-lived\, SNL-inspired variety show “Maya & Marty” playing in the in-studio band led by acclaimed bassist & Broadway arranger Charlie Rosen. More recent TV credits include “The Late Show with Stephen Colbert” where he frequently performs in the House Band. His global recognition has been bolstered by recent live-streaming concerts at Smalls Jazz Club\, where he maintains a weekly residency\, as well as frequent appearances on fellow young lion Emmet Cohen’s “Emmet’s Place” weekly show.
URL:https://notoriousjazz.com/event/benny-benack-iii
LOCATION:NY
CATEGORIES:Club
ATTACH;FMTTYPE=image/jpeg:https://notoriousjazz.com/wp-content/uploads/2023/10/BENNY-BENACK.jpg
END:VEVENT
BEGIN:VEVENT
DTSTART;TZID=America/New_York:20231025T200000
DTEND;TZID=America/New_York:20231025T220000
DTSTAMP:20260420T164725
CREATED:20231008T171319Z
LAST-MODIFIED:20231008T171319Z
UID:37340-1698264000-1698271200@notoriousjazz.com
SUMMARY:KERMIT RUFFINS & THE BBQ SWINGERS
DESCRIPTION:Halloween Special \nAmerican jazz trumpeter\, singer\, composer\, and actor from New Orleans\, Louisiana. He has been influenced by Louis Armstrong and Louis Jordan and says that the highest note he can hit on trumpet is a high C. He often accompanies his songs with his own vocals. Most of his bands perform New Orleans jazz standards though he also composes many of his own pieces. \n 
URL:https://notoriousjazz.com/event/kermit-ruffins-the-bbq-swingers
LOCATION:Chickie Wah Wah\, 2828 Canal Street\, New Orleans\, LA\, 70119\, United States
CATEGORIES:Club
ATTACH;FMTTYPE=image/png:https://notoriousjazz.com/wp-content/uploads/2023/10/KERMIT-RUFFINS.png
END:VEVENT
END:VCALENDAR