BEGIN:VCALENDAR
VERSION:2.0
PRODID:-//Notorious Jazz - ECPv6.15.17//NONSGML v1.0//EN
CALSCALE:GREGORIAN
METHOD:PUBLISH
X-WR-CALNAME:Notorious Jazz
X-ORIGINAL-URL:https://notoriousjazz.com
X-WR-CALDESC:Events for Notorious Jazz
REFRESH-INTERVAL;VALUE=DURATION:PT1H
X-Robots-Tag:noindex
X-PUBLISHED-TTL:PT1H
BEGIN:VTIMEZONE
TZID:America/New_York
BEGIN:DAYLIGHT
TZOFFSETFROM:-0500
TZOFFSETTO:-0400
TZNAME:EDT
DTSTART:20220313T070000
END:DAYLIGHT
BEGIN:STANDARD
TZOFFSETFROM:-0400
TZOFFSETTO:-0500
TZNAME:EST
DTSTART:20221106T060000
END:STANDARD
BEGIN:DAYLIGHT
TZOFFSETFROM:-0500
TZOFFSETTO:-0400
TZNAME:EDT
DTSTART:20230312T070000
END:DAYLIGHT
BEGIN:STANDARD
TZOFFSETFROM:-0400
TZOFFSETTO:-0500
TZNAME:EST
DTSTART:20231105T060000
END:STANDARD
BEGIN:DAYLIGHT
TZOFFSETFROM:-0500
TZOFFSETTO:-0400
TZNAME:EDT
DTSTART:20240310T070000
END:DAYLIGHT
BEGIN:STANDARD
TZOFFSETFROM:-0400
TZOFFSETTO:-0500
TZNAME:EST
DTSTART:20241103T060000
END:STANDARD
END:VTIMEZONE
BEGIN:VEVENT
DTSTART;TZID=America/New_York:20231206T193000
DTEND;TZID=America/New_York:20231206T210000
DTSTAMP:20260420T130643
CREATED:20231203T121409Z
LAST-MODIFIED:20231203T121409Z
UID:38102-1701891000-1701896400@notoriousjazz.com
SUMMARY:DEE DEE BRIDGEWATER WITH SEAN JONES
DESCRIPTION:NEA Jazz Master Dee Dee Bridgewater with bandleader and trumpeter Sean Jones and the NYO Jazz All-Star Big Band. The program consists of: \n\nFeldman | Fitzgerald ~ “A-Tisket\, A-Tasket” (arr. Slide Hampton) \n\n\nSantamaría ~ “Afro Blue” (arr. John Clayton) \n\n\nEllington ~ “Cotton Tail” (arr. Slide Hampton) \n\n\nNewley | Bricusse ~ “Feeling Good / I Got You (I Feel Good)” (arr. Emily L. Fredrickson) \n\n\nJohn Beasley ~ “Fête dans la tête” (World Premiere\, commissioned by Carnegie Hall) \n\n\nHoliday | Herzog Jr. ~ “God Bless the Child” (arr. Edsel Gomez and Cecil Bridgewater) \n\n\nHigginbotham | Drake | Fisher ~ “Good Morning Heartache” (arr. Edsel Gomez and Cecil Bridgewater) \n\n\nJohn Clayton ~ “I Be Serious ‘Bout Dem Blues” \n\n\nNichols | Holiday ~ “Lady Sings the Blues” (arr. Edsel Gomez and Cecil Bridgewater) \n\n\nBley ~ “Lawns” (arr. Javier Nero) \n\n\nLee | Goodman ~ “Let the Good Times Roll” (arr. Frank Foster) \n\n\nSean Jones ~ “Touch and Go” (arr. Dave Morgan)
URL:https://notoriousjazz.com/event/dee-dee-bridgewater-with-sean-jones
LOCATION:Stern Auditorium @ Carnegie Hall\, 881 7th Ave\,\, New York City\, NY\, 10019\, United States
CATEGORIES:Concert
ATTACH;FMTTYPE=image/jpeg:https://notoriousjazz.com/wp-content/uploads/2023/12/DEE-DEE-BRIDGEWATER-SEAN-JONES.jpg
END:VEVENT
BEGIN:VEVENT
DTSTART;TZID=America/New_York:20231209T080000
DTEND;TZID=America/New_York:20231209T170000
DTSTAMP:20260420T130643
CREATED:20231210T034624Z
LAST-MODIFIED:20231210T034624Z
UID:38215-1702108800-1702141200@notoriousjazz.com
SUMMARY:BLUE TRAIN
DESCRIPTION:Countdown Festival Sextet II “Blue Train” with special guests Eddie Henderson & Steve Davis  featuring Eric Reed and Vincent Herring\n\nEddie Henderson – trumpet | Vincent Herring – alto & tenor saxophone | Steve Davis – trombone | Eric Reed – piano Dezron Douglas – bass | Joe Farnsworth – drums \nCountdown 2024 at Smoke continues with an all-star sextet with two special guests: Trumpeter Eddie Henderson and trombonist Steve Davis. This outstanding group is co-led by pianist Eric Reed and alto saxophonist Vincent Herring with the unbeatable rhythm team of bassist Dezron Douglas and drummer Joe Farnsworth. Downbeat writes\, “Henderson’s muscular chops and round sound are astonishing for an 83-year-old and lovely to behold.”Steve Davis\, who spent some of his formative years honing his craft and earning his reputation with a trio of giants: Art Blakey\, Jackie McLean\, and Chick Corea\, “has established himself as one of the most accomplished and lyrical improvisers on his instrument\, as well as a prolific composer\,” reports JazzTimes. \nPlease Note: All 7PM and 9PM shows at Smoke are Dinner Shows
URL:https://notoriousjazz.com/event/blue-train
LOCATION:NY
CATEGORIES:Club
ATTACH;FMTTYPE=image/jpeg:https://notoriousjazz.com/wp-content/uploads/2023/12/BLUE-TRAIN-1.jpeg
END:VEVENT
BEGIN:VEVENT
DTSTART;TZID=America/New_York:20231213T190000
DTEND;TZID=America/New_York:20231217T235900
DTSTAMP:20260420T130643
CREATED:20231210T020330Z
LAST-MODIFIED:20231214T184715Z
UID:38206-1702494000-1702857540@notoriousjazz.com
SUMMARY:MARQUIS HILL
DESCRIPTION:Trumpeter Marquis Hill\, one of the leading trumpeters of our time\, leads an adventurous group featuring vibraphonist Joel Ross\, pianist Michael King\, bassist Junius Paul\, and drummer Kendrick Scott. His promise was recognized by winning two highly prestigious competitions: the International Trumpet Guild Jazz Competition (2012) and the Thelonious Monk International Jazz Trumpet Competition (2014)\, which helped launch a career that continues to impress. Originally from the South Side of Chicago\, Hill credits many of that city’s great artists for helping foster his development. Players like Von Freeman\, Bobby Broom\, and Willie Pickens\, just to name a few.\n~ Please Note: All 7PM and 9PM shows at Smoke are Dinner Shows\n~ Friday & Saturday Only: 10:30pm Shows
URL:https://notoriousjazz.com/event/marquis-hill
LOCATION:Smoke Jazz & Supper Club\, 2751 Broadway\, New York City\, NY\, 10025\, United States
CATEGORIES:Club
ATTACH;FMTTYPE=image/jpeg:https://notoriousjazz.com/wp-content/uploads/2023/12/MARQUIS-HILL.jpeg
END:VEVENT
END:VCALENDAR