BEGIN:VCALENDAR
VERSION:2.0
PRODID:-//Notorious Jazz - ECPv6.15.17//NONSGML v1.0//EN
CALSCALE:GREGORIAN
METHOD:PUBLISH
X-ORIGINAL-URL:https://notoriousjazz.com
X-WR-CALDESC:Events for Notorious Jazz
REFRESH-INTERVAL;VALUE=DURATION:PT1H
X-Robots-Tag:noindex
X-PUBLISHED-TTL:PT1H
BEGIN:VTIMEZONE
TZID:America/New_York
BEGIN:DAYLIGHT
TZOFFSETFROM:-0500
TZOFFSETTO:-0400
TZNAME:EDT
DTSTART:20230312T070000
END:DAYLIGHT
BEGIN:STANDARD
TZOFFSETFROM:-0400
TZOFFSETTO:-0500
TZNAME:EST
DTSTART:20231105T060000
END:STANDARD
BEGIN:DAYLIGHT
TZOFFSETFROM:-0500
TZOFFSETTO:-0400
TZNAME:EDT
DTSTART:20240310T070000
END:DAYLIGHT
BEGIN:STANDARD
TZOFFSETFROM:-0400
TZOFFSETTO:-0500
TZNAME:EST
DTSTART:20241103T060000
END:STANDARD
BEGIN:DAYLIGHT
TZOFFSETFROM:-0500
TZOFFSETTO:-0400
TZNAME:EDT
DTSTART:20250309T070000
END:DAYLIGHT
BEGIN:STANDARD
TZOFFSETFROM:-0400
TZOFFSETTO:-0500
TZNAME:EST
DTSTART:20251102T060000
END:STANDARD
END:VTIMEZONE
BEGIN:VEVENT
DTSTART;TZID=America/New_York:20240204T180000
DTEND;TZID=America/New_York:20240204T193000
DTSTAMP:20260420T093453
CREATED:20231203T122949Z
LAST-MODIFIED:20231203T124934Z
UID:38107-1707069600-1707075000@notoriousjazz.com
SUMMARY:SEAN JONES
DESCRIPTION:Renowned trumpeter\, composer\, bandleader\, and educator Sean Jones leads his NYO Jazz All-Star Quartet in Zankel Hall Center Stage\, an intimate setting that invites audiences to sit on all sides of the performers. This communal\, “in the round” configuration brings listeners closer than ever to the music—an ideal way to enjoy live jazz performed by a group of master improvisers and ensemble players. As part of the experience\, artists and audiences alike will be encouraged to explore concepts of self-care and mindfulness through music. \n\n\n\n\n\nSarah Elizabeth Charles\, Host
URL:https://notoriousjazz.com/event/sean-jones
LOCATION:Zankel Hall @ Carnegie Hall\, 881 7th Ave\,\, New York City\, NY\, 10019\, United States
CATEGORIES:Concert
ATTACH;FMTTYPE=image/jpeg:https://notoriousjazz.com/wp-content/uploads/2023/12/SEAN-JONES.jpg
END:VEVENT
BEGIN:VEVENT
DTSTART;TZID=America/New_York:20240216T200000
DTEND;TZID=America/New_York:20240216T220000
DTSTAMP:20260420T093453
CREATED:20240128T090429Z
LAST-MODIFIED:20240128T090455Z
UID:39071-1708113600-1708120800@notoriousjazz.com
SUMMARY:CHRIS BOTTI
DESCRIPTION:Grammy-winning trumpeter Chris Botti has been one of the most popular instrumentalists in the world for nearly three decades. He’s collaborated with some of the biggest superstars on the planet\, including Sting\, Paul Simon\, Barbra Streisand\, Lady Gaga\, Tony Bennett\, Frank Sinatra\, Aretha Franklin\, Bette Midler\, Joni Mitchell\, Steven Tyler\, Andrea Bocelli\, Herbie Hancock and Yo-Yo Ma. He’s topped the jazz charts with numerous albums\, earned multiple gold and platinum records\, performed with symphony orchestras and on prestigious stages from Carnegie Hall to the Hollywood Bowl and the Sydney Opera House. \nThere’s nothing like a Chris Botti concert. He’s the complete package: a dazzling trumpeter at home in everything from jazz to pop and rock\, a brilliant bandleader who lets his players shine and a born showman whose joy at being onstage is infectious.
URL:https://notoriousjazz.com/event/chris-botti-2
LOCATION:Adrienne Arsht Center | Knight Concert Hall\, 1300 Biscayne Boulevard\, Miami\, FL\, 33132\, United States
CATEGORIES:Concert
ATTACH;FMTTYPE=image/jpeg:https://notoriousjazz.com/wp-content/uploads/2024/01/CHRIS-BOTTI.jpg
END:VEVENT
BEGIN:VEVENT
DTSTART;TZID=America/New_York:20240221T193000
DTEND;TZID=America/New_York:20240221T210000
DTSTAMP:20260420T093453
CREATED:20240203T214518Z
LAST-MODIFIED:20240203T214712Z
UID:39209-1708543800-1708549200@notoriousjazz.com
SUMMARY:WOODY WITT & JIM ROTONDI
DESCRIPTION:Renowned trumpeter Jim Rotondi has been a jazz powerhouse for over 30 years\, leaving an indelible mark in New York and across the globe. Brace yourself for an electrifying performance as he joins forces with an all-star ensemble curated by Houston saxophonist Woody Witt. Get ready to groove to the sounds of Ross Margitza on piano\, David Craig on bass\, and Gerry Gibbs on drums.
URL:https://notoriousjazz.com/event/woody-witt-jim-rotondi
LOCATION:Parker Jazz Club\, 117 W 4th St #107b\, Austin\, TX\, 78701\, United States
CATEGORIES:Club
ATTACH;FMTTYPE=image/jpeg:https://notoriousjazz.com/wp-content/uploads/2024/02/WOODY-WITT-JIM-ROTONDI-1.jpeg
END:VEVENT
BEGIN:VEVENT
DTSTART;TZID=America/New_York:20240227T190000
DTEND;TZID=America/New_York:20240227T210000
DTSTAMP:20260420T093453
CREATED:20240203T215940Z
LAST-MODIFIED:20240203T215940Z
UID:39214-1709060400-1709067600@notoriousjazz.com
SUMMARY:CHAMPIAN FULTON & CORY WEEDS
DESCRIPTION:Champian Fulton is considered one of the most gifted pure jazz musicians of her generation. This young woman from Oklahoma captivates audiences in New York’s finest jazz rooms and in concert halls around the world\, where her piano and voice skills have been recognized by peers and critics as distinctive and sophisticated. \nA saxophonist with an expressive sound rooted in jazz tradition with over 20 records to his name\, a label owner tirelessly documenting unsung jazz heroes\, one of North America’s most important jazz impresarios\, the hardest-working man in jazz business – Cory Weeds is all of these things\, and much more. \nWeeds and Fulton have been playing together for over 10 years and have recorded 3 times previously. Their latest recording Every Now and Then features just the two of them and was recorded at the beginning of a tour in 2023. They have a wonderful rapport on and off stage and a Weeds/Fulton duo concert is always a ton of fun.
URL:https://notoriousjazz.com/event/champian-fulton-cory-weeds
LOCATION:Parker Jazz Club\, 117 W 4th St #107b\, Austin\, TX\, 78701\, United States
CATEGORIES:Club
ATTACH;FMTTYPE=image/jpeg:https://notoriousjazz.com/wp-content/uploads/2024/02/CHAMPIAN-FULTON-CORY-WEEDS.jpeg
END:VEVENT
BEGIN:VEVENT
DTSTART;TZID=America/New_York:20240229T193000
DTEND;TZID=America/New_York:20240229T210000
DTSTAMP:20260420T093453
CREATED:20240203T220707Z
LAST-MODIFIED:20240203T220719Z
UID:39217-1709235000-1709240400@notoriousjazz.com
SUMMARY:THE COPA KINGS
DESCRIPTION:A night of swingin’ Rat Pack music reminiscent of Las Vegas in its prime! The Copa Kings were formed out of a desire to breathe new life into some of the great jazz standards of the 1930s\, ’40s\, and ’50s. With great reverence\, the band brings a unique passion\, artistry\, and flair to the jazz music of this period. Led by frontman Billy Murphy\, the Austin-based Copa Kings pay homage to some of our country’s greatest jazz songwriters and performers\, including Frank\, Billie\, Ella\, Louis (Armstrong and Jordan)\, Dean\, and Ray.
URL:https://notoriousjazz.com/event/the-copa-kings
LOCATION:Parker Jazz Club\, 117 W 4th St #107b\, Austin\, TX\, 78701\, United States
CATEGORIES:Club
ATTACH;FMTTYPE=image/jpeg:https://notoriousjazz.com/wp-content/uploads/2024/02/THE-COPA-KINGS.jpeg
END:VEVENT
END:VCALENDAR