BEGIN:VCALENDAR
VERSION:2.0
PRODID:-//Notorious Jazz - ECPv6.15.17//NONSGML v1.0//EN
CALSCALE:GREGORIAN
METHOD:PUBLISH
X-WR-CALNAME:Notorious Jazz
X-ORIGINAL-URL:https://notoriousjazz.com
X-WR-CALDESC:Events for Notorious Jazz
REFRESH-INTERVAL;VALUE=DURATION:PT1H
X-Robots-Tag:noindex
X-PUBLISHED-TTL:PT1H
BEGIN:VTIMEZONE
TZID:America/New_York
BEGIN:DAYLIGHT
TZOFFSETFROM:-0500
TZOFFSETTO:-0400
TZNAME:EDT
DTSTART:20230312T070000
END:DAYLIGHT
BEGIN:STANDARD
TZOFFSETFROM:-0400
TZOFFSETTO:-0500
TZNAME:EST
DTSTART:20231105T060000
END:STANDARD
BEGIN:DAYLIGHT
TZOFFSETFROM:-0500
TZOFFSETTO:-0400
TZNAME:EDT
DTSTART:20240310T070000
END:DAYLIGHT
BEGIN:STANDARD
TZOFFSETFROM:-0400
TZOFFSETTO:-0500
TZNAME:EST
DTSTART:20241103T060000
END:STANDARD
BEGIN:DAYLIGHT
TZOFFSETFROM:-0500
TZOFFSETTO:-0400
TZNAME:EDT
DTSTART:20250309T070000
END:DAYLIGHT
BEGIN:STANDARD
TZOFFSETFROM:-0400
TZOFFSETTO:-0500
TZNAME:EST
DTSTART:20251102T060000
END:STANDARD
END:VTIMEZONE
BEGIN:VTIMEZONE
TZID:Europe/Warsaw
BEGIN:DAYLIGHT
TZOFFSETFROM:+0100
TZOFFSETTO:+0200
TZNAME:CEST
DTSTART:20230326T010000
END:DAYLIGHT
BEGIN:STANDARD
TZOFFSETFROM:+0200
TZOFFSETTO:+0100
TZNAME:CET
DTSTART:20231029T010000
END:STANDARD
BEGIN:DAYLIGHT
TZOFFSETFROM:+0100
TZOFFSETTO:+0200
TZNAME:CEST
DTSTART:20240331T010000
END:DAYLIGHT
BEGIN:STANDARD
TZOFFSETFROM:+0200
TZOFFSETTO:+0100
TZNAME:CET
DTSTART:20241027T010000
END:STANDARD
BEGIN:DAYLIGHT
TZOFFSETFROM:+0100
TZOFFSETTO:+0200
TZNAME:CEST
DTSTART:20250330T010000
END:DAYLIGHT
BEGIN:STANDARD
TZOFFSETFROM:+0200
TZOFFSETTO:+0100
TZNAME:CET
DTSTART:20251026T010000
END:STANDARD
END:VTIMEZONE
BEGIN:VEVENT
DTSTART;TZID=America/New_York:20240303T183000
DTEND;TZID=America/New_York:20240303T220000
DTSTAMP:20260420T074843
CREATED:20240218T013127Z
LAST-MODIFIED:20240218T013127Z
UID:39368-1709490600-1709503200@notoriousjazz.com
SUMMARY:JOE GRANSDEN
DESCRIPTION:Anthony Dominick Benedetto ~ August 3\, 1926 – July 21\, 2023\, known professionally as Tony Bennett\, was an American jazz and traditional pop singer. He received many accolades\, including 20 Grammy Awards\, a Lifetime Achievement Award\, and two Primetime Emmy Awards. Bennett was named an NEA Jazz Master and a Kennedy Center Honoree and founded the Frank Sinatra School of the Arts in Astoria\, Queens\, New York. He sold more than 50 million records worldwide and earned a star on the Hollywood Walk of Fame. \nWho better to pay tribute to this legendary performer than Atlanta’s consummate jazzman\, Joe Gransden!  At 42 years old\, Joe has already performed worldwide and released 14 CDs under his own name. Renowned first for the hard bop approach of his trumpet\, Gransden’s singing voice has been compared to that of Chet Baker and Frank Sinatra.
URL:https://notoriousjazz.com/event/joe-gransden-3
LOCATION:The Velvet Note\, 4075 Old Milton Parkway\, Alpharetta\, GA\, 30005\, United States
CATEGORIES:Club
ATTACH;FMTTYPE=image/jpeg:https://notoriousjazz.com/wp-content/uploads/2024/02/JOE-GRANSDEN.jpg
END:VEVENT
BEGIN:VEVENT
DTSTART;TZID=America/New_York:20240310T190000
DTEND;TZID=America/New_York:20240310T203000
DTSTAMP:20260420T074843
CREATED:20240218T013752Z
LAST-MODIFIED:20240218T013752Z
UID:39371-1710097200-1710102600@notoriousjazz.com
SUMMARY:MICHAEL CRUSE
DESCRIPTION:Michael Cruse is a trumpeter and singer\, nd the Middle School Jazz Academy Band Director for Jazz at Lincoln Center. Michael has performed and studied with jazz greats such as Roy Hargrove\, Les McCann\, JD Allen\, Terence Blanchard\, Javon Jackson\, Lew Soloff\, Wynton Marsalis\, Delfeayo Marsalis\, Jason Marsalis\, John Fedchock\, Fareed Haque\, Vince DiMartino\, Gail Wynters\, Byron Stripling\, Jeff Hamilton\, John Von Ohlen\, and Kevin Harris. \nMichael has also performed in several groups for Bootsy Collins\, KeKe Wyatt\, Keisha Cole\, Mike Phillips\, Chantae Cann\, Damian Sneed\, Marc Broussard\, and Clyde Brown (Drifters). Michael was also a part of the filming of “Miles Ahead” and portrayed NYC-based trumpeter and recording artist\, Ernie Royal\, starring Don Cheadle as Miles Davis (r. April 2016)\, as well as filming for HBO’s Lovecraft Country\, released 2020.
URL:https://notoriousjazz.com/event/michael-cruse
LOCATION:The Velvet Note\, 4075 Old Milton Parkway\, Alpharetta\, GA\, 30005\, United States
CATEGORIES:Club
ATTACH;FMTTYPE=image/jpeg:https://notoriousjazz.com/wp-content/uploads/2024/02/MICHAEL-CRUSE.jpg
END:VEVENT
BEGIN:VEVENT
DTSTART;TZID=Europe/Warsaw:20240312T203000
DTEND;TZID=Europe/Warsaw:20240312T220000
DTSTAMP:20260420T074843
CREATED:20240128T070104Z
LAST-MODIFIED:20240128T070748Z
UID:39021-1710275400-1710280800@notoriousjazz.com
SUMMARY:KEYON HARROLD
DESCRIPTION:Keyon Harrold\, a world-class jazzman\, returns to Warsaw at Jassmine and will feature his new album Foreverland. It is full of emotion and drama\, a triumphant journey that takes the listener through good\, bad\, ugly and beautiful experiences\, leading to wisdom. Harrold says: What I can offer as a musician playing an instrument is an honest communication of emotion. \nWe had the opportunity to hear Harrold’s trumpet on two Grammy Award-winning albums – the soundtrack to the film “Miles Ahead” and “Take Me to the Alley” by Gregory Porter. In the Jazz Times readers’ vote for the best newcomer of 2015\, Keyon took second place. Wynton Marsalis himself called him “the future of the trumpet”. The work of the star of the Jassmine concert is the result of jazz traditions\, the spirit of soul and R&B music\, and hip-hop energy and authenticity. Keyon Harrold doesn’t care about genre labels. \nTickets In Dollars: $51.61
URL:https://notoriousjazz.com/event/keyon-harrold-2
LOCATION:Jassmine\, Wilcza 73\, 00-670 Warsaw\, Poland
CATEGORIES:Club
ATTACH;FMTTYPE=image/jpeg:https://notoriousjazz.com/wp-content/uploads/2024/01/KEYON-HARROLD.jpg
END:VEVENT
BEGIN:VEVENT
DTSTART;TZID=Europe/Warsaw:20240316T203000
DTEND;TZID=Europe/Warsaw:20240316T220000
DTSTAMP:20260420T074843
CREATED:20240128T073623Z
LAST-MODIFIED:20240128T073623Z
UID:39037-1710621000-1710626400@notoriousjazz.com
SUMMARY:JEREMY PELT QUINTET
DESCRIPTION:Born in the United States\, Jeremy Pelt is one of the most outstanding trumpeters in the jazz world. A multiple winner of the prestigious Down Beat magazine’s plebiscite\, he began his rapidly developing career in 1998\, when\, after graduating from Berklee College of Music\, he moved to New York and joined the Mingus Big Band.  \nPelt built many others on this relationship\, very quickly gaining great recognition in the local jazz community\, starting cooperation with the greatest masters of this genre (including performances and recordings by Cliff Barbaro\, Keter Betts\, Bobby “Blue” Bland\, Ravi Coltrane\, Frank Foster\, Winard Harper\, Jimmy Heath\, Vincent Herring\, John Hicks\, Charli Persip\, Ralph Peterson\, Lonnie Plaxico\, Bobby Short\, Cedar Walton\, Frank Wess\, Nancy Wilson and The Skatalites). He often performs alongside renowned bands such as The Village Vanguard Orchestra and Duke Ellington Big Band\, and is also a member of the Lewis Nash Septet and The Cannonball Adderley Legacy with guest artist Louis Hayes. As a leader\, Pelt has recorded ten albums\, toured around the world with his own various bands\, and appeared at many festivals and jazz stages.  \nPelt’s recordings and performances have earned him critical acclaim\, both at home and abroad. Nat Hentoff\, legendary jazz columnist and producer\, singled out Jeremy Pelt in the Wall Street Journal. For five years in a row\, Downbeat Magazine and the Jazz Journalist Association have named Pelt a rising trumpet star. In 2023\, the Jazz Journalist Association named Pelt the best trumpeter in the United States – Trumpeter of the Year. \nIn 2021\, Jeremy Pelt made his debut as a writer\, publishing the first in the planned series “Griot: Examining the Lives of Jazz’s Great Storytellers” vol.I\, in 2022 vol.II\, and in spring 2023 vol.III. The books contain conversations\, most of which concern issues of racial and cultural identity and attitude to life. \nPelt is currently touring promoting his latest album\, Jeremy Pelt – Soundtrack. \nLine-up:\nJeremy Pelt – trumpet\nAlex Wintz – guitar\nJalen Baker – vibraphone\nLeighton Harrell – bass\nJared Spears – drums  \nTickets In Dollars:  $38.65
URL:https://notoriousjazz.com/event/jeremy-pelt-quintet-2
LOCATION:Jassmine\, Wilcza 73\, 00-670 Warsaw\, Poland
CATEGORIES:Club
ATTACH;FMTTYPE=image/png:https://notoriousjazz.com/wp-content/uploads/2024/01/JEREMY-PELT.png
END:VEVENT
BEGIN:VEVENT
DTSTART;TZID=America/New_York:20240321T190000
DTEND;TZID=America/New_York:20240324T223000
DTSTAMP:20260420T074843
CREATED:20240303T165959Z
LAST-MODIFIED:20240303T165959Z
UID:39602-1711047600-1711319400@notoriousjazz.com
SUMMARY:THE DIVA JAZZ ORCHESTRA
DESCRIPTION:A multigenerational outfit led by drummer\, composer\, and clinician Sherrie Maricle\, DIVA Jazz Orchestra has garnered accolades from across the world. The 15-piece ensemble “exudes the excitement and force found in the tradition of historic big bands\, with an eye towards originality.” Their program of stylistically diverse standards and original tunes spotlights a swinging band sound as well as each soloist’s distinct and vibrant personality. Don’t miss this energetic three-night event!  \nSherrie Maricle\, drums\nJami Dauber\, trumpet
URL:https://notoriousjazz.com/event/the-diva-jazz-orchestra
LOCATION:Dizzy’s Club\, 10 Columbus Circle\, New York City\, NY\, 10019\, United States
CATEGORIES:Club
ATTACH;FMTTYPE=image/jpeg:https://notoriousjazz.com/wp-content/uploads/2024/03/DIVA-JAZZ-ORCHESTRA.jpg
END:VEVENT
BEGIN:VEVENT
DTSTART;TZID=America/New_York:20240322T190000
DTEND;TZID=America/New_York:20240323T223000
DTSTAMP:20260420T074843
CREATED:20240218T161703Z
LAST-MODIFIED:20240218T161703Z
UID:39396-1711134000-1711233000@notoriousjazz.com
SUMMARY:SOUNDS OF A&R | S.O.A.R
DESCRIPTION:Fronted by vocalist April May Webb and trumpeter Randall Haywood\, Sounds of A&R effortlessly weave elements of swing\, cool\, hard bop\, and avant-garde. Paying tribute to the jazz greats while\, at once\, boldly embracing the future with fresh\, innovative arrangements and compositions. Their repertoire often surprises the listener by featuring familiar pieces in unexpected ways\, spanning various genres. S.O.A.R. captivates the audience\, leaving them on the edge of their seats. The fusion of tradition and innovation defines their sound.
URL:https://notoriousjazz.com/event/sounds-of-ar-s-o-a-r
LOCATION:South\, 600 N. Broad Street\, Philadelphia\, PA\, 19130\, United States
CATEGORIES:Club
ATTACH;FMTTYPE=image/png:https://notoriousjazz.com/wp-content/uploads/2024/02/SOAR.png
END:VEVENT
BEGIN:VEVENT
DTSTART;TZID=America/New_York:20240324T170000
DTEND;TZID=America/New_York:20240324T210000
DTSTAMP:20260420T074843
CREATED:20240218T021236Z
LAST-MODIFIED:20240218T021248Z
UID:39377-1711299600-1711314000@notoriousjazz.com
SUMMARY:SFJAZZ COLLECTIVE
DESCRIPTION:Founded by SFJAZZ in 2004\, the SFJAZZ Collective is an all-star ensemble and composer’s workshop that represents what’s happening now in jazz\, celebrating its 20th Anniversary in 2024. \nSince the beginning\, the Collective’s mission has been to perform newly commissioned pieces by each member and fresh arrangements of works by modern masters. Through this pioneering approach\, simultaneously honoring music’s greatest figures while championing jazz’s up-to-the-minute directions\, the SFJAZZ Collective embodies SFJAZZ’s commitment to jazz as a living\, ever-relevant art form. \nTo celebrate two decades as a working ensemble\, the supergroup will perform a landmark Anniversary program that both honors the history of the group and looks ahead to its future. In tribute to the artists who have been honored by the Collective over its 20-year history\, as well as the world-class composers who have been a part of the ensemble\, the band will revisit past original compositions and arrangements from its innovative repertoire\, updated and re-imagined by this singular lineup of jazz masters. Additionally\, the band will emphasize the spirit of its name by collectively composing a new suite dedicated to and inspired by the history of the ensemble. \nChris Potter ~ music director & saxophone\nDavid Sánchez ~ saxophone\nMike Rodriguez ~ trumpet\nWarren Wolf ~ vibraphone\nEdward Simon ~ piano\nMatt Brewer ~ bass\nKendrick Scott ~ drum \nStreaming: $15.00 + fees \nSaturday Showtimes: \nSunday Showtimes:
URL:https://notoriousjazz.com/event/sfjazz-collective
LOCATION:Keystone Korner Baltimore\, 1350 Lancaster Street\, Baltimore\, MD\, 21231\, United States
CATEGORIES:Club
ATTACH;FMTTYPE=image/png:https://notoriousjazz.com/wp-content/uploads/2024/02/SFJAZZ-COLLECTIVE.png
END:VEVENT
END:VCALENDAR