BEGIN:VCALENDAR
VERSION:2.0
PRODID:-//Notorious Jazz - ECPv6.15.17//NONSGML v1.0//EN
CALSCALE:GREGORIAN
METHOD:PUBLISH
X-WR-CALNAME:Notorious Jazz
X-ORIGINAL-URL:https://notoriousjazz.com
X-WR-CALDESC:Events for Notorious Jazz
REFRESH-INTERVAL;VALUE=DURATION:PT1H
X-Robots-Tag:noindex
X-PUBLISHED-TTL:PT1H
BEGIN:VTIMEZONE
TZID:America/New_York
BEGIN:DAYLIGHT
TZOFFSETFROM:-0500
TZOFFSETTO:-0400
TZNAME:EDT
DTSTART:20230312T070000
END:DAYLIGHT
BEGIN:STANDARD
TZOFFSETFROM:-0400
TZOFFSETTO:-0500
TZNAME:EST
DTSTART:20231105T060000
END:STANDARD
BEGIN:DAYLIGHT
TZOFFSETFROM:-0500
TZOFFSETTO:-0400
TZNAME:EDT
DTSTART:20240310T070000
END:DAYLIGHT
BEGIN:STANDARD
TZOFFSETFROM:-0400
TZOFFSETTO:-0500
TZNAME:EST
DTSTART:20241103T060000
END:STANDARD
BEGIN:DAYLIGHT
TZOFFSETFROM:-0500
TZOFFSETTO:-0400
TZNAME:EDT
DTSTART:20250309T070000
END:DAYLIGHT
BEGIN:STANDARD
TZOFFSETFROM:-0400
TZOFFSETTO:-0500
TZNAME:EST
DTSTART:20251102T060000
END:STANDARD
END:VTIMEZONE
BEGIN:VEVENT
DTSTART;TZID=America/New_York:20240503T200000
DTEND;TZID=America/New_York:20240503T230000
DTSTAMP:20260420T022609
CREATED:20240428T191139Z
LAST-MODIFIED:20240428T191139Z
UID:40503-1714766400-1714777200@notoriousjazz.com
SUMMARY:LEESA RICHARDS QUARTET & JEAN CAZE QUARTET
DESCRIPTION:As a part of Miami’s vibrant music scene\, singer/songwriter Leesa Richards grew up in music-rich Detroit and started showing an inclination towards the arts at a very early age. “My parents listened to a lot of jazz and I would record myself over and over singing along to Nancy Wilson records\,” she says. But when she saw Alvin Ailey American Dance Theater\, she knew she wanted to be a dancer. She graduated from University of North Carolina School of the Arts with a degree in dance and began her career on stage performing with a variety of dance companies. \nShe began honing her vocal chops with soul greats Gerald Austin and Peabo Bryson and contemporary soul maverick Dionne Farris. Her first world tour was as a dancer with legendary singer Whitney Houston after which she combined her love for music and dance to earn the role of Mary Magdalene in the national tour of the Broadway musical\, Jesus Christ Superstar\, earning critical acclaim which led to featured performances throughout the US and Europe. \nRenowned jazz trumpeter Jean Caze\, stands as a prominent figure in today’s jazz scene. His magnetic performances have graced stages alongside icons such as Herbie Hancock\, Aretha Franklin\, Mariah Carey\, Al Jarreau\, Roy Hargrove\, Arturo Sandoval\, and George Duke\, among others. Currently serving as the featured soloist for Michael Bublé worldwide\, Jean’s musical journey traces back to his roots in Queens\, NY\, where his passion ignited at the age of nine. By his senior year\, he showcased his talent on national television with “Chicago” on NBC. \nJean’s dedication to his craft earned him scholarships\, accolades\, and widespread recognition\, culminating in a Bachelor’s degree from Manhattan School of Music and a Master’s from Florida International University. Noteworthy achievements include securing second place in the 2007 Thelonius Monk International Jazz Trumpet Competition and claiming victory in both the 2004 National Trumpet Jazz Competition and the 2006 International Trumpet Guild Jazz Competition.
URL:https://notoriousjazz.com/event/leesa-richards-quartet-jean-caze-quartet
LOCATION:Koubek Center\, 2705 SW 3rd Street\, Miami\, FL\, 33135\, United States
CATEGORIES:Concert
ATTACH;FMTTYPE=image/png:https://notoriousjazz.com/wp-content/uploads/2024/04/RICHARDS-CAZE.png
END:VEVENT
BEGIN:VEVENT
DTSTART;TZID=America/New_York:20240508T190000
DTEND;TZID=America/New_York:20240512T235900
DTSTAMP:20260420T022609
CREATED:20240414T154740Z
LAST-MODIFIED:20240414T154740Z
UID:40251-1715194800-1715558340@notoriousjazz.com
SUMMARY:THE MUSIC OF BENNY GOLSON
DESCRIPTION:Eddie Henderson – trumpet | Ralph Moore – tenor saxophone | Steve Davis – trombone | Mike LeDonne – piano | Buster Williams – bass | Carl Allen – drums \n“Among jazz’s greatest living composers.” – The Washington Post The music of jazz legend Benny Golson is celebrated and performed by the New Jazztet featuring trumpeter Eddie Henderson\, trombonist Steve Davis\, pianist Mike LeDonne\, bassist Buster Williams\, and drummer Carl Allen with special guest Ralph Moore on tenor saxophone. This group recorded together under Golson’s leadership in 2008\, which resulted in the acclaimed album\, New Time\, New ’Tet. Golson is one of the most important contributors to jazz history as a player and the jazz canon as composer writing such enduring classics as “Killer Joe\,” “I Remember Clifford\,” “Along Came Betty\,” “Stablemates\,” “Whisper Not\,” “Blues March\,” “Five Spot After Dark\,” and “Are you Real?” among quite a few others. He also was a major influence on the tenor saxophone playing in the bands of Benny Goodman\, Dizzy Gillespie\, Lionel Hampton\, Earl Bostic\, and Art Blakey. The full impact of his career on American culture is hard to summarize but Downbeat called him “a defining voice of modern jazz.” \n***PLEASE NOTE: All 7PM and 9PM shows at Smoke are Dinner Shows | Fees Apply To All Tickets
URL:https://notoriousjazz.com/event/the-music-of-benny-golson
LOCATION:Smoke Jazz & Supper Club\, 2751 Broadway\, New York City\, NY\, 10025\, United States
CATEGORIES:Club
ATTACH;FMTTYPE=image/jpeg:https://notoriousjazz.com/wp-content/uploads/2024/04/THE-MUSIC-OF-BENNY-GOLSON.jpeg
END:VEVENT
BEGIN:VEVENT
DTSTART;TZID=America/New_York:20240510T190000
DTEND;TZID=America/New_York:20240511T230000
DTSTAMP:20260420T022609
CREATED:20240505T152151Z
LAST-MODIFIED:20240505T152643Z
UID:40575-1715367600-1715468400@notoriousjazz.com
SUMMARY:JEREMY PELT QUARTET
DESCRIPTION:The trumpeter  studied classical trumpet as a child and focused on jazz after playing in a high school jazz ensemble. He studied at Berklee College of Music. Among those he has performed with are Ravi Coltrane\, Roy Hargrove\, Greg Osby\, and Cassandra Wilson.
URL:https://notoriousjazz.com/event/jeremy-pelt
LOCATION:Jazz Forum Arts\, 1 Dixon Lane\, Tarrytown\, NY\, 10591\, United States
CATEGORIES:Club
ATTACH;FMTTYPE=image/jpeg:https://notoriousjazz.com/wp-content/uploads/2024/05/JEREMY-PELT.jpg
END:VEVENT
BEGIN:VEVENT
DTSTART;TZID=America/New_York:20240524T200000
DTEND;TZID=America/New_York:20240524T230000
DTSTAMP:20260420T022609
CREATED:20240324T183921Z
LAST-MODIFIED:20240324T183921Z
UID:39944-1716580800-1716591600@notoriousjazz.com
SUMMARY:WCLK AT 50 | LIL JOHN & HIS ALL-STAR BAND
DESCRIPTION:To celebrate WCLK 91.9’s 50th Anniversary the Atlanta Jazz Festival is presenting WCLK At 50: Featuring Lil John Roberts with an Atlanta All-Star Band. \nAward-winning drummer Lil John Roberts will lead an Atlanta All-Star Band including these outstanding musicians: Phil Davis\, Rodney Edge\, Tres Gilbert\, Derek Scott\, Miguel Gaeten\, Melvin Jones\, Joe Gransden\, Kebbi Williams\, Jamel Mitchell\, Mike Burton\, Saunders Sermons\, and Daniel Wytanis. \nThere will be special guest performances by Kathleen Bertrand\, Cleveland Jones\, Rhonda Thomas\, Imani Grace-Cooper\, Julie Dexter\, Tony Hightower\, Dashill Smith\, and Alexandra Jackson. \nAs the Narrator\, Jon Goode will weave in stories about the history and legacy of WCLK. Lil John Robert serves as the concert’s Music Director. The event is Co-Produced by Jamal Ahmad\, Lil John Roberts\, and Ray Cornelius.
URL:https://notoriousjazz.com/event/wclk-at-50-lil-john-his-all-star-band
LOCATION:Atlanta Symphony Hall\, 1280 Peachtree Street\, Atlanta\, GA\, 30309\, United States
CATEGORIES:Concert
ATTACH;FMTTYPE=image/jpeg:https://notoriousjazz.com/wp-content/uploads/2024/03/LIL-JOHN-ROBERTS.jpeg
END:VEVENT
BEGIN:VEVENT
DTSTART;TZID=America/New_York:20240529T190000
DTEND;TZID=America/New_York:20240602T235900
DTSTAMP:20260420T022609
CREATED:20240414T161135Z
LAST-MODIFIED:20240414T161135Z
UID:40260-1717009200-1717372740@notoriousjazz.com
SUMMARY:NICHOLAS PAYTON TRIO
DESCRIPTION:Nicholas Payton – trumpet\, piano & keyboards | Peter Washington – bass | Kenny Washington – drums\n\n“Payton’s genius virtuosity captivated both faithful fans and anyone in the NPR crowd just discovering his music for the first time. – NPR \nMulti-instrumentalist Nicholas Payton reunites the trio with bassist Peter Washington and drummer Kenny Washington that recorded his acclaimed Smoke live album Live Relaxin’ with Nick. A multi-instrumental virtuoso from New Orleans\, Payton is a master trumpeter (and pianist) who brings insight\, inspiration\, and passion to a wide spectrum of Black American Music. Over the years\, he has recorded and performed with Wynton Marsalis\, Dr. Michael White\, Christian McBride\, Joshua Redman\, Roy Hargrove\, Doc Cheatham\, and Joe Henderson\, among many others\, and is widely considered one of the most important artists of our time. \nIn a review\, the Chicago Tribune states\, “No descriptive label or category could be affixed to Payton’s solos\, which were as brashly original as they were technically imposing.” \n***PLEASE NOTE: All 7PM and 9PM shows at Smoke are Dinner Shows | Fees Apply To All Tickets
URL:https://notoriousjazz.com/event/nicholas-payton-trio
LOCATION:Smoke Jazz & Supper Club\, 2751 Broadway\, New York City\, NY\, 10025\, United States
CATEGORIES:Club
ATTACH;FMTTYPE=image/jpeg:https://notoriousjazz.com/wp-content/uploads/2024/04/NICHOLAS-PAYTON.jpeg
END:VEVENT
END:VCALENDAR