BEGIN:VCALENDAR
VERSION:2.0
PRODID:-//Notorious Jazz - ECPv6.15.17//NONSGML v1.0//EN
CALSCALE:GREGORIAN
METHOD:PUBLISH
X-WR-CALNAME:Notorious Jazz
X-ORIGINAL-URL:https://notoriousjazz.com
X-WR-CALDESC:Events for Notorious Jazz
REFRESH-INTERVAL;VALUE=DURATION:PT1H
X-Robots-Tag:noindex
X-PUBLISHED-TTL:PT1H
BEGIN:VTIMEZONE
TZID:America/New_York
BEGIN:DAYLIGHT
TZOFFSETFROM:-0500
TZOFFSETTO:-0400
TZNAME:EDT
DTSTART:20230312T070000
END:DAYLIGHT
BEGIN:STANDARD
TZOFFSETFROM:-0400
TZOFFSETTO:-0500
TZNAME:EST
DTSTART:20231105T060000
END:STANDARD
BEGIN:DAYLIGHT
TZOFFSETFROM:-0500
TZOFFSETTO:-0400
TZNAME:EDT
DTSTART:20240310T070000
END:DAYLIGHT
BEGIN:STANDARD
TZOFFSETFROM:-0400
TZOFFSETTO:-0500
TZNAME:EST
DTSTART:20241103T060000
END:STANDARD
BEGIN:DAYLIGHT
TZOFFSETFROM:-0500
TZOFFSETTO:-0400
TZNAME:EDT
DTSTART:20250309T070000
END:DAYLIGHT
BEGIN:STANDARD
TZOFFSETFROM:-0400
TZOFFSETTO:-0500
TZNAME:EST
DTSTART:20251102T060000
END:STANDARD
END:VTIMEZONE
BEGIN:VTIMEZONE
TZID:America/Chicago
BEGIN:DAYLIGHT
TZOFFSETFROM:-0600
TZOFFSETTO:-0500
TZNAME:CDT
DTSTART:20230312T080000
END:DAYLIGHT
BEGIN:STANDARD
TZOFFSETFROM:-0500
TZOFFSETTO:-0600
TZNAME:CST
DTSTART:20231105T070000
END:STANDARD
BEGIN:DAYLIGHT
TZOFFSETFROM:-0600
TZOFFSETTO:-0500
TZNAME:CDT
DTSTART:20240310T080000
END:DAYLIGHT
BEGIN:STANDARD
TZOFFSETFROM:-0500
TZOFFSETTO:-0600
TZNAME:CST
DTSTART:20241103T070000
END:STANDARD
BEGIN:DAYLIGHT
TZOFFSETFROM:-0600
TZOFFSETTO:-0500
TZNAME:CDT
DTSTART:20250309T080000
END:DAYLIGHT
BEGIN:STANDARD
TZOFFSETFROM:-0500
TZOFFSETTO:-0600
TZNAME:CST
DTSTART:20251102T070000
END:STANDARD
END:VTIMEZONE
BEGIN:VEVENT
DTSTART;TZID=America/New_York:20240529T190000
DTEND;TZID=America/New_York:20240602T235900
DTSTAMP:20260420T005215
CREATED:20240414T161135Z
LAST-MODIFIED:20240414T161135Z
UID:40260-1717009200-1717372740@notoriousjazz.com
SUMMARY:NICHOLAS PAYTON TRIO
DESCRIPTION:Nicholas Payton – trumpet\, piano & keyboards | Peter Washington – bass | Kenny Washington – drums\n\n“Payton’s genius virtuosity captivated both faithful fans and anyone in the NPR crowd just discovering his music for the first time. – NPR \nMulti-instrumentalist Nicholas Payton reunites the trio with bassist Peter Washington and drummer Kenny Washington that recorded his acclaimed Smoke live album Live Relaxin’ with Nick. A multi-instrumental virtuoso from New Orleans\, Payton is a master trumpeter (and pianist) who brings insight\, inspiration\, and passion to a wide spectrum of Black American Music. Over the years\, he has recorded and performed with Wynton Marsalis\, Dr. Michael White\, Christian McBride\, Joshua Redman\, Roy Hargrove\, Doc Cheatham\, and Joe Henderson\, among many others\, and is widely considered one of the most important artists of our time. \nIn a review\, the Chicago Tribune states\, “No descriptive label or category could be affixed to Payton’s solos\, which were as brashly original as they were technically imposing.” \n***PLEASE NOTE: All 7PM and 9PM shows at Smoke are Dinner Shows | Fees Apply To All Tickets
URL:https://notoriousjazz.com/event/nicholas-payton-trio
LOCATION:Smoke Jazz & Supper Club\, 2751 Broadway\, New York City\, NY\, 10025\, United States
CATEGORIES:Club
ATTACH;FMTTYPE=image/jpeg:https://notoriousjazz.com/wp-content/uploads/2024/04/NICHOLAS-PAYTON.jpeg
END:VEVENT
BEGIN:VEVENT
DTSTART;TZID=America/New_York:20240614T190000
DTEND;TZID=America/New_York:20240616T223000
DTSTAMP:20260420T005215
CREATED:20240614T223654Z
LAST-MODIFIED:20240614T223654Z
UID:41256-1718391600-1718577000@notoriousjazz.com
SUMMARY:ETIENNE CHARLES CREOLE ORCHESTRA
DESCRIPTION:Last season\, trumpet master\, inexhaustible band leader\, and fashion icon Etienne Charles lit up The House of Swing with his Appel Room performance of Carnival: The Sound of a People. Now\, he returns to Dizzy’s Club leading his Creole-inflected big band featuring master practitioners from across the globe. Expect a spirited set of new music designed to pull every listener of every generation from their seat to their feet.  \nThe Orchestra \nEtienne Charles\, music director/trumpet\nNathaniel Williford\, Austin Muthyala\, trumpet\nAnthony Hervey\, trumpet  (6/15 and 6/16)\nSummer Camargo\, trumpet 6/15 and 6/16)\nTrunino Lowe\, trumpet (6/14 only)\nGeoffrey Gallante (6/14 only)\nSam Keedy\, Rashaan Salaam\, Gina Benalcazar-Lopez\, trombone\nRob Edwards\, trombone (6/14 only)\nDion Tucker\, trombone (6/15 and 6/16)\nGodwin Louis\, Jordan Pettay\, alto saxophone\nJohn Ellis\, tenor saxophone\nJoseph Herbst\, tenor saxophone\, libriarian\nPaul Nedzela\, baritone saxophone\nAlex Wintz\, guitar\nAndre White\, steel pan\nAxel Tosca\, piano\nBrandon Rose\, bass\, vocals\nHarvel Nakundi\, drums\nDennis Collins\, vocals (6/16 only)\nKatie Oberhotlzer\, vocals (6/16 only)
URL:https://notoriousjazz.com/event/etienne-charles-creole-orchestra
LOCATION:Dizzy’s Club\, 10 Columbus Circle\, New York City\, NY\, 10019\, United States
CATEGORIES:Club
ATTACH;FMTTYPE=image/jpeg:https://notoriousjazz.com/wp-content/uploads/2024/06/ETIENNE-CHARLES.jpg
END:VEVENT
BEGIN:VEVENT
DTSTART;TZID=America/Chicago:20240619T183000
DTEND;TZID=America/Chicago:20240623T230000
DTSTAMP:20260420T005215
CREATED:20240614T164834Z
LAST-MODIFIED:20240614T164834Z
UID:41209-1718821800-1719183600@notoriousjazz.com
SUMMARY:KEYON HARROLD
DESCRIPTION:Jazz St. Louis Creative Advisor and Ferguson native Keyon Harrold returns home to present his brand new commission to close our ’23/24 Season! This season grand finale will see the illustrious musician debut Jazz St. Louis’ much-anticipated\, first-ever solo-commissioned work\, written to reflect Keyon’s experiences during his  momentous three-year appointment with Jazz St. Louis. Do not miss Harrold take the stage to share with the world a new work that promises to be unique and thoughtful. \nHarrold grew up one of sixteen children in a family that prioritized music and community across generations. His grandfather was a police officer who retired to found a drum and bugle corps for local youth\, both of his parents were pastors\, and nearly all of his siblings sing and perform music to this day. At eighteen\, the McCluer High School alum left Ferguson for New York City to enroll in The New School. In New York\, he landed his first major gig with Common\, an audition he secured on the recommendation of his New School classmate Robert Glasper\, and an experience which he says broadened his musical horizons beyond jazz to include funk\, Afrobeat\, R&B\, and hip hop. Harrold was soon performing with stars like Snoop Dogg\, Jay Z\, Beyonce\, Mac Miller\, Rihanna\, Eminem\, Maxwell\, Anthony Hamilton\, and Chaka Khan. \nHarrold has been key in advancing community engagement and broadening our organization’s audience of ardent jazz appreciators. Whether Jazz St. Louis patrons are harmonizing to a soothing rendition of the Bee Gees tune “How Deep Is Your Love” live with PJ Morton\, or soaring with inspiration from a Whitaker Jazz Speaks exploration of how hip hop radiated from an iconic disco sample\, many indelible memories are being made during Harrold’s extraordinary tenure. This boundary-expanding partnership and commissioned work is all made possible with gracious support from the Mellon Foundation.
URL:https://notoriousjazz.com/event/keyon-harrold-3
LOCATION:Jazz St. Louis\, 3536 Washington Avenue\, St. Louis\, MO\, 63103\, United States
CATEGORIES:Club
ATTACH;FMTTYPE=image/png:https://notoriousjazz.com/wp-content/uploads/2024/06/KEYON-HARROLD.png
END:VEVENT
BEGIN:VEVENT
DTSTART;TZID=America/New_York:20240620T200000
DTEND;TZID=America/New_York:20240620T233000
DTSTAMP:20260420T005215
CREATED:20240614T083847Z
LAST-MODIFIED:20240614T084245Z
UID:41169-1718913600-1718926200@notoriousjazz.com
SUMMARY:CHIEF ADJUAH
DESCRIPTION:Chief Xian aTunde Adjuah (formerly Christian Scott) is a two-time Edison Award-winning\, six-time Grammy Award-nominated\, Doris Duke Award in the Arts awardee. He is a sonic architect\, trumpeter\, multi-instrumentalist\, composer\, producer\, designer of innovative technologies and musical instruments (including The Stretch Music app\, Adjuah Trumpet\, Siren\, Sirenette\, Chief Adjuah’s Bow and Chief Adjuah’s N’Goni). He is also the founder and CEO of the Stretch Music App and Recording Company. Adjuah is Chieftain and Oba of the Xodokan Nation as well as the current Grand Griot of New Orleans. He is the grandson of Louisiana luminary and legend\, the late Big Chief Donald Harrison Sr.\, Guardians Institute founder and Grand Griot\, Herreast Harrison. And is the nephew of Jazz innovator and NEA Jazz Master saxophonist-composer\, Big Chief Donald Harrison Jr. Adjuah (and his twin brother Kiel) joined his grandfather’s Guardians of the Flame banner in 1989 at the age 5. \nSince 2001\, Adjuah has released thirteen critically acclaimed studio recordings\, four live albums\, and one greatest hits collection. He is widely recognized as the progenitor of the “Stretch Music\,” style. A 21st-century approach that asserts genre blindness and an ethnomusicological approach to limitless fusion that heralded NPR to hail him as “Ushering in a new era of Jazz” and JazzTimes Magazine to mark him as “Jazz’s young style God.” and “the architect of a commercially viable fusion”. He has collaborated with a number of notable artists\, including Prince\, Thom Yorke\, McCoy Tyner\, Marcus Miller\, Flea\, Eddie Palmieri\, Robert Glasper\, rappers Mos Def (Yasin Bey)\, Talib Kweli\, as well as heralded poet and musician Saul Williams. Adjuah scores music for his identical twin brother’s\, writer/director and visual artist Kiel Adrian Scott\, filmic works. Scott is a Directors Guild of America Award recipient whose works have been honored with The Peabody Award and an NAACP Image Award.
URL:https://notoriousjazz.com/event/chief-adjuah
LOCATION:Yoshi’s\, 510 Embarcadero West\, Oakland\, CA\, 94607\, United States
CATEGORIES:Club
ATTACH;FMTTYPE=image/jpeg:https://notoriousjazz.com/wp-content/uploads/2024/06/CHIEF-ADJUAH.jpg
END:VEVENT
BEGIN:VEVENT
DTSTART;TZID=America/New_York:20240628T180000
DTEND;TZID=America/New_York:20240629T230000
DTSTAMP:20260420T005215
CREATED:20240614T092000Z
LAST-MODIFIED:20240614T092645Z
UID:41188-1719597600-1719702000@notoriousjazz.com
SUMMARY:THE HEAVY HITTERS
DESCRIPTION:Mike LeDonne piano | Eric Alexander tenor saxophone | Vincent Herring alto saxophone | Sean Jones trumpet | Alexander Claffy bass | Kenny Washington drums \nThe Heavy Hitters is the eponymous album from a brand-new sextet featuring some of the most established players in the jazz game. The group is led by Mike LeDonne\, New York-based bop pianist best known for his sideman work with Milt Jackson and Benny Golson. His partner in crime\, Eric Alexander (himself a first-rate soloist working with Harold Mabern amongst others) was his quartet-mate on a well-received series of releases on the Venus label in the mid-2000’s. The two friends came together for this\, their first sextet release as leaders\, featuring a set composed entirely of originals. \nThe music is built to tickle your mind\, hit you in the heart and get your head swaying back and forth. The Heavy Hitters have been swinging hard their whole lives! It’s a true “Jazz” sound\, recorded by some of the greatest jazz musicians of their generation. \n“Together\, these two ‘Heavy Hitters’ offer us a smokin’ hot production featuring five other heavy-hitters and a product plush with crème de la crème of both musicianship and original compositions.” – Dee Dee McNeil\, Musical Memoirs
URL:https://notoriousjazz.com/event/heavy-hitters
LOCATION:Keystone Korner Baltimore\, 1350 Lancaster Street\, Baltimore\, MD\, 21231\, United States
CATEGORIES:Club
ATTACH;FMTTYPE=image/jpeg:https://notoriousjazz.com/wp-content/uploads/2024/06/HEAVY-HITTERS.jpg
END:VEVENT
END:VCALENDAR