BEGIN:VCALENDAR
VERSION:2.0
PRODID:-//Notorious Jazz - ECPv6.15.17//NONSGML v1.0//EN
CALSCALE:GREGORIAN
METHOD:PUBLISH
X-ORIGINAL-URL:https://notoriousjazz.com
X-WR-CALDESC:Events for Notorious Jazz
REFRESH-INTERVAL;VALUE=DURATION:PT1H
X-Robots-Tag:noindex
X-PUBLISHED-TTL:PT1H
BEGIN:VTIMEZONE
TZID:America/New_York
BEGIN:DAYLIGHT
TZOFFSETFROM:-0500
TZOFFSETTO:-0400
TZNAME:EDT
DTSTART:20230312T070000
END:DAYLIGHT
BEGIN:STANDARD
TZOFFSETFROM:-0400
TZOFFSETTO:-0500
TZNAME:EST
DTSTART:20231105T060000
END:STANDARD
BEGIN:DAYLIGHT
TZOFFSETFROM:-0500
TZOFFSETTO:-0400
TZNAME:EDT
DTSTART:20240310T070000
END:DAYLIGHT
BEGIN:STANDARD
TZOFFSETFROM:-0400
TZOFFSETTO:-0500
TZNAME:EST
DTSTART:20241103T060000
END:STANDARD
BEGIN:DAYLIGHT
TZOFFSETFROM:-0500
TZOFFSETTO:-0400
TZNAME:EDT
DTSTART:20250309T070000
END:DAYLIGHT
BEGIN:STANDARD
TZOFFSETFROM:-0400
TZOFFSETTO:-0500
TZNAME:EST
DTSTART:20251102T060000
END:STANDARD
END:VTIMEZONE
BEGIN:VTIMEZONE
TZID:America/Los_Angeles
BEGIN:DAYLIGHT
TZOFFSETFROM:-0800
TZOFFSETTO:-0700
TZNAME:PDT
DTSTART:20230312T100000
END:DAYLIGHT
BEGIN:STANDARD
TZOFFSETFROM:-0700
TZOFFSETTO:-0800
TZNAME:PST
DTSTART:20231105T090000
END:STANDARD
BEGIN:DAYLIGHT
TZOFFSETFROM:-0800
TZOFFSETTO:-0700
TZNAME:PDT
DTSTART:20240310T100000
END:DAYLIGHT
BEGIN:STANDARD
TZOFFSETFROM:-0700
TZOFFSETTO:-0800
TZNAME:PST
DTSTART:20241103T090000
END:STANDARD
BEGIN:DAYLIGHT
TZOFFSETFROM:-0800
TZOFFSETTO:-0700
TZNAME:PDT
DTSTART:20250309T100000
END:DAYLIGHT
BEGIN:STANDARD
TZOFFSETFROM:-0700
TZOFFSETTO:-0800
TZNAME:PST
DTSTART:20251102T090000
END:STANDARD
END:VTIMEZONE
BEGIN:VEVENT
DTSTART;TZID=America/New_York:20240705T183000
DTEND;TZID=America/New_York:20240705T220000
DTSTAMP:20260419T231521
CREATED:20240629T194549Z
LAST-MODIFIED:20240629T194549Z
UID:41437-1720204200-1720216800@notoriousjazz.com
SUMMARY:JOE GRANSDEN QUINTET
DESCRIPTION: Swingin’ at the Haven with Special Guest Dr.Geoff Hayden \nBand leader Joe Gransden has performed worldwide and released 16 CDs under his own name. Renowned first for the hard bop approach of his trumpet\, Gransden’s singing voice has been compared to that of Chet Baker and Frank Sinatra. \n\nJoe is from just north of Manhattan\, New York. Coming from a family full of musicians. His introduction to music came early on through his father\, a gifted singer and pianist. His grandfather was a trumpeter of merit\, playing professionally his whole life\nthroughout New York. On his mother’s side of the family was the piano virtuoso Carmen Cavallero. \nPersonnel: \n\n\nJoe Gransden Trumpet/Vocals\nDr Geoff Haydon Piano\nNeal Starkey Bass\nChris Burroughs Drums
URL:https://notoriousjazz.com/event/joe-gransden-quintet
LOCATION:Middle C Jazz\, 300 South Brevard Street\, Charlotte\, NC\, 28202\, United States
CATEGORIES:Club
ATTACH;FMTTYPE=image/jpeg:https://notoriousjazz.com/wp-content/uploads/2024/06/JOE-GRANSDEN-1.jpg
END:VEVENT
BEGIN:VEVENT
DTSTART;TZID=America/New_York:20240706T200000
DTEND;TZID=America/New_York:20240706T230000
DTSTAMP:20260419T231521
CREATED:20240622T204916Z
LAST-MODIFIED:20240622T204916Z
UID:41326-1720296000-1720306800@notoriousjazz.com
SUMMARY:THE HOSCHAR-PALMIERI QUINTET
DESCRIPTION:Akron based drummer Drew Hoschar returns home from NYC. The Hoschar-Palmieri Quintet is a 5-piece jazz combo of the young rising stars of the Ohio jazz scenes pursuing jazz degrees at the Manhattan School of Music and the University of Cincinatti’s College-Conservatory of Music (CCM). Both originally from northeast Ohio\, drummer Drew Hoschar co-band leads with saxophonist Colin Palmieri for a night of fresh\, original music\, tasteful modern arrangements\, and timeless classics with a band of young\, heavy-hitting Cincinnati natives featuring Evan Taylor on guitar\, Alex Nicodemus on piano\, and Jack Early on bass. \nDrew Hoschar – drums and cymbals \nColin Palmeri – alto saxophone \nEvan Taylor – guitar \nAlex Nicodemus – piano \nJack Early – bass \n 
URL:https://notoriousjazz.com/event/the-hoschar-palmieri-quintet
LOCATION:Blu Jazz+\, 47 E Market Street\, Akron\, OH\, 44308\, United States
CATEGORIES:Club
ATTACH;FMTTYPE=image/png:https://notoriousjazz.com/wp-content/uploads/2024/06/HOSCHAR-PALMIERI.png
END:VEVENT
BEGIN:VEVENT
DTSTART;TZID=America/New_York:20240711T180000
DTEND;TZID=America/New_York:20240713T223000
DTSTAMP:20260419T231521
CREATED:20240622T202547Z
LAST-MODIFIED:20240622T202547Z
UID:41323-1720720800-1720909800@notoriousjazz.com
SUMMARY:SIGNAL QUARTET
DESCRIPTION:Defying easy categorization\, Signal Quartet brings together a variety of disparate strains from the jazz continuum to create a distinctive group sound. Incorporating the freewheeling adventurousness of the avant garde\, the improvisational combustibility of post-bop\, and the spaciousness and lyricism innate to the American Midwest; Signal Quartet can reach young and old\, purists and radicals\, aficionados and neophytes alike through their thoughtful compositions and unpredictable improvisations. \nPersonnel: \nBen Wolkins – Trumpet\, Flugelhorn\, \nIan Blunden – Guitar \nEric Nachtrab – Bass \nSean Perlmutter – Drums
URL:https://notoriousjazz.com/event/signal-quartet
LOCATION:Dirty Dog Jazz Cafe\, 97 Kercheval Avenue\, Grosse Pointe Farms\, MI\, 48236\, United States
CATEGORIES:Club
ATTACH;FMTTYPE=image/jpeg:https://notoriousjazz.com/wp-content/uploads/2024/06/SIGNAL-QUARTET.jpg
END:VEVENT
BEGIN:VEVENT
DTSTART;TZID=America/New_York:20240712T170000
DTEND;TZID=America/New_York:20240712T230000
DTSTAMP:20260419T231521
CREATED:20240704T204901Z
LAST-MODIFIED:20240704T204901Z
UID:41520-1720803600-1720825200@notoriousjazz.com
SUMMARY:CHARLES MCPHERSON QUINTET
DESCRIPTION:85th Birthday Celebration with Terrell Stafford\n\nFor more than 60 years\, alto saxophonist Charles McPherson has been one of the most expressive and highly regarded voices in jazz. His rich musical style\, rooted in the blues and bebop\, has influenced and inspired generations of musicians and listeners. Wynton Marsalis\, a longtime admirer says: “Charles is the very definition of excellence in our music. He is the definitive master on this instrument. He plays with exceptional harmonic accuracy and sophistication. He performs free-flowing\, melodic and thematically developed solos with unbelievable fire and an unparalleled depth of soul.” \nTerell Stafford\, acclaimed trumpet player based in New York\, has been hailed as “one of the great players of our time\, a fabulous trumpet player” by piano legend McCoy Tyner. Stafford is recognized as an incredibly gifted and versatile player\, he combines a deep love of melody with his own brand of spirited and adventurous lyricism. \nJeb Patton\, described as both a “young phenomon… on piano” and an “absolute great\,” has earned a well-regarded reputation in the international jazz community. The multi-talented Patton is known as a “player of great expression.” \nBilly Drummond is acclaimed by Downbeat as one of the hippest and versatile bandleaders now at work\, his thrilling\, powerful and highly musical playing has also made him one of the most called-for sidemen of his generation. \nBassist David Wong has studied classical bass with Orin O’Brien of the New York Philharmonic\, and jazz bass with legends Ron Carter\, Ben Wolfe\, and John Clayton. \nCharles McPherson ~ Also Saxophone\nTerell Stafford ~ Trumpet\nJeb Patton ~ piano\nDavid Wong ~ Bass\nBilly Drummond ~ Drums \nFriday 7/12  ~ 7:00 pm w/Live Stream | 9:30 pm\nSaturday 7/13 ~ 6:00 pm w/Live Stream | 8:30 pm\nSunday 7/14 ~ 5:00 pm w/Live Stream | 7:30 pm
URL:https://notoriousjazz.com/event/charles-mcpherson-quintet-2
LOCATION:Keystone Korner Baltimore\, 1350 Lancaster Street\, Baltimore\, MD\, 21231\, United States
CATEGORIES:Club
ATTACH;FMTTYPE=image/jpeg:https://notoriousjazz.com/wp-content/uploads/2024/07/CHARLES-MCPHERSON.jpg
END:VEVENT
BEGIN:VEVENT
DTSTART;TZID=America/New_York:20240712T190000
DTEND;TZID=America/New_York:20240712T220000
DTSTAMP:20260419T231521
CREATED:20240704T224940Z
LAST-MODIFIED:20240704T224940Z
UID:41539-1720810800-1720821600@notoriousjazz.com
SUMMARY:MINGUS DYNASTY
DESCRIPTION:Mingus Dynasty was the first band Sue Mingus organized after Charles Mingus’ death in 1979\, collaborating with his own sidemen to honor his life and work. Although Mingus was an iconic and trailblazing bassist\, he always said he was first and foremost a composer\, and he left behind over 300 composition that deserved to be played. So a band carrying on his music became a natural\, if unanticipated\, mission. Today\, four decades later\, the powerful legacy of Mingus Music ignites bandstands as new generations of musicians express their individual voices and musical personalities\, and celebrate and explore this rich and varied musical legacy.  \nPlease arrive 30 minutes before the show your attending. Call for ticket information. \nPhilip Harper | Trumpet \nMark Gross | Alto Saxophone \nAbraham Burton | Tenor Saxophone \nRobin Eubanks | Trombone \nMiki Yamanaka | Piano \nBarry Stephenson | Bass \nDonald Edwards | Drums
URL:https://notoriousjazz.com/event/mingus-dynasty
LOCATION:Zinc Bar\, 82 West 3rd Street\, New York City\, NY\, 10012\, United States
CATEGORIES:Club
ATTACH;FMTTYPE=image/jpeg:https://notoriousjazz.com/wp-content/uploads/2024/07/MINGUS-DYNASTY.jpg
END:VEVENT
BEGIN:VEVENT
DTSTART;TZID=America/New_York:20240715T190000
DTEND;TZID=America/New_York:20240715T230000
DTSTAMP:20260419T231521
CREATED:20240614T190818Z
LAST-MODIFIED:20240614T190818Z
UID:41241-1721070000-1721084400@notoriousjazz.com
SUMMARY:JOE GRANSDEN BIG BAND
DESCRIPTION:Swinging Atlanta-based singer\, trumpet player\, and band leader Joe Gransden brings his joyful and dynamic big band to Dizzy’s Club. The award-winning 17-piece outfit delights audiences of all ages with vibrant arrangements of beloved standard tunes alongside Gransden’s effervescent style and slick sense of humor. Expect an uplifting set of classic favorites for every listener. \n\n\nThe Band \nJoe Gransden: leader\, trumpet\, vocals | Lee King: lead trumpet | Kevin Lyons: trumpet | Gordon Vernick: trumpet | Paul Poovey: trumpet | Wes Funderburk: lead trombone | Tom Gibson: trombone | Malik Henry: trombone | Lee Watts: bass trombone | Chris Otts: lead alto saxophone | Akeem Marable: alto saxophone | John Sandfort: tenor saxophone | Mike Walton: tenor saxophone | Vinnie D’Agostino: baritone saxophone | Geoff Haydon: piano | Neal Starkey: bass | Marlon Patton: drums
URL:https://notoriousjazz.com/event/joe-gransden-big-band
LOCATION:Dizzy’s Club\, 10 Columbus Circle\, New York City\, NY\, 10019\, United States
CATEGORIES:Club
ATTACH;FMTTYPE=image/jpeg:https://notoriousjazz.com/wp-content/uploads/2024/06/JOE-GRANSDEN.jpg
END:VEVENT
BEGIN:VEVENT
DTSTART;TZID=America/Los_Angeles:20240731T190000
DTEND;TZID=America/Los_Angeles:20240731T223000
DTSTAMP:20260419T231521
CREATED:20240712T223430Z
LAST-MODIFIED:20240713T030141Z
UID:41657-1722452400-1722465000@notoriousjazz.com
SUMMARY:BRUCE FORMAN
DESCRIPTION:San Francisco’s Bard of Bop comes home for a night of jazz guitar stunts\, storytelling\, and mayhem. With his SF trio most anything can happen…and it usually does! \nA hectic touring schedule; twenty-one recordings as a leader\,  countless sideman recordings including Ray Brown\, Bobby Hutcherson\, Roger Kellaway; soundtrack performances on three of Clint Eastwood’s distinguished films—most notably Academy Award-winning Million Dollar Baby; raconteur\, arranger\, acclaimed educator\, in residence at USC’s Studio/Jazz Guitar Dept.\, when does Bruce Forman rest?
URL:https://notoriousjazz.com/event/bruce-forman
LOCATION:Keys Jazz Bistro\, 498 Broadway\, San Francisco\, CA\, 94133\, United States
CATEGORIES:Club
ATTACH;FMTTYPE=image/jpeg:https://notoriousjazz.com/wp-content/uploads/2024/07/BRUCE-FORMAN.jpeg
END:VEVENT
END:VCALENDAR