BEGIN:VCALENDAR
VERSION:2.0
PRODID:-//Notorious Jazz - ECPv6.15.17//NONSGML v1.0//EN
CALSCALE:GREGORIAN
METHOD:PUBLISH
X-ORIGINAL-URL:https://notoriousjazz.com
X-WR-CALDESC:Events for Notorious Jazz
REFRESH-INTERVAL;VALUE=DURATION:PT1H
X-Robots-Tag:noindex
X-PUBLISHED-TTL:PT1H
BEGIN:VTIMEZONE
TZID:America/New_York
BEGIN:DAYLIGHT
TZOFFSETFROM:-0500
TZOFFSETTO:-0400
TZNAME:EDT
DTSTART:20220313T070000
END:DAYLIGHT
BEGIN:STANDARD
TZOFFSETFROM:-0400
TZOFFSETTO:-0500
TZNAME:EST
DTSTART:20221106T060000
END:STANDARD
BEGIN:DAYLIGHT
TZOFFSETFROM:-0500
TZOFFSETTO:-0400
TZNAME:EDT
DTSTART:20230312T070000
END:DAYLIGHT
BEGIN:STANDARD
TZOFFSETFROM:-0400
TZOFFSETTO:-0500
TZNAME:EST
DTSTART:20231105T060000
END:STANDARD
BEGIN:DAYLIGHT
TZOFFSETFROM:-0500
TZOFFSETTO:-0400
TZNAME:EDT
DTSTART:20240310T070000
END:DAYLIGHT
BEGIN:STANDARD
TZOFFSETFROM:-0400
TZOFFSETTO:-0500
TZNAME:EST
DTSTART:20241103T060000
END:STANDARD
END:VTIMEZONE
BEGIN:VEVENT
DTSTART;TZID=America/New_York:20230129T160000
DTEND;TZID=America/New_York:20230129T180000
DTSTAMP:20260421T072952
CREATED:20230111T031459Z
LAST-MODIFIED:20230111T031652Z
UID:33703-1675008000-1675015200@notoriousjazz.com
SUMMARY:SCOTTY BARNHART
DESCRIPTION:Unity Jazz Concert Series \nSpecial Guest ~ Stillwell High School Jazz Ensemble \nHosted By ~ WCLK 91.9FM’s Riva Blue \nTickets: $35.00 in advance | $40.00 at door (NO CASH) \nTickets Available at Unity-Jazz.Eventbrite.com\, UnityJazz.org or call 770-899-1991 \nDoors at 3:00pm
URL:https://notoriousjazz.com/event/scotty-barnhart
LOCATION:Emory Performing Arts Studio\, 1804 N. Decatur Road\, Atlanta\, GA\, 30307\, United States
CATEGORIES:Concert
ATTACH;FMTTYPE=image/jpeg:https://notoriousjazz.com/wp-content/uploads/2023/01/SCOTTY-BARNHART.jpg
END:VEVENT
END:VCALENDAR