BEGIN:VCALENDAR
VERSION:2.0
PRODID:-//Notorious Jazz - ECPv6.15.17//NONSGML v1.0//EN
CALSCALE:GREGORIAN
METHOD:PUBLISH
X-ORIGINAL-URL:https://notoriousjazz.com
X-WR-CALDESC:Events for Notorious Jazz
REFRESH-INTERVAL;VALUE=DURATION:PT1H
X-Robots-Tag:noindex
X-PUBLISHED-TTL:PT1H
BEGIN:VTIMEZONE
TZID:America/New_York
BEGIN:DAYLIGHT
TZOFFSETFROM:-0500
TZOFFSETTO:-0400
TZNAME:EDT
DTSTART:20220313T070000
END:DAYLIGHT
BEGIN:STANDARD
TZOFFSETFROM:-0400
TZOFFSETTO:-0500
TZNAME:EST
DTSTART:20221106T060000
END:STANDARD
BEGIN:DAYLIGHT
TZOFFSETFROM:-0500
TZOFFSETTO:-0400
TZNAME:EDT
DTSTART:20230312T070000
END:DAYLIGHT
BEGIN:STANDARD
TZOFFSETFROM:-0400
TZOFFSETTO:-0500
TZNAME:EST
DTSTART:20231105T060000
END:STANDARD
BEGIN:DAYLIGHT
TZOFFSETFROM:-0500
TZOFFSETTO:-0400
TZNAME:EDT
DTSTART:20240310T070000
END:DAYLIGHT
BEGIN:STANDARD
TZOFFSETFROM:-0400
TZOFFSETTO:-0500
TZNAME:EST
DTSTART:20241103T060000
END:STANDARD
END:VTIMEZONE
BEGIN:VEVENT
DTSTART;TZID=America/New_York:20230412T200000
DTEND;TZID=America/New_York:20230412T220000
DTSTAMP:20260421T044505
CREATED:20230411T204426Z
LAST-MODIFIED:20230411T210539Z
UID:34937-1681329600-1681336800@notoriousjazz.com
SUMMARY:ETIENNE CHARLES
DESCRIPTION:Trinidad-born trumpet player Etienne Charles is a performer\, composer\, and storyteller\, who is continuously searching for untold stories and sounds with which to tell them. \nA Guggenheim Fellow\, in 2022 he received a commission to compose and perform his composition ‘San Juan Hill’ with the New York Philharmonic for the opening of New York’s Lincoln Center’s David Geffen Hall.  A recent addition to the Frost School of Music at the University of Miami\, Charles brings his special project\, Traces\, to our series. \nTraces follows the journey of Sephardic music from the Middle East to Europe and to Latin America.
URL:https://notoriousjazz.com/event/34937
LOCATION:Faena Hotel Theater\, 3201 Collins Avenue\, Miami Beach\, FL\, 33140\, United States
CATEGORIES:Club
ATTACH;FMTTYPE=image/jpeg:https://notoriousjazz.com/wp-content/uploads/2023/04/ETIENNE-CHARLES.jpg
END:VEVENT
END:VCALENDAR