BEGIN:VCALENDAR
VERSION:2.0
PRODID:-//Notorious Jazz - ECPv6.15.17//NONSGML v1.0//EN
CALSCALE:GREGORIAN
METHOD:PUBLISH
X-ORIGINAL-URL:https://notoriousjazz.com
X-WR-CALDESC:Events for Notorious Jazz
REFRESH-INTERVAL;VALUE=DURATION:PT1H
X-Robots-Tag:noindex
X-PUBLISHED-TTL:PT1H
BEGIN:VTIMEZONE
TZID:Europe/Rome
BEGIN:DAYLIGHT
TZOFFSETFROM:+0100
TZOFFSETTO:+0200
TZNAME:CEST
DTSTART:20220327T010000
END:DAYLIGHT
BEGIN:STANDARD
TZOFFSETFROM:+0200
TZOFFSETTO:+0100
TZNAME:CET
DTSTART:20221030T010000
END:STANDARD
BEGIN:DAYLIGHT
TZOFFSETFROM:+0100
TZOFFSETTO:+0200
TZNAME:CEST
DTSTART:20230326T010000
END:DAYLIGHT
BEGIN:STANDARD
TZOFFSETFROM:+0200
TZOFFSETTO:+0100
TZNAME:CET
DTSTART:20231029T010000
END:STANDARD
BEGIN:DAYLIGHT
TZOFFSETFROM:+0100
TZOFFSETTO:+0200
TZNAME:CEST
DTSTART:20240331T010000
END:DAYLIGHT
BEGIN:STANDARD
TZOFFSETFROM:+0200
TZOFFSETTO:+0100
TZNAME:CET
DTSTART:20241027T010000
END:STANDARD
END:VTIMEZONE
BEGIN:VEVENT
DTSTART;TZID=Europe/Rome:20230617T210000
DTEND;TZID=Europe/Rome:20230617T235900
DTSTAMP:20260421T012118
CREATED:20230607T201000Z
LAST-MODIFIED:20230607T201000Z
UID:35598-1687035600-1687046340@notoriousjazz.com
SUMMARY:THE SWING QUARTET
DESCRIPTION:The evening features a tribute to the era of American but also Italian swing. Immortal songs such as “Why don’t you do right?”\, “On the sunny side of the street” but also “Looking for you”\, “Ma l’amore no” and many others\, for an evening with an exquisitely vintage flavor. \n\n\nAntonella Aprea • Voice\nEnrico Bracco • Guitar\nStefano Nunzi • Bass\nTiziano Ruggeri • Trumpet \nExperience an 3 hour evening of entertainment that offers together a jazz concert\, an excellent candlelit dinner and a night tour in the center of Rome\, all aboard a historic tram from the ATAC collection\, restored and rearranged as a restaurant and concert hall traveling. \n\n\nTramjazz — Piazza di Porta Maggiore (parking platform\, at the tram terminus) \nLocated at Artour Sas of Rossella Taverna & C. – Via Giorgio Vasari 14\, 00196 Rome – P.I. 16376741001.
URL:https://notoriousjazz.com/event/the-swing-quartet
LOCATION:Tramjazz\, Artour Sas of Rossella Taverna & C. – Via Giorgio Vasari 14\, Rome\, 00196\, Italy
CATEGORIES:Club,Concert
ATTACH;FMTTYPE=image/jpeg:https://notoriousjazz.com/wp-content/uploads/2023/06/ANTONELLA-APREA.jpg
END:VEVENT
END:VCALENDAR