BEGIN:VCALENDAR
VERSION:2.0
PRODID:-//Notorious Jazz - ECPv6.15.17//NONSGML v1.0//EN
CALSCALE:GREGORIAN
METHOD:PUBLISH
X-ORIGINAL-URL:https://notoriousjazz.com
X-WR-CALDESC:Events for Notorious Jazz
REFRESH-INTERVAL;VALUE=DURATION:PT1H
X-Robots-Tag:noindex
X-PUBLISHED-TTL:PT1H
BEGIN:VTIMEZONE
TZID:America/New_York
BEGIN:DAYLIGHT
TZOFFSETFROM:-0500
TZOFFSETTO:-0400
TZNAME:EDT
DTSTART:20220313T070000
END:DAYLIGHT
BEGIN:STANDARD
TZOFFSETFROM:-0400
TZOFFSETTO:-0500
TZNAME:EST
DTSTART:20221106T060000
END:STANDARD
BEGIN:DAYLIGHT
TZOFFSETFROM:-0500
TZOFFSETTO:-0400
TZNAME:EDT
DTSTART:20230312T070000
END:DAYLIGHT
BEGIN:STANDARD
TZOFFSETFROM:-0400
TZOFFSETTO:-0500
TZNAME:EST
DTSTART:20231105T060000
END:STANDARD
BEGIN:DAYLIGHT
TZOFFSETFROM:-0500
TZOFFSETTO:-0400
TZNAME:EDT
DTSTART:20240310T070000
END:DAYLIGHT
BEGIN:STANDARD
TZOFFSETFROM:-0400
TZOFFSETTO:-0500
TZNAME:EST
DTSTART:20241103T060000
END:STANDARD
END:VTIMEZONE
BEGIN:VEVENT
DTSTART;TZID=America/New_York:20230622T190000
DTEND;TZID=America/New_York:20230622T210000
DTSTAMP:20260421T012231
CREATED:20230603T011259Z
LAST-MODIFIED:20230603T011717Z
UID:35525-1687460400-1687467600@notoriousjazz.com
SUMMARY:CARNIVAL: THE SOUND OF A PEOPLE
DESCRIPTION:Organized by trumpeter\, percussionist\, and composer Etienne Charles\, this high-energy spectacle brings the street energy of Trinbagonian Carnival to the stage. Mixing multimedia and traditional carnival characters live with band Creole Soul\, Charles’ original compositions are brought to life with ritualistic imagery\, grooves\, and dances. \nFollowing the performance\, meet us on the waterfront terrace as dancers from Miami Carnival join us in the after-performance celebrations and we dance to Caribbean sounds and beats with a live set by Akia Dorsainvil aka DJ Pressure Point. \nMiami Carnival has a long-standing tradition of providing a kaleidoscope of Caribbean cultures under one umbrella. This medley of ingredients includes color\, energy\, pageantry\, music\, and excitement rooted in Caribbean culture. The Parade of Bands features the colorful costumes of over 20\,000 masqueraders and revelers parading and competing for bragging rights.
URL:https://notoriousjazz.com/event/carnival-the-sound-of-a-people
LOCATION:NY
CATEGORIES:Museum
ATTACH;FMTTYPE=image/png:https://notoriousjazz.com/wp-content/uploads/2023/06/ETIENNE-CHARLES.png
END:VEVENT
END:VCALENDAR