BEGIN:VCALENDAR
VERSION:2.0
PRODID:-//Notorious Jazz - ECPv6.15.17//NONSGML v1.0//EN
CALSCALE:GREGORIAN
METHOD:PUBLISH
X-ORIGINAL-URL:https://notoriousjazz.com
X-WR-CALDESC:Events for Notorious Jazz
REFRESH-INTERVAL;VALUE=DURATION:PT1H
X-Robots-Tag:noindex
X-PUBLISHED-TTL:PT1H
BEGIN:VTIMEZONE
TZID:America/New_York
BEGIN:DAYLIGHT
TZOFFSETFROM:-0500
TZOFFSETTO:-0400
TZNAME:EDT
DTSTART:20220313T070000
END:DAYLIGHT
BEGIN:STANDARD
TZOFFSETFROM:-0400
TZOFFSETTO:-0500
TZNAME:EST
DTSTART:20221106T060000
END:STANDARD
BEGIN:DAYLIGHT
TZOFFSETFROM:-0500
TZOFFSETTO:-0400
TZNAME:EDT
DTSTART:20230312T070000
END:DAYLIGHT
BEGIN:STANDARD
TZOFFSETFROM:-0400
TZOFFSETTO:-0500
TZNAME:EST
DTSTART:20231105T060000
END:STANDARD
BEGIN:DAYLIGHT
TZOFFSETFROM:-0500
TZOFFSETTO:-0400
TZNAME:EDT
DTSTART:20240310T070000
END:DAYLIGHT
BEGIN:STANDARD
TZOFFSETFROM:-0400
TZOFFSETTO:-0500
TZNAME:EST
DTSTART:20241103T060000
END:STANDARD
END:VTIMEZONE
BEGIN:VEVENT
DTSTART;TZID=America/New_York:20230624T193000
DTEND;TZID=America/New_York:20230624T230000
DTSTAMP:20260421T012233
CREATED:20230621T020338Z
LAST-MODIFIED:20230621T020651Z
UID:35802-1687635000-1687647600@notoriousjazz.com
SUMMARY:THE TERENCE HARPER PROJECT FEATURING AUDREY SHAKIR
DESCRIPTION:Terence Harper is one of the youngest members of the Harper Family Dynasty and is currently touring around the world. He has played and recorded with the great Curtis Lundy\, Steve Turre\, Jimmy Heath\, Musiq Soulchild\, Solange\, Keith David\, Bobby Watson and Chinese Movie Star and Mandopop artist Andy Lau just to name a few. He has also appeared on numerous television shows and movies including\, The Orignals as well as the remake of the movie The Color Purple\, directed by Blitz Bazawule and produced by Quincy Jones\, Scott Sanders\, Steven Spielberg and Oprah Winfrey. \nAudrey Shakir is a jazz-pop vocalist extraordinaire and dubbed Atlanta’s First Lady of Jazz. She has entertained throughout the United States and internationally. Her scatting talents have been compared to the great Ella Fitzgerald\, and she brings a remarkable jazz influence to all the material she performs. \nShowtimes: 7:30pm & 9:30pm
URL:https://notoriousjazz.com/event/the-terence-harper-project-featuring-audrey-shakir
LOCATION:The Velvet Note\, 4075 Old Milton Parkway\, Alpharetta\, GA\, 30005\, United States
CATEGORIES:Club
ATTACH;FMTTYPE=image/png:https://notoriousjazz.com/wp-content/uploads/2023/06/SHAKIR-HARPER.png
END:VEVENT
END:VCALENDAR