BEGIN:VCALENDAR
VERSION:2.0
PRODID:-//Notorious Jazz - ECPv6.15.17//NONSGML v1.0//EN
CALSCALE:GREGORIAN
METHOD:PUBLISH
X-ORIGINAL-URL:https://notoriousjazz.com
X-WR-CALDESC:Events for Notorious Jazz
REFRESH-INTERVAL;VALUE=DURATION:PT1H
X-Robots-Tag:noindex
X-PUBLISHED-TTL:PT1H
BEGIN:VTIMEZONE
TZID:America/New_York
BEGIN:DAYLIGHT
TZOFFSETFROM:-0500
TZOFFSETTO:-0400
TZNAME:EDT
DTSTART:20220313T070000
END:DAYLIGHT
BEGIN:STANDARD
TZOFFSETFROM:-0400
TZOFFSETTO:-0500
TZNAME:EST
DTSTART:20221106T060000
END:STANDARD
BEGIN:DAYLIGHT
TZOFFSETFROM:-0500
TZOFFSETTO:-0400
TZNAME:EDT
DTSTART:20230312T070000
END:DAYLIGHT
BEGIN:STANDARD
TZOFFSETFROM:-0400
TZOFFSETTO:-0500
TZNAME:EST
DTSTART:20231105T060000
END:STANDARD
BEGIN:DAYLIGHT
TZOFFSETFROM:-0500
TZOFFSETTO:-0400
TZNAME:EDT
DTSTART:20240310T070000
END:DAYLIGHT
BEGIN:STANDARD
TZOFFSETFROM:-0400
TZOFFSETTO:-0500
TZNAME:EST
DTSTART:20241103T060000
END:STANDARD
END:VTIMEZONE
BEGIN:VEVENT
DTSTART;TZID=America/New_York:20230701T180000
DTEND;TZID=America/New_York:20230701T213000
DTSTAMP:20260421T012110
CREATED:20230701T203534Z
LAST-MODIFIED:20230701T203534Z
UID:36027-1688234400-1688247000@notoriousjazz.com
SUMMARY:JOE GRANSDEN
DESCRIPTION:At 50 Years old\, Joe Gransden has already performed worldwide and released 17 CDs under his own name. Renowned first for the hard bop approach of his trumpet\, Gransden’s singing voice has been compared to that of Chet Baker and Frank Sinatra. Joe is from just north of Manhattan\, New York. Coming from a family full of musicians\, Joe’s introduction to music came early on through his father\, a gifted singer and pianist.  His grandfather was a trumpeter of merit\, playing professionally his whole life throughout New York. On his mother’s side of the family was the piano virtuoso Carmen Cavallero. \nA widening schedule has found Joe performing the 1st and 3rd Mondays of every month at Café 290 in Atlanta w/his 16 Piece Big Band \, The Blue Note in New York City\, The Jazz Corner in Hilton Head SC\, The Ritz-Carlton at Reynolds Plantation W/Michael Fienstein\, The Museum of Art and Design in midtown Manhattan\, Spivey Hall in Atlanta\, Ga and Tehema Golf Club in Carmel\, California (where Joe plays occasional events for Clint Eastwood). Joe also released his cd “Close To My Heart” produced by Saxophone great Kenny G. The cd is a collection of smooth jazz covers and originals written by Joe and Kenny. His project entitled “Songs of Sinatra & Friends” features Joe w/his 16 piece Big Band & Strings Celebrating the music of Frank Sinatra!  The CD and has been getting great reviews and lots of airplay around the country.
URL:https://notoriousjazz.com/event/joe-gransden-2
LOCATION:Middle C Jazz\, 300 South Brevard Street\, Charlotte\, NC\, 28202\, United States
CATEGORIES:Club
ATTACH;FMTTYPE=image/jpeg:https://notoriousjazz.com/wp-content/uploads/2023/07/JOE-GRANSDEN.jpg
END:VEVENT
END:VCALENDAR