BEGIN:VCALENDAR
VERSION:2.0
PRODID:-//Notorious Jazz - ECPv6.15.17//NONSGML v1.0//EN
CALSCALE:GREGORIAN
METHOD:PUBLISH
X-WR-CALNAME:Notorious Jazz
X-ORIGINAL-URL:https://notoriousjazz.com
X-WR-CALDESC:Events for Notorious Jazz
REFRESH-INTERVAL;VALUE=DURATION:PT1H
X-Robots-Tag:noindex
X-PUBLISHED-TTL:PT1H
BEGIN:VTIMEZONE
TZID:America/New_York
BEGIN:DAYLIGHT
TZOFFSETFROM:-0500
TZOFFSETTO:-0400
TZNAME:EDT
DTSTART:20220313T070000
END:DAYLIGHT
BEGIN:STANDARD
TZOFFSETFROM:-0400
TZOFFSETTO:-0500
TZNAME:EST
DTSTART:20221106T060000
END:STANDARD
BEGIN:DAYLIGHT
TZOFFSETFROM:-0500
TZOFFSETTO:-0400
TZNAME:EDT
DTSTART:20230312T070000
END:DAYLIGHT
BEGIN:STANDARD
TZOFFSETFROM:-0400
TZOFFSETTO:-0500
TZNAME:EST
DTSTART:20231105T060000
END:STANDARD
BEGIN:DAYLIGHT
TZOFFSETFROM:-0500
TZOFFSETTO:-0400
TZNAME:EDT
DTSTART:20240310T070000
END:DAYLIGHT
BEGIN:STANDARD
TZOFFSETFROM:-0400
TZOFFSETTO:-0500
TZNAME:EST
DTSTART:20241103T060000
END:STANDARD
END:VTIMEZONE
BEGIN:VEVENT
DTSTART;TZID=America/New_York:20230719T193000
DTEND;TZID=America/New_York:20230719T230000
DTSTAMP:20260421T011952
CREATED:20230630T194718Z
LAST-MODIFIED:20230630T195205Z
UID:35995-1689795000-1689807600@notoriousjazz.com
SUMMARY:JAURON PERRY
DESCRIPTION:Jauron Perry\, is a rising Detroit-Native Jazz Trumpeter\, Composer\, and Bandleader\, currently a first year undergraduate studying jazz performance at Michigan State University’s College of Music. Selected as the Next Generation of Talent award recipient\, Jauron has quickly gained much experience performing        and working with Detroit jazz masters such as Rodney Whitaker\, Dwight Adams\, James Carter\, Dee Dee Bridgewater\, Vincent Chandler\, Kris Johnson\, Diego Rivera\, Sean Dobbins\, Wendell Harrison\, Marion Hayden\, and Regina Carter\, just to name a few. Other sensations outside of his hometown include Etienne Charles\, Wynton Marsalis\, Marcus Printup\, Walter Blanding\, Jerome Jennings\, Tim Warfield\, Helen Sung\, and Jeff Hamilton. \nJauron has also been featured in popular events such as the Detroit Jazz Festival\, Michigan Jazz Festival\, African World Festival\, East Lansing Summer Solstice Jazz Festival\, and as of\nrecent\, the Jack Rudin Jazz Championship at Jazz at Lincoln Center with MSU’s Jazz Orchestra 1. From his experience has come his reputation for being vastly knowledgeable\, passionate\, and mature about his craft for his age. He has been said\, according to Kris Johnson\, to be a “natural leader who searches for new ways to make personal connections with the music”. Having graduated from the acclaimed Detroit School of Arts High School\, known for producing popular artists such as Aaliyah\, and even the vibrant Endea Owens\, a strong foundation and seriousness was established for Jauron early on through effective exposure and world-class mentorship. In addition to his performance endeavors\, Jauron also works as a\nyouth mentor and advocate for young people matriculating into the arts and entertainment industry. \nHe is currently constructing his own original compositions and aspires to lead bands of varying styles and sizes from small group to big band and straight ahead jazz to funk and fusion to perform across numerous venues around the country and internationally. Jauron desires to spread a message of unity\, diversity\, and awareness through his music\, honor the tradition by highlighting the great eras of jazz and pay tribute to legends and his mentors\, and include relevant themes in how he approaches performing even jazz classics through the lens of today’s world. \nShowtimes: 7:30p | 9:30p
URL:https://notoriousjazz.com/event/jauron-perry
LOCATION:Cliff Bell’s\, 2030 Park Avenue\, Detroit\, MI\, 48226\, United States
CATEGORIES:Club
ATTACH;FMTTYPE=image/jpeg:https://notoriousjazz.com/wp-content/uploads/2023/06/JAURON-PERRY.jpg
END:VEVENT
END:VCALENDAR