BEGIN:VCALENDAR
VERSION:2.0
PRODID:-//Notorious Jazz - ECPv6.15.17//NONSGML v1.0//EN
CALSCALE:GREGORIAN
METHOD:PUBLISH
X-WR-CALNAME:Notorious Jazz
X-ORIGINAL-URL:https://notoriousjazz.com
X-WR-CALDESC:Events for Notorious Jazz
REFRESH-INTERVAL;VALUE=DURATION:PT1H
X-Robots-Tag:noindex
X-PUBLISHED-TTL:PT1H
BEGIN:VTIMEZONE
TZID:America/New_York
BEGIN:DAYLIGHT
TZOFFSETFROM:-0500
TZOFFSETTO:-0400
TZNAME:EDT
DTSTART:20220313T070000
END:DAYLIGHT
BEGIN:STANDARD
TZOFFSETFROM:-0400
TZOFFSETTO:-0500
TZNAME:EST
DTSTART:20221106T060000
END:STANDARD
BEGIN:DAYLIGHT
TZOFFSETFROM:-0500
TZOFFSETTO:-0400
TZNAME:EDT
DTSTART:20230312T070000
END:DAYLIGHT
BEGIN:STANDARD
TZOFFSETFROM:-0400
TZOFFSETTO:-0500
TZNAME:EST
DTSTART:20231105T060000
END:STANDARD
BEGIN:DAYLIGHT
TZOFFSETFROM:-0500
TZOFFSETTO:-0400
TZNAME:EDT
DTSTART:20240310T070000
END:DAYLIGHT
BEGIN:STANDARD
TZOFFSETFROM:-0400
TZOFFSETTO:-0500
TZNAME:EST
DTSTART:20241103T060000
END:STANDARD
END:VTIMEZONE
BEGIN:VEVENT
DTSTART;TZID=America/New_York:20230910T080000
DTEND;TZID=America/New_York:20230910T170000
DTSTAMP:20260420T201404
CREATED:20230910T043226Z
LAST-MODIFIED:20230910T161222Z
UID:37007-1694332800-1694365200@notoriousjazz.com
SUMMARY:EDDIE HENDERSON QUINTET
DESCRIPTION:Witness to History Record Release!\n\n“His musical wisdom\, gleaned during decades spent on the best jazz bandstands\, informs every unerring note.” – Downbeat. Eddie Henderson – trumpet Donald Harrison – alto saxophone George Cables – piano Gerald Cannon – bass Lenny White – drums Trumpeter Eddie Henderson celebrates the release of a highly anticipated new recording\, Witness to History\, that reflects on his incredible life in music and whose arrival coincides with the 50th anniversary of his 1973 recording debut as a leader\, Realization. \nJoining Henderson for these release performances is the spectacular quintet of his closest collaborators that he convened for the recording\, including alto saxophonist Donald Harrison\, pianist George Cables\, bassist Gerald Cannon\, and drummer Lenny White. Henderson’s “deft feel and plush sound made him a central figure in the worlds of jazz-funk and hard-bop in the 1970s\,” according to The New York Times. The Chicago Reader adds\, “His progressive\, assured\, and imaginative improvisations roll out in a glorious sun-splashed tone… he seems to dance through his solos\, balancing his quick clockwork technique with bursts of bluesy soul.” The eternally youthful Henderson has proven again that he is still making some of the most important music of his career into his 80s.
URL:https://notoriousjazz.com/event/eddie-henderson-quintet
LOCATION:Smoke Jazz & Supper Club\, 2751 Broadway\, New York City\, NY\, 10025\, United States
CATEGORIES:Club
ATTACH;FMTTYPE=image/jpeg:https://notoriousjazz.com/wp-content/uploads/2023/09/EDDIE-HENDERSON.jpeg
END:VEVENT
END:VCALENDAR