BEGIN:VCALENDAR
VERSION:2.0
PRODID:-//Notorious Jazz - ECPv6.15.17//NONSGML v1.0//EN
CALSCALE:GREGORIAN
METHOD:PUBLISH
X-ORIGINAL-URL:https://notoriousjazz.com
X-WR-CALDESC:Events for Notorious Jazz
REFRESH-INTERVAL;VALUE=DURATION:PT1H
X-Robots-Tag:noindex
X-PUBLISHED-TTL:PT1H
BEGIN:VTIMEZONE
TZID:America/Los_Angeles
BEGIN:DAYLIGHT
TZOFFSETFROM:-0800
TZOFFSETTO:-0700
TZNAME:PDT
DTSTART:20220313T100000
END:DAYLIGHT
BEGIN:STANDARD
TZOFFSETFROM:-0700
TZOFFSETTO:-0800
TZNAME:PST
DTSTART:20221106T090000
END:STANDARD
BEGIN:DAYLIGHT
TZOFFSETFROM:-0800
TZOFFSETTO:-0700
TZNAME:PDT
DTSTART:20230312T100000
END:DAYLIGHT
BEGIN:STANDARD
TZOFFSETFROM:-0700
TZOFFSETTO:-0800
TZNAME:PST
DTSTART:20231105T090000
END:STANDARD
BEGIN:DAYLIGHT
TZOFFSETFROM:-0800
TZOFFSETTO:-0700
TZNAME:PDT
DTSTART:20240310T100000
END:DAYLIGHT
BEGIN:STANDARD
TZOFFSETFROM:-0700
TZOFFSETTO:-0800
TZNAME:PST
DTSTART:20241103T090000
END:STANDARD
END:VTIMEZONE
BEGIN:VEVENT
DTSTART;TZID=America/Los_Angeles:20230911T180000
DTEND;TZID=America/Los_Angeles:20230911T213000
DTSTAMP:20260420T201537
CREATED:20230910T035923Z
LAST-MODIFIED:20230910T041428Z
UID:36996-1694455200-1694467800@notoriousjazz.com
SUMMARY:PABLO RIVAROLA QUARTET
DESCRIPTION:A true visionary. Trumpeter and composer\, Pablo Rivarola is bringing his band back to The 1905 for an evening of all new original music featuring Portland’s most forward-thinking musicians at his side. True improvisation is at the core of his ethos in this unique experience. \nPablo Rivarola\, Trumpet | Kerry Politzer\, Piano | Garrett Baxter\, Bass | Alan Jones\, Drums
URL:https://notoriousjazz.com/event/pablo-rivarola-quartet
LOCATION:The 1905\, 830 N Shaver Sreet\, Portland\, OR\, 97227\, United States
CATEGORIES:Club
ATTACH;FMTTYPE=image/jpeg:https://notoriousjazz.com/wp-content/uploads/2023/09/PABLO-RIVAROLA.jpeg
END:VEVENT
END:VCALENDAR