BEGIN:VCALENDAR
VERSION:2.0
PRODID:-//Notorious Jazz - ECPv6.15.17//NONSGML v1.0//EN
CALSCALE:GREGORIAN
METHOD:PUBLISH
X-WR-CALNAME:Notorious Jazz
X-ORIGINAL-URL:https://notoriousjazz.com
X-WR-CALDESC:Events for Notorious Jazz
REFRESH-INTERVAL;VALUE=DURATION:PT1H
X-Robots-Tag:noindex
X-PUBLISHED-TTL:PT1H
BEGIN:VTIMEZONE
TZID:America/New_York
BEGIN:DAYLIGHT
TZOFFSETFROM:-0500
TZOFFSETTO:-0400
TZNAME:EDT
DTSTART:20230312T070000
END:DAYLIGHT
BEGIN:STANDARD
TZOFFSETFROM:-0400
TZOFFSETTO:-0500
TZNAME:EST
DTSTART:20231105T060000
END:STANDARD
BEGIN:DAYLIGHT
TZOFFSETFROM:-0500
TZOFFSETTO:-0400
TZNAME:EDT
DTSTART:20240310T070000
END:DAYLIGHT
BEGIN:STANDARD
TZOFFSETFROM:-0400
TZOFFSETTO:-0500
TZNAME:EST
DTSTART:20241103T060000
END:STANDARD
BEGIN:DAYLIGHT
TZOFFSETFROM:-0500
TZOFFSETTO:-0400
TZNAME:EDT
DTSTART:20250309T070000
END:DAYLIGHT
BEGIN:STANDARD
TZOFFSETFROM:-0400
TZOFFSETTO:-0500
TZNAME:EST
DTSTART:20251102T060000
END:STANDARD
END:VTIMEZONE
BEGIN:VEVENT
DTSTART;TZID=America/New_York:20240427T200000
DTEND;TZID=America/New_York:20240427T230000
DTSTAMP:20260420T060119
CREATED:20240324T161323Z
LAST-MODIFIED:20240324T161323Z
UID:39923-1714248000-1714258800@notoriousjazz.com
SUMMARY:AHMED ABDULLAH
DESCRIPTION:The trumpeter performed in New York’s loft scene with various groups including the Melodic Art-Tet (Charles Brackeen\, Roger Blank and Ronnie Boykins\, later William Parker). Ahmed Abdullah formed his own band in 1972\, and joined the Sun Ra Arkestra in 1975\, working there on and off until 1993\, when Sun Ra died. He stayed on with the Arkestra after Sun Ra’s demise working under the leadership of John Gilmore and then Marshall Allen. During his time with the Arkestra\, Abdullah participated in more than 25 recordings and traveled extensively with Sun Ra. After leaving the Arkestra\, Abdullah wrote memoirs of his time with that organization. In 2002\, Ahmed began teaching a course on the Music and Philosophy of Sun Ra at the New School for Jazz and Contemporary Music.
URL:https://notoriousjazz.com/event/ahmed-abdullah
LOCATION:Sistas’ Place\, 456 Nostrand Avenue\, Brooklyn\, NY\, 11216\, United States
CATEGORIES:Club
ATTACH;FMTTYPE=image/jpeg:https://notoriousjazz.com/wp-content/uploads/2024/03/AHMED-ABDULLAH.jpg
END:VEVENT
END:VCALENDAR