BEGIN:VCALENDAR
VERSION:2.0
PRODID:-//Notorious Jazz - ECPv6.15.17//NONSGML v1.0//EN
CALSCALE:GREGORIAN
METHOD:PUBLISH
X-ORIGINAL-URL:https://notoriousjazz.com
X-WR-CALDESC:Events for Notorious Jazz
REFRESH-INTERVAL;VALUE=DURATION:PT1H
X-Robots-Tag:noindex
X-PUBLISHED-TTL:PT1H
BEGIN:VTIMEZONE
TZID:America/New_York
BEGIN:DAYLIGHT
TZOFFSETFROM:-0500
TZOFFSETTO:-0400
TZNAME:EDT
DTSTART:20230312T070000
END:DAYLIGHT
BEGIN:STANDARD
TZOFFSETFROM:-0400
TZOFFSETTO:-0500
TZNAME:EST
DTSTART:20231105T060000
END:STANDARD
BEGIN:DAYLIGHT
TZOFFSETFROM:-0500
TZOFFSETTO:-0400
TZNAME:EDT
DTSTART:20240310T070000
END:DAYLIGHT
BEGIN:STANDARD
TZOFFSETFROM:-0400
TZOFFSETTO:-0500
TZNAME:EST
DTSTART:20241103T060000
END:STANDARD
BEGIN:DAYLIGHT
TZOFFSETFROM:-0500
TZOFFSETTO:-0400
TZNAME:EDT
DTSTART:20250309T070000
END:DAYLIGHT
BEGIN:STANDARD
TZOFFSETFROM:-0400
TZOFFSETTO:-0500
TZNAME:EST
DTSTART:20251102T060000
END:STANDARD
END:VTIMEZONE
BEGIN:VEVENT
DTSTART;TZID=America/New_York:20240809T183000
DTEND;TZID=America/New_York:20240809T220000
DTSTAMP:20260419T231740
CREATED:20240803T222819Z
LAST-MODIFIED:20240803T222917Z
UID:41950-1723228200-1723240800@notoriousjazz.com
SUMMARY:JON BAUER QUARTET
DESCRIPTION:Jonathan Bauer is a multi-talented trumpeter\, singer and composer\, most notably of the Grammy award-winning New Orleans Jazz Orchestra. In 2019\, he burst onto the scene with his highly acclaimed debut album\, “Walk Don’t Run.” Jonathan returns with his sophomore release\, “Sings and Plays”\, introducing him self to the world as part of the rich lineage of trumpeters who front their bands as singers. \n An internationally recognized and touring artist\, Jonathan is widely celebrated for his dark and buttery sound. While earning his Master’s at the University of New Orleans\, Jonathan quickly became arising talent in one of the world’s most important musical communities. He has had the opportunity to study and perform with living legends Nicholas Payton\, Robert Glasper\, Ellis Marsalis and Wendell Brunious among others. A versatile musician\, Jonathan enthusiastically crosses genres performing with R&B titans\, such as Sheila E.\, Ledisi\, and Eric Benét.
URL:https://notoriousjazz.com/event/jon-bauer-quartet
LOCATION:Jazz House Alfie\, 6-2-35 Roppongi\, Minato-Ku\, Tokyo\, Japan
CATEGORIES:Club
ATTACH;FMTTYPE=image/jpeg:https://notoriousjazz.com/wp-content/uploads/2024/08/JON-BAUER-QUARTET.jpg
END:VEVENT
END:VCALENDAR