BEGIN:VCALENDAR
VERSION:2.0
PRODID:-//Notorious Jazz - ECPv6.15.17//NONSGML v1.0//EN
CALSCALE:GREGORIAN
METHOD:PUBLISH
X-ORIGINAL-URL:https://notoriousjazz.com
X-WR-CALDESC:Events for Notorious Jazz
REFRESH-INTERVAL;VALUE=DURATION:PT1H
X-Robots-Tag:noindex
X-PUBLISHED-TTL:PT1H
BEGIN:VTIMEZONE
TZID:America/New_York
BEGIN:DAYLIGHT
TZOFFSETFROM:-0500
TZOFFSETTO:-0400
TZNAME:EDT
DTSTART:20230312T070000
END:DAYLIGHT
BEGIN:STANDARD
TZOFFSETFROM:-0400
TZOFFSETTO:-0500
TZNAME:EST
DTSTART:20231105T060000
END:STANDARD
BEGIN:DAYLIGHT
TZOFFSETFROM:-0500
TZOFFSETTO:-0400
TZNAME:EDT
DTSTART:20240310T070000
END:DAYLIGHT
BEGIN:STANDARD
TZOFFSETFROM:-0400
TZOFFSETTO:-0500
TZNAME:EST
DTSTART:20241103T060000
END:STANDARD
BEGIN:DAYLIGHT
TZOFFSETFROM:-0500
TZOFFSETTO:-0400
TZNAME:EDT
DTSTART:20250309T070000
END:DAYLIGHT
BEGIN:STANDARD
TZOFFSETFROM:-0400
TZOFFSETTO:-0500
TZNAME:EST
DTSTART:20251102T060000
END:STANDARD
END:VTIMEZONE
BEGIN:VEVENT
DTSTART;TZID=America/New_York:20240810T193000
DTEND;TZID=America/New_York:20240810T210000
DTSTAMP:20260419T231744
CREATED:20240803T215537Z
LAST-MODIFIED:20240803T215610Z
UID:41946-1723318200-1723323600@notoriousjazz.com
SUMMARY:MIKE VAX QUINTET FEATURING DENNIS ROWLAND
DESCRIPTION:Mike Vax played with Art Pepper\, Freddie Hubbard\, Clark Terry\, and the Glen Miller and Jimmy Dorsey Orchestras. But he is acclaimed as the first trumpet and co-leader of the historic “ahead of its time” Stan Kenton Orchestra and the ongoing Stan Kenton Alumni Band. \n\nDennis Rowland was the vocalist with the original Count Basie Orchestra for the from 1977 to until the Count’s passing in 1983\, after which Dennis has had an illustrious solo career that included tours in Russia and several albums as a Concord Jazz Recording Artist. \nMike Vax-trumpet\, Tony Vacca-sax/flute\, Joel Robin-piano\, Howard Alden-guitar\,  Selwyn Reams-bass\, Van Katz-drums\, with Dennis Rowland-vocals
URL:https://notoriousjazz.com/event/mike-vax-quintet-featuring-dennis-rowland
LOCATION:The Nash\, 110 E. Roosevelt Street\, Phoenix\, AZ\, 85004\, United States
CATEGORIES:Club
ATTACH;FMTTYPE=image/png:https://notoriousjazz.com/wp-content/uploads/2024/08/MIKE-VAX-DENNIS-ROWLAND.png
END:VEVENT
END:VCALENDAR