BEGIN:VCALENDAR
VERSION:2.0
PRODID:-//Notorious Jazz - ECPv6.15.17//NONSGML v1.0//EN
CALSCALE:GREGORIAN
METHOD:PUBLISH
X-ORIGINAL-URL:https://notoriousjazz.com
X-WR-CALDESC:Events for Notorious Jazz
REFRESH-INTERVAL;VALUE=DURATION:PT1H
X-Robots-Tag:noindex
X-PUBLISHED-TTL:PT1H
BEGIN:VTIMEZONE
TZID:America/New_York
BEGIN:DAYLIGHT
TZOFFSETFROM:-0500
TZOFFSETTO:-0400
TZNAME:EDT
DTSTART:20230312T070000
END:DAYLIGHT
BEGIN:STANDARD
TZOFFSETFROM:-0400
TZOFFSETTO:-0500
TZNAME:EST
DTSTART:20231105T060000
END:STANDARD
BEGIN:DAYLIGHT
TZOFFSETFROM:-0500
TZOFFSETTO:-0400
TZNAME:EDT
DTSTART:20240310T070000
END:DAYLIGHT
BEGIN:STANDARD
TZOFFSETFROM:-0400
TZOFFSETTO:-0500
TZNAME:EST
DTSTART:20241103T060000
END:STANDARD
BEGIN:DAYLIGHT
TZOFFSETFROM:-0500
TZOFFSETTO:-0400
TZNAME:EDT
DTSTART:20250309T070000
END:DAYLIGHT
BEGIN:STANDARD
TZOFFSETFROM:-0400
TZOFFSETTO:-0500
TZNAME:EST
DTSTART:20251102T060000
END:STANDARD
END:VTIMEZONE
BEGIN:VEVENT
DTSTART;TZID=America/New_York:20241121T193000
DTEND;TZID=America/New_York:20241121T210000
DTSTAMP:20260419T184623
CREATED:20241120T194047Z
LAST-MODIFIED:20241120T194047Z
UID:43547-1732217400-1732222800@notoriousjazz.com
SUMMARY:WYCLIFFE GORDON & FROST STUDIO JAZZ BAND
DESCRIPTION:Highly acclaimed musician Wycliffe Gordon enjoys an extraordinary career as a soloist\, as well as performing and touring with some of the world’s most sought-after jazz musicians. His high-energy\, traditional hard-swinging style captivates audiences across time–performing for dignitaries and heads- of-state to elementary school children. He is equally at home as a composer\, arranger and recording artist with over 50 recordings to his credit\, 24 of which he is leader or co-leader. He is one of America’s foremost music educators and currently serves as full time director of jazz studies at Augusta University and travels all over the world giving masterclasses and performances with college and university ensembles. \nPresenting Oscar Micheaux’s silent race film Within Our Gates\, synchronized with Wycliffe Gordon’s original score\, “Within These Gates of Mine.” This event powerfully fuses history and music\, highlighting the earliest surviving film by an African-American filmmaker. Within Our Gates is a dark and emotional indictment of American racial injustices. The concert features Gordon\, Etienne Charles\, a 20-piece jazz orchestra\, and vocalists. \nTickets: $15.00~$40.00
URL:https://notoriousjazz.com/event/wycliffe-gordon-frost-studio-jazz-band
LOCATION:Gusman Concert Hall\, 1314 Miller Drive\, Coral Gables\, FL\, 33146\, United States
CATEGORIES:Concert
ATTACH;FMTTYPE=image/png:https://notoriousjazz.com/wp-content/uploads/2023/08/WYCLIFFE-GORDON.png
END:VEVENT
END:VCALENDAR