BEGIN:VCALENDAR
VERSION:2.0
PRODID:-//Notorious Jazz - ECPv6.15.17//NONSGML v1.0//EN
CALSCALE:GREGORIAN
METHOD:PUBLISH
X-ORIGINAL-URL:https://notoriousjazz.com
X-WR-CALDESC:Events for Notorious Jazz
REFRESH-INTERVAL;VALUE=DURATION:PT1H
X-Robots-Tag:noindex
X-PUBLISHED-TTL:PT1H
BEGIN:VTIMEZONE
TZID:America/Vancouver
BEGIN:DAYLIGHT
TZOFFSETFROM:-0800
TZOFFSETTO:-0700
TZNAME:PDT
DTSTART:20240310T100000
END:DAYLIGHT
BEGIN:STANDARD
TZOFFSETFROM:-0700
TZOFFSETTO:-0800
TZNAME:PST
DTSTART:20241103T090000
END:STANDARD
BEGIN:DAYLIGHT
TZOFFSETFROM:-0800
TZOFFSETTO:-0700
TZNAME:PDT
DTSTART:20250309T100000
END:DAYLIGHT
BEGIN:STANDARD
TZOFFSETFROM:-0700
TZOFFSETTO:-0800
TZNAME:PST
DTSTART:20251102T090000
END:STANDARD
BEGIN:DAYLIGHT
TZOFFSETFROM:-0800
TZOFFSETTO:-0700
TZNAME:PDT
DTSTART:20260308T100000
END:DAYLIGHT
BEGIN:STANDARD
TZOFFSETFROM:-0700
TZOFFSETTO:-0800
TZNAME:PST
DTSTART:20261101T090000
END:STANDARD
END:VTIMEZONE
BEGIN:VEVENT
DTSTART;TZID=America/Vancouver:20250109T200000
DTEND;TZID=America/Vancouver:20250109T213000
DTSTAMP:20260419T154110
CREATED:20250105T215909Z
LAST-MODIFIED:20250105T223546Z
UID:44084-1736452800-1736458200@notoriousjazz.com
SUMMARY:CYRUS NABIPOOR
DESCRIPTION:Oregon trumpeter Cyrus Nabipoor on his West Coast ‘Known Entity’ tour is a distinctive voice both on the horn and in his songwriting\, His singular sound has garnered him international acclaim. He has been a featured festival artist at PDX Jazz\, Cathedral Park\, Montavilla Jazz\, New Orleans French Quarter\, and Chicago Instigation. \nTo date\, he has released 2 albums under his own name\, and collaborated on numerous more. Cyrus has served on faculty at Loyola University New Orleans. He is an artist-in-residence at multiple Portland Public Schools\, and runs a private trumpet studio. \nCover Charge: $18.00~$23.00
URL:https://notoriousjazz.com/event/44084
LOCATION:Frankie’s Jazz Club\, 755 Beatty Street\, Vancouver\, British Columbia\, V6B 2M4\, Canada
CATEGORIES:Club
ATTACH;FMTTYPE=image/png:https://notoriousjazz.com/wp-content/uploads/2025/01/CYRUS-NABIPOOR.png
END:VEVENT
END:VCALENDAR