BEGIN:VCALENDAR
VERSION:2.0
PRODID:-//Notorious Jazz - ECPv6.15.17//NONSGML v1.0//EN
CALSCALE:GREGORIAN
METHOD:PUBLISH
X-WR-CALNAME:Notorious Jazz
X-ORIGINAL-URL:https://notoriousjazz.com
X-WR-CALDESC:Events for Notorious Jazz
REFRESH-INTERVAL;VALUE=DURATION:PT1H
X-Robots-Tag:noindex
X-PUBLISHED-TTL:PT1H
BEGIN:VTIMEZONE
TZID:America/New_York
BEGIN:DAYLIGHT
TZOFFSETFROM:-0500
TZOFFSETTO:-0400
TZNAME:EDT
DTSTART:20240310T070000
END:DAYLIGHT
BEGIN:STANDARD
TZOFFSETFROM:-0400
TZOFFSETTO:-0500
TZNAME:EST
DTSTART:20241103T060000
END:STANDARD
BEGIN:DAYLIGHT
TZOFFSETFROM:-0500
TZOFFSETTO:-0400
TZNAME:EDT
DTSTART:20250309T070000
END:DAYLIGHT
BEGIN:STANDARD
TZOFFSETFROM:-0400
TZOFFSETTO:-0500
TZNAME:EST
DTSTART:20251102T060000
END:STANDARD
BEGIN:DAYLIGHT
TZOFFSETFROM:-0500
TZOFFSETTO:-0400
TZNAME:EDT
DTSTART:20260308T070000
END:DAYLIGHT
BEGIN:STANDARD
TZOFFSETFROM:-0400
TZOFFSETTO:-0500
TZNAME:EST
DTSTART:20261101T060000
END:STANDARD
END:VTIMEZONE
BEGIN:VEVENT
DTSTART;TZID=America/New_York:20250202T193000
DTEND;TZID=America/New_York:20250202T210000
DTSTAMP:20260419T135834
CREATED:20250126T172832Z
LAST-MODIFIED:20250126T183531Z
UID:44371-1738524600-1738530000@notoriousjazz.com
SUMMARY:CHRIS BOTTI
DESCRIPTION:In 2013\, trumpeter and composer Botti won the Grammy Award in the Best Pop Instrumental Album category\, for the album Impressions. He was also nominated in 2008 for his album Italia and received three nominations in 2010 for the live album Chris Botti in Boston. Four of his albums have reached the No. 1 position on the Billboard jazz albums chart. \nComing to prominence with the 2001 recording of his Night Sessions album\, Botti established a reputation as a versatile musician in both jazz and pop music for his ability to fuse both styles together. \nTickets: $58.00 ~ $104.00
URL:https://notoriousjazz.com/event/chris-botti-3
LOCATION:The Parker\, 707 NE 8th St\, \, FL\, Fort Lauderdale\, FL\, 33304\, United States
CATEGORIES:Playhouse
ATTACH;FMTTYPE=image/png:https://notoriousjazz.com/wp-content/uploads/2025/01/CHRIS-BOTTI-@-THE-PARKER.png
END:VEVENT
END:VCALENDAR