BEGIN:VCALENDAR
VERSION:2.0
PRODID:-//Notorious Jazz - ECPv6.15.17//NONSGML v1.0//EN
CALSCALE:GREGORIAN
METHOD:PUBLISH
X-ORIGINAL-URL:https://notoriousjazz.com
X-WR-CALDESC:Events for Notorious Jazz
REFRESH-INTERVAL;VALUE=DURATION:PT1H
X-Robots-Tag:noindex
X-PUBLISHED-TTL:PT1H
BEGIN:VTIMEZONE
TZID:America/New_York
BEGIN:DAYLIGHT
TZOFFSETFROM:-0500
TZOFFSETTO:-0400
TZNAME:EDT
DTSTART:20240310T070000
END:DAYLIGHT
BEGIN:STANDARD
TZOFFSETFROM:-0400
TZOFFSETTO:-0500
TZNAME:EST
DTSTART:20241103T060000
END:STANDARD
BEGIN:DAYLIGHT
TZOFFSETFROM:-0500
TZOFFSETTO:-0400
TZNAME:EDT
DTSTART:20250309T070000
END:DAYLIGHT
BEGIN:STANDARD
TZOFFSETFROM:-0400
TZOFFSETTO:-0500
TZNAME:EST
DTSTART:20251102T060000
END:STANDARD
BEGIN:DAYLIGHT
TZOFFSETFROM:-0500
TZOFFSETTO:-0400
TZNAME:EDT
DTSTART:20260308T070000
END:DAYLIGHT
BEGIN:STANDARD
TZOFFSETFROM:-0400
TZOFFSETTO:-0500
TZNAME:EST
DTSTART:20261101T060000
END:STANDARD
END:VTIMEZONE
BEGIN:VEVENT
DTSTART;TZID=America/New_York:20250204T180000
DTEND;TZID=America/New_York:20250204T213000
DTSTAMP:20260419T135937
CREATED:20250203T011241Z
LAST-MODIFIED:20250203T011241Z
UID:44479-1738692000-1738704600@notoriousjazz.com
SUMMARY:ABNEY EFFECT
DESCRIPTION:Chicago born and raised jazz trumpeter Mario Abney\, now of New Orleans\, fuses traditional and extended trumpet techniques in a most inventive way; his strikingly personal instrumental vision endows the music with an infinite array of tonal color. Recognized for his ability to create pure musical dialog\, and hear music in a universally spiritual way\, he is definitely one of New Orleans most pioneering young jazz musicians. \nMarioʼs first experience hearing jazz was the music of trumpeter Wynton Marsalis. After jazz trumpet peaked his interest in music Mario began to absorb the music of Louis Armstrong\, Dizzy Gillespie\, Miles Davis\, and all the great trumpeters who pioneered the music. \nWith a band scholarship in hand\, Mario attended Central State University\, Ohio\, majoring in Music Education with a minor in jazz studies. “During my college years I became involved in the jazz scene in Dayton playing trumpet in several professional ensembles such as the Afro-Cuban Jazz ensemble\, Babalu\, the Chicago based House of Twang\, The Afro-Rican Ensemble\, SYM\, and several other ensembles. In 2001\, after several years of playing as a side man Abney was inspired to lead his own Quintet. During a performance at the Dayton RiverWalk festival in 2007 Mario became interested in going to New Orleans after hearing the Hot 8 Brass Band perform. By spring of 2008 Abney and two members from his quintet moved to New Orleans to absorb its rich musical culture and become part of the music scene. \nCover: $15.00
URL:https://notoriousjazz.com/event/abney-effect
LOCATION:Andy’s\, 11 E Hubbard Street\, Chicago\, IL\, 60611\, United States
CATEGORIES:Club
ATTACH;FMTTYPE=image/png:https://notoriousjazz.com/wp-content/uploads/2025/02/ABNEY-EFFECT-@-ANDYS.png
END:VEVENT
END:VCALENDAR