BEGIN:VCALENDAR
VERSION:2.0
PRODID:-//Notorious Jazz - ECPv6.15.17//NONSGML v1.0//EN
CALSCALE:GREGORIAN
METHOD:PUBLISH
X-ORIGINAL-URL:https://notoriousjazz.com
X-WR-CALDESC:Events for Notorious Jazz
REFRESH-INTERVAL;VALUE=DURATION:PT1H
X-Robots-Tag:noindex
X-PUBLISHED-TTL:PT1H
BEGIN:VTIMEZONE
TZID:America/Chicago
BEGIN:DAYLIGHT
TZOFFSETFROM:-0600
TZOFFSETTO:-0500
TZNAME:CDT
DTSTART:20210314T080000
END:DAYLIGHT
BEGIN:STANDARD
TZOFFSETFROM:-0500
TZOFFSETTO:-0600
TZNAME:CST
DTSTART:20211107T070000
END:STANDARD
BEGIN:DAYLIGHT
TZOFFSETFROM:-0600
TZOFFSETTO:-0500
TZNAME:CDT
DTSTART:20220313T080000
END:DAYLIGHT
BEGIN:STANDARD
TZOFFSETFROM:-0500
TZOFFSETTO:-0600
TZNAME:CST
DTSTART:20221106T070000
END:STANDARD
BEGIN:DAYLIGHT
TZOFFSETFROM:-0600
TZOFFSETTO:-0500
TZNAME:CDT
DTSTART:20230312T080000
END:DAYLIGHT
BEGIN:STANDARD
TZOFFSETFROM:-0500
TZOFFSETTO:-0600
TZNAME:CST
DTSTART:20231105T070000
END:STANDARD
END:VTIMEZONE
BEGIN:VEVENT
DTSTART;TZID=America/Chicago:20221019T193000
DTEND;TZID=America/Chicago:20221023T230000
DTSTAMP:20260422T184821
CREATED:20220920T205332Z
LAST-MODIFIED:20221012T174850Z
UID:31765-1666207800-1666566000@notoriousjazz.com
SUMMARY:STEFON HARRIS & BLACKOUT
DESCRIPTION:Heralded as “one of the most important artists in jazz” by The LA Times\, Stefon Harris is a recipient of the prestigious Martin E. Segal Award from Lincoln Center and has been named Best Mallet Player eight times by the Jazz Journalist Association. \nValet Parking ~ $10.00 prepaid \nValet parking is available for all Jazz St. Louis performances. Discounted $10 valet parking may be purchased when ordering your tickets. Please make sure to select the correct date and time when adding parking to your cart with your tickets before purchasing. \nPerformances: \nOctober 19 ~ 7:30pm \nOctober 20 ~ 7:30pm \nOctober 21 ~ 7:30 | 9:30 \nOctober 22 ~ 7:30 | 9:30 \nOctober 23 ~ 6:30
URL:https://notoriousjazz.com/event/stefon-harris-blackout
LOCATION:Jazz St. Louis\, 3536 Washington Avenue\, St. Louis\, MO\, 63103\, United States
CATEGORIES:Club
ATTACH;FMTTYPE=image/jpeg:https://notoriousjazz.com/wp-content/uploads/2022/09/STEFON-HARRIS.jpg
END:VEVENT
END:VCALENDAR