BEGIN:VCALENDAR
VERSION:2.0
PRODID:-//Notorious Jazz - ECPv6.15.17//NONSGML v1.0//EN
CALSCALE:GREGORIAN
METHOD:PUBLISH
X-WR-CALNAME:Notorious Jazz
X-ORIGINAL-URL:https://notoriousjazz.com
X-WR-CALDESC:Events for Notorious Jazz
REFRESH-INTERVAL;VALUE=DURATION:PT1H
X-Robots-Tag:noindex
X-PUBLISHED-TTL:PT1H
BEGIN:VTIMEZONE
TZID:America/New_York
BEGIN:DAYLIGHT
TZOFFSETFROM:-0500
TZOFFSETTO:-0400
TZNAME:EDT
DTSTART:20220313T070000
END:DAYLIGHT
BEGIN:STANDARD
TZOFFSETFROM:-0400
TZOFFSETTO:-0500
TZNAME:EST
DTSTART:20221106T060000
END:STANDARD
BEGIN:DAYLIGHT
TZOFFSETFROM:-0500
TZOFFSETTO:-0400
TZNAME:EDT
DTSTART:20230312T070000
END:DAYLIGHT
BEGIN:STANDARD
TZOFFSETFROM:-0400
TZOFFSETTO:-0500
TZNAME:EST
DTSTART:20231105T060000
END:STANDARD
BEGIN:DAYLIGHT
TZOFFSETFROM:-0500
TZOFFSETTO:-0400
TZNAME:EDT
DTSTART:20240310T070000
END:DAYLIGHT
BEGIN:STANDARD
TZOFFSETFROM:-0400
TZOFFSETTO:-0500
TZNAME:EST
DTSTART:20241103T060000
END:STANDARD
END:VTIMEZONE
BEGIN:VEVENT
DTSTART;TZID=America/New_York:20231229T193000
DTEND;TZID=America/New_York:20231229T230000
DTSTAMP:20260421T161817
CREATED:20231211T084052Z
LAST-MODIFIED:20231211T084052Z
UID:38259-1703878200-1703890800@notoriousjazz.com
SUMMARY:JASON MARSALIS VIBES QUARTET
DESCRIPTION:Jason Marsalis is the youngest son of piano patriarch and jazz luminary Ellis Marsalis Jr. and their famous New Orleans music family\, declared “America’s First Family of Jazz” upon the presentation of their NEA Jazz Masters Award in 2011\, the nation’s highest jazz honor. In addition to his renown as a drummer\, Jason is also a respected vibraphonist whose 2018 release “Melody Reimagined” with his 21st Century Trad Jazz Band rose swiftly to the top of the Billboard jazz chart. With a fire in his heart and a passion for the music\, his will to swing has never been more resolute. The maturity and the command Jason possesses over his music is clearly evident to those who have heard or seen him. \nFriday nights were Ellis Marsalis Jr’s regular residential night here at Snug for over 30 years\, and to keep guarding that flame\, we now present members of Ellis’ family\, his personal band\, and mentees from over the years as bandleaders each Friday night. \n\nJason Marsalis Vibes Quartet\nJason Marsalis – vibraphone\nJason Stewart – bass\nOscar Rossignoli – piano\nRicardo Pascal – saxophones
URL:https://notoriousjazz.com/event/jason-marsalis-vibes-quartet
LOCATION:Snug Harbor\, 626 Frenchmen Street\, New Orleans\, LA\, 70116\, United States
CATEGORIES:Club
ATTACH;FMTTYPE=image/png:https://notoriousjazz.com/wp-content/uploads/2023/12/JASON-MARSALIS.png
END:VEVENT
END:VCALENDAR