BEGIN:VCALENDAR
VERSION:2.0
PRODID:-//Notorious Jazz - ECPv6.15.17//NONSGML v1.0//EN
CALSCALE:GREGORIAN
METHOD:PUBLISH
X-WR-CALNAME:Notorious Jazz
X-ORIGINAL-URL:https://notoriousjazz.com
X-WR-CALDESC:Events for Notorious Jazz
REFRESH-INTERVAL;VALUE=DURATION:PT1H
X-Robots-Tag:noindex
X-PUBLISHED-TTL:PT1H
BEGIN:VTIMEZONE
TZID:America/New_York
BEGIN:DAYLIGHT
TZOFFSETFROM:-0500
TZOFFSETTO:-0400
TZNAME:EDT
DTSTART:20230312T070000
END:DAYLIGHT
BEGIN:STANDARD
TZOFFSETFROM:-0400
TZOFFSETTO:-0500
TZNAME:EST
DTSTART:20231105T060000
END:STANDARD
BEGIN:DAYLIGHT
TZOFFSETFROM:-0500
TZOFFSETTO:-0400
TZNAME:EDT
DTSTART:20240310T070000
END:DAYLIGHT
BEGIN:STANDARD
TZOFFSETFROM:-0400
TZOFFSETTO:-0500
TZNAME:EST
DTSTART:20241103T060000
END:STANDARD
BEGIN:DAYLIGHT
TZOFFSETFROM:-0500
TZOFFSETTO:-0400
TZNAME:EDT
DTSTART:20250309T070000
END:DAYLIGHT
BEGIN:STANDARD
TZOFFSETFROM:-0400
TZOFFSETTO:-0500
TZNAME:EST
DTSTART:20251102T060000
END:STANDARD
END:VTIMEZONE
BEGIN:VEVENT
DTSTART;TZID=America/New_York:20241220T200000
DTEND;TZID=America/New_York:20241220T213000
DTSTAMP:20260420T213612
CREATED:20241201T214132Z
LAST-MODIFIED:20241201T214132Z
UID:43652-1734724800-1734730200@notoriousjazz.com
SUMMARY:HENDRIK MEURKENS
DESCRIPTION:Hendrik Meurkens\, a virtuoso on both the chromatic harmonica and the vibraphone\, is the most important jazz harmonica player since Toots Thielemans. A two-mallet player in the tradition of Milt Jackson and Bobby Hutcherson\, Hendrik Meurkens was en-route to being an instantly recognizable vibraphonist when he heard Toots Thielemans. Inspired by the sound of Thielemans’ harmonica\, he taught himself the difficult-to-master instrument. \nHis other life-changing musical experience was his introduction to samba and bossa nova. He was so moved by Brazilian music that after perfecting his unique musical voice at Berklee\, as a vibraphone major\, he moved to Rio in the early 80s to totally immerse himself in music and culture of Brazil. \nWithin ten years\, he had established himself as the “new jazz harmonica voice\,” and moved to New York\, thanks to an exclusive contract with the prestigious label\, Concord Records. He has since recorded fifteen albums\, and continues to perform as both a guest artist\, and with his own groups\, both in festivals and clubs globally. \nHendrik Meurkens’ profound involvement in both jazz and Brazilian music resulted in a very personal and instantly recognizable version of Samba jazz. This music features his harmonica and vibes along with piano\, bass and drums\, playing his stirring originals and arrangements.  \nTickets:  $20 – $45 | $2.33 – $3.56 Fees
URL:https://notoriousjazz.com/event/hendrik-meurkens
LOCATION:The Side Door\, Old Lyme Inn\, 85 Lyme Street\, Old Lyme\, CT\, 06371\, United States
CATEGORIES:Club
ATTACH;FMTTYPE=image/jpeg:https://notoriousjazz.com/wp-content/uploads/2024/12/HENDRIK-MEURKENS.jpg
END:VEVENT
END:VCALENDAR