BEGIN:VCALENDAR
VERSION:2.0
PRODID:-//Notorious Jazz - ECPv6.15.17//NONSGML v1.0//EN
CALSCALE:GREGORIAN
METHOD:PUBLISH
X-ORIGINAL-URL:https://notoriousjazz.com
X-WR-CALDESC:Events for Notorious Jazz
REFRESH-INTERVAL;VALUE=DURATION:PT1H
X-Robots-Tag:noindex
X-PUBLISHED-TTL:PT1H
BEGIN:VTIMEZONE
TZID:America/New_York
BEGIN:DAYLIGHT
TZOFFSETFROM:-0500
TZOFFSETTO:-0400
TZNAME:EDT
DTSTART:20240310T070000
END:DAYLIGHT
BEGIN:STANDARD
TZOFFSETFROM:-0400
TZOFFSETTO:-0500
TZNAME:EST
DTSTART:20241103T060000
END:STANDARD
BEGIN:DAYLIGHT
TZOFFSETFROM:-0500
TZOFFSETTO:-0400
TZNAME:EDT
DTSTART:20250309T070000
END:DAYLIGHT
BEGIN:STANDARD
TZOFFSETFROM:-0400
TZOFFSETTO:-0500
TZNAME:EST
DTSTART:20251102T060000
END:STANDARD
BEGIN:DAYLIGHT
TZOFFSETFROM:-0500
TZOFFSETTO:-0400
TZNAME:EDT
DTSTART:20260308T070000
END:DAYLIGHT
BEGIN:STANDARD
TZOFFSETFROM:-0400
TZOFFSETTO:-0500
TZNAME:EST
DTSTART:20261101T060000
END:STANDARD
END:VTIMEZONE
BEGIN:VEVENT
DTSTART;TZID=America/New_York:20250802T193000
DTEND;TZID=America/New_York:20250802T230000
DTSTAMP:20260420T054758
CREATED:20250727T192211Z
LAST-MODIFIED:20250727T192211Z
UID:46688-1754163000-1754175600@notoriousjazz.com
SUMMARY:EARL PHILIPS BIG BAND
DESCRIPTION:Tribute to Terry Gibbs & His Dream Band | Steve Weiss Mallet Festival) \nEarl Phillips is active as composer/arranger\, educator\, and bass trombonist in the greater Philadelphia area. As a composer/arranger\, Earl directs and writes for the Earl Phillips Big Band and has led his own 17-piece big band since 2007. \nAs an educator\, Earl is the Professor of Jazz Trombone and a member of the Composition / Arranging faculty at Rowan University.  Earl is also the Director of thel Jazz Ensemble\, and teaches Music Theory and Music Technology at Cherokee High School.  Earl has also directed the Philadelphia Grammy Band (2005-2007)\, the All South Jersey Jazz Ensemble (2008 &2012)\, the All Central Jersey Jazz Ensemble (2014) and he has been a clinician/manager with the New Jersey All State Jazz Ensemble (2009-2014). \nIn 2020\, through the COVID pandemic\, Earl ran 2 All-State Jazz Ensembles to keep region jazz running and\, for those efforts\, was recognized as  the 2020 New Jersey Association of Jazz Education “Teacher of the Year” award. \nThe Big Band\n\n\n\n\nEarl Phillips ~ Bass Trombone\nTony Miceli ~ Vibraphone\nBehn Gilece ~ Vibraphone\nOliver Mayman ~ Vibraphone\nMorgan Walbridge ~ Vibraphone \nGeneral Admission ~ a la carte menu: $30\nDinner & Show ~ Includes 3-course dinner: $100\nVIP Dinner & Show ~ Includes dinner above and upgraded stage-front seating: $120\n(Beverages not included)
URL:https://notoriousjazz.com/event/earl-philips-big-band
LOCATION:Chris’ Jazz Cafe\, 1421 Sansom Street\, Philadelphia\, PA\, 19102\, United States
CATEGORIES:Club
ATTACH;FMTTYPE=image/png:https://notoriousjazz.com/wp-content/uploads/2025/07/EARL-PHILLIPS-@-CHRIS-JAZZ-CAFE.png
END:VEVENT
BEGIN:VEVENT
DTSTART;TZID=America/New_York:20250822T190000
DTEND;TZID=America/New_York:20250822T210000
DTSTAMP:20260420T054758
CREATED:20250817T160727Z
LAST-MODIFIED:20250817T160727Z
UID:46932-1755889200-1755896400@notoriousjazz.com
SUMMARY:ROY AYERS TRIBUTE
DESCRIPTION:Atlanta is  celebrating the legendary Roy Ayers. A pioneer of jazz-funk\, vibraphonist\, composer\, and producer whose sound became the heartbeat of Black culture from the 1970s through today. Often dubbed the “Godfather of Neo-Soul\,” Ayers’ genre-bending artistry shaped the sonic foundation for countless artists\, from Erykah Badu and The Roots to A Tribe Called Quest and Common. \n \nLong before the dancefloors of Harlem to the airwaves of London and the sample-heavy beats of 90s hip hop\, Roy Ayers’ Ayers started recording as a bebop sideman in 1962. In 1963\, he released his debut studio album West Coast Vibes featuring a collaboration with the saxophonist Curtis Amy. He rose to prominence when he dropped out of Los Angeles City College and joined jazz flautist Herbie Mann in 1966. His music has transcended generations\, inspiring a movement rooted in rhythm\, liberation\, and Black excellence. \n \nHosted by WCLK’s Morris Baxter\, the evening will be opened by Heda Rose\, followed by Mark Adams and a host of Atlanta musicians and vocalists. \nCover: $30.00 ~ $55.00
URL:https://notoriousjazz.com/event/roy-ayers-tribute
LOCATION:City Winery Atlanta\, Ponce City Market\, 650 North Avenue NE\, Atlanta\, GA\, 30308\, United States
CATEGORIES:Club
ATTACH;FMTTYPE=image/png:https://notoriousjazz.com/wp-content/uploads/2025/08/ROY-AYERS-TRIBUTE-@-CITY-WINERY.png
END:VEVENT
END:VCALENDAR