BEGIN:VCALENDAR
VERSION:2.0
PRODID:-//Notorious Jazz - ECPv6.15.17//NONSGML v1.0//EN
CALSCALE:GREGORIAN
METHOD:PUBLISH
X-WR-CALNAME:Notorious Jazz
X-ORIGINAL-URL:https://notoriousjazz.com
X-WR-CALDESC:Events for Notorious Jazz
REFRESH-INTERVAL;VALUE=DURATION:PT1H
X-Robots-Tag:noindex
X-PUBLISHED-TTL:PT1H
BEGIN:VTIMEZONE
TZID:America/New_York
BEGIN:DAYLIGHT
TZOFFSETFROM:-0500
TZOFFSETTO:-0400
TZNAME:EDT
DTSTART:20210314T070000
END:DAYLIGHT
BEGIN:STANDARD
TZOFFSETFROM:-0400
TZOFFSETTO:-0500
TZNAME:EST
DTSTART:20211107T060000
END:STANDARD
BEGIN:DAYLIGHT
TZOFFSETFROM:-0500
TZOFFSETTO:-0400
TZNAME:EDT
DTSTART:20220313T070000
END:DAYLIGHT
BEGIN:STANDARD
TZOFFSETFROM:-0400
TZOFFSETTO:-0500
TZNAME:EST
DTSTART:20221106T060000
END:STANDARD
BEGIN:DAYLIGHT
TZOFFSETFROM:-0500
TZOFFSETTO:-0400
TZNAME:EDT
DTSTART:20230312T070000
END:DAYLIGHT
BEGIN:STANDARD
TZOFFSETFROM:-0400
TZOFFSETTO:-0500
TZNAME:EST
DTSTART:20231105T060000
END:STANDARD
END:VTIMEZONE
BEGIN:VEVENT
DTSTART;TZID=America/New_York:20220722T153000
DTEND;TZID=America/New_York:20220724T190000
DTSTAMP:20260423T043002
CREATED:20220703T190635Z
LAST-MODIFIED:20220703T202804Z
UID:30789-1658503800-1658689200@notoriousjazz.com
SUMMARY:THE JOE LOCKE GROUP W/KENNY WASHINGTON
DESCRIPTION:Vibraphonist Joe Locke and vocalist Kenny Washington bring their long-standing jazz credentials to bear on the music of some of our most well-loved pop\, rock and soul artists in an evening of music that’s guaranteed to land in your head\, heart\, and below-the-waist. \nJoe’s arrangements and his tightly-knit quartet provide the framework for Kenny to shine on some classic hits by Sam Cooke\, Bill Withers\, Steely Dan\, India Arie\, Billy Joel and Stevie Wonder\, among many others. Considering the fact that Todd Barkan\, Keystone Korner’s artistic director\, was responsible for Joe and Kenny’s very first collaboration 15 years ago\, this is going to feel like a homecoming. Don’t miss it! \nJoe Locke (vibes)\nJim Ridl (piano)\nLorin Cohen (bass)\nSamvel Sarkisyan (drums)\nspecial guests:\nKenny Washington (vocals)\nDoug Beavers (trombone) \nShowtimes:  \nStreaming: Fri\, Sat\, Sun July 22~24\, 7:30 pm | $10 + $1.70 fee \nFri\, Sat\, Sun: July 22~24\, 7:30 pm & 10:00 pm | $35 – $45 + $3.46 – $4.16 fee \n 
URL:https://notoriousjazz.com/event/the-joe-locke-group-w-kenny-washington
LOCATION:Keystone Korner Baltimore\, 1350 Lancaster Street\, Baltimore\, MD\, 21231\, United States
CATEGORIES:Club
ATTACH;FMTTYPE=image/jpeg:https://notoriousjazz.com/wp-content/uploads/2022/07/LOCKE-WASHINGTON.jpg
END:VEVENT
END:VCALENDAR