BEGIN:VCALENDAR
VERSION:2.0
PRODID:-//Notorious Jazz - ECPv6.15.17//NONSGML v1.0//EN
CALSCALE:GREGORIAN
METHOD:PUBLISH
X-WR-CALNAME:Notorious Jazz
X-ORIGINAL-URL:https://notoriousjazz.com
X-WR-CALDESC:Events for Notorious Jazz
REFRESH-INTERVAL;VALUE=DURATION:PT1H
X-Robots-Tag:noindex
X-PUBLISHED-TTL:PT1H
BEGIN:VTIMEZONE
TZID:America/New_York
BEGIN:DAYLIGHT
TZOFFSETFROM:-0500
TZOFFSETTO:-0400
TZNAME:EDT
DTSTART:20230312T070000
END:DAYLIGHT
BEGIN:STANDARD
TZOFFSETFROM:-0400
TZOFFSETTO:-0500
TZNAME:EST
DTSTART:20231105T060000
END:STANDARD
BEGIN:DAYLIGHT
TZOFFSETFROM:-0500
TZOFFSETTO:-0400
TZNAME:EDT
DTSTART:20240310T070000
END:DAYLIGHT
BEGIN:STANDARD
TZOFFSETFROM:-0400
TZOFFSETTO:-0500
TZNAME:EST
DTSTART:20241103T060000
END:STANDARD
BEGIN:DAYLIGHT
TZOFFSETFROM:-0500
TZOFFSETTO:-0400
TZNAME:EDT
DTSTART:20250309T070000
END:DAYLIGHT
BEGIN:STANDARD
TZOFFSETFROM:-0400
TZOFFSETTO:-0500
TZNAME:EST
DTSTART:20251102T060000
END:STANDARD
END:VTIMEZONE
BEGIN:VEVENT
DTSTART;TZID=America/New_York:20240112T183000
DTEND;TZID=America/New_York:20240112T224500
DTSTAMP:20260421T054548
CREATED:20240104T183133Z
LAST-MODIFIED:20240107T170246Z
UID:38556-1705084200-1705099500@notoriousjazz.com
SUMMARY:LESLIE DESHAZOR
DESCRIPTION:Composer\, arranger\, educator\, and active performing artist Leslie DeShazor is in demand on the stages of Broadway\, classical\, and jazz alike as a violinst and violist. With the elite musical talents of pianist Demetrius Nabors\, guitarist Sasha Kashperko\, bass guitarist Rob Skinner\, and drummer Nate Winn\, the Leslie DeShazor quintet brings an energetic and a respectful fresh take on jazz repertoire with their performances and original compositions that move audiences. \nTHE BAND: \nSasha Kashperko – Guitar \nDemetrius Nabors – Piano \nRob Skinner – Bass Guitar \nNate Winn – Drums \nLeslie DeShazor – Violin
URL:https://notoriousjazz.com/event/leslie-deshazor-2
LOCATION:The Blue Llama\, 314 S Main Street\, Ann Arbor\, MI\, 48104\, United States
CATEGORIES:Club
ATTACH;FMTTYPE=image/jpeg:https://notoriousjazz.com/wp-content/uploads/2024/01/LESLIE-DESHAZOR.jpeg
END:VEVENT
END:VCALENDAR