BEGIN:VCALENDAR
VERSION:2.0
PRODID:-//Notorious Jazz - ECPv6.15.17//NONSGML v1.0//EN
CALSCALE:GREGORIAN
METHOD:PUBLISH
X-WR-CALNAME:Notorious Jazz
X-ORIGINAL-URL:https://notoriousjazz.com
X-WR-CALDESC:Events for Notorious Jazz
REFRESH-INTERVAL;VALUE=DURATION:PT1H
X-Robots-Tag:noindex
X-PUBLISHED-TTL:PT1H
BEGIN:VTIMEZONE
TZID:America/New_York
BEGIN:DAYLIGHT
TZOFFSETFROM:-0500
TZOFFSETTO:-0400
TZNAME:EDT
DTSTART:20240310T070000
END:DAYLIGHT
BEGIN:STANDARD
TZOFFSETFROM:-0400
TZOFFSETTO:-0500
TZNAME:EST
DTSTART:20241103T060000
END:STANDARD
BEGIN:DAYLIGHT
TZOFFSETFROM:-0500
TZOFFSETTO:-0400
TZNAME:EDT
DTSTART:20250309T070000
END:DAYLIGHT
BEGIN:STANDARD
TZOFFSETFROM:-0400
TZOFFSETTO:-0500
TZNAME:EST
DTSTART:20251102T060000
END:STANDARD
BEGIN:DAYLIGHT
TZOFFSETFROM:-0500
TZOFFSETTO:-0400
TZNAME:EDT
DTSTART:20260308T070000
END:DAYLIGHT
BEGIN:STANDARD
TZOFFSETFROM:-0400
TZOFFSETTO:-0500
TZNAME:EST
DTSTART:20261101T060000
END:STANDARD
END:VTIMEZONE
BEGIN:VEVENT
DTSTART;TZID=America/New_York:20250701T190000
DTEND;TZID=America/New_York:20250701T210000
DTSTAMP:20260421T152642
CREATED:20250630T013225Z
LAST-MODIFIED:20250630T013435Z
UID:46369-1751396400-1751403600@notoriousjazz.com
SUMMARY:TESSA SOUTER
DESCRIPTION:The vocalist celebrates the release of her album Release Party of Shadows and Silence: The Eric Satie Project. She brings with her pianist Luis Perdomo\, drummer Billy Drummond\, bassist Boris Kozlov\, plus special guest saxophonist Steve Wilson. \nNew York-based\, London-born of Afro-Trinidadian and English parents\, New York Times critics pick Tessa Souter grew up surrounded by music. Her mother\, a talented amateur singer\, taught her to sing when she was three\, and she took piano lessons from aged eight to 12\, before switching to the guitar\, learning by ear to accompany herself singing songs by\, among others\, Sandy Denny and Jacquie McPhee of the jazz-folk bands Fairport Convention and Pentangle. \n“My piano teacher had advised me to take up singing when she heard my voice so\, when around that age\, my mother told me that my birth father had been a singer\, it felt like a connection to this person I had never known\,” says Tessa. When she finally met him in her late 20s\, the first thing he did was sing to her in the street. “Just the sound of his beautiful tenor\, vibrated every bone in my body.” \nTickets: $30.00
URL:https://notoriousjazz.com/event/tessa-souter
LOCATION:Joe’s Pub\, 425 Lafayette Street (At Astor Place)\, New York\, NY\, 10003\, United States
CATEGORIES:Club
ATTACH;FMTTYPE=image/png:https://notoriousjazz.com/wp-content/uploads/2025/06/TESSA-SOUTER-@-JOES-PUB.png
END:VEVENT
BEGIN:VEVENT
DTSTART;TZID=America/New_York:20250703T190000
DTEND;TZID=America/New_York:20250703T214500
DTSTAMP:20260421T152642
CREATED:20250629T172940Z
LAST-MODIFIED:20250629T172940Z
UID:46342-1751569200-1751579100@notoriousjazz.com
SUMMARY:NICOLE HEITGER QUARTET
DESCRIPTION:The Nicole Heitger Quartet presents a blend of Dixieland\, swing and bebop\, featuring syncopated rhythms and sounds from the 1920’s through the 1940’s. Nicole has been a vocalist for over 30 years and was raised on traditional jazz. Her father\, Raymond Heitger\, has been the leader of the Cakewalkin’ Jass Band for over 50 years. \nShe began singing with the CJB when she was sixteen years old\, performing at various concerts\, jazz festivals\, and jazz clubs. Drawing from such influences as Bessie Smith and Billie Holiday she performs the great classics of jazz history and delivers them with her powerful and precise blues-tinged vocals. \nThe Performers:\nNicole Heitger: Voice\nAlex Belhaj: Guitar\nDave Kosmyna: Cornet\, Piano \nCover Charge: $25.00 +fees
URL:https://notoriousjazz.com/event/nicole-heitger-quartet
LOCATION:The Blue Llama\, 314 S Main Street\, Ann Arbor\, MI\, 48104\, United States
CATEGORIES:Club
ATTACH;FMTTYPE=image/png:https://notoriousjazz.com/wp-content/uploads/2025/06/NICOLE-HEITGER-@-BLUE-LLAMA.png
END:VEVENT
BEGIN:VEVENT
DTSTART;TZID=America/New_York:20250709T190000
DTEND;TZID=America/New_York:20250709T214500
DTSTAMP:20260421T152642
CREATED:20250629T184846Z
LAST-MODIFIED:20250629T185608Z
UID:46347-1752087600-1752097500@notoriousjazz.com
SUMMARY:TIFFANY GRIDIRON TRIO
DESCRIPTION:Tiffany Gridiron is a gifted jazz vocalist and songwriter whose sultry vocals and playful approach have excited audiences around the world. She began singing as a child in her family church\, but was particularly inspired by singer Jill Scott before being introduced to the poetry and improvisation of jazz through vocalist and educator Sunny Wilkinson. \nTiffany has recorded five CDs of jazz standards\, released by Sony Records Japan\, that feature such musical greats as Hank Jones\, Tadataka Unno\, Omar Hakim\, and many others. In September of 2023\, Tiffany released on all digital platforms\, her most personal album to date with friend\, producer\, trumpeter and arranger Kris Johnson. Five of the album’s eight songs feature lyrics penned by Gridiron and co-composed by Johnson\, with Brendon Davis (piano)\, Jonathan Muir-Cotton (bass)\, Nate Winn (drums)\, and Vivienne Smith (background vocals) also adding their beautiful artistry to this material. \nThe Performers:\nTiffany Gridiron: Vocals | Aya Sekine: Piano | Sam Corey: Bass \nCover: $75 w/$55 dinner credit | $40 w/$20 credit | 18% gratuity + fees
URL:https://notoriousjazz.com/event/tiffany-gridiron-trio
LOCATION:The Blue Llama\, 314 S Main Street\, Ann Arbor\, MI\, 48104\, United States
CATEGORIES:Club
ATTACH;FMTTYPE=image/png:https://notoriousjazz.com/wp-content/uploads/2025/06/TIFFANY-GRIDIRON-@-BLUE-LLAMA.png
END:VEVENT
BEGIN:VEVENT
DTSTART;TZID=America/New_York:20250710T190000
DTEND;TZID=America/New_York:20250710T210000
DTSTAMP:20260421T152642
CREATED:20250707T023129Z
LAST-MODIFIED:20250707T023416Z
UID:46440-1752174000-1752181200@notoriousjazz.com
SUMMARY:SACHAL VASANDANI
DESCRIPTION:Sachal Vasandani is recognized for his singular voice\, with a tone and unique phrasing that mark him as one of the most compelling artists on the scene today. Thoroughly rooted in jazz\, Sachal has the swagger to front the most swinging big bands and the vulnerability to present definitive takes of classic ballads. His deeply creative approach to improvisation across lyrics\, melodic changes and time signatures is always soulful\, and he has come to be regarded as one of the eminent vocal improvisers of his generation. \nHis latest album\, Best Life Now\, produced by renowned drummer Nate Smith\, was released in early 2025\, following the success of his 2022 project Still Life with pianist Romain Collin. With a career spanning critically acclaimed albums such as Shadow Train and Slow Motion Miracles\, he has worked with a stellar lineup of musicians including Milton Nascimento\, Wynton Marsalis\, Bobby McFerrin\, and Jon Hendricks. \nCover: $30.00 ~ $35.00 + fee | Streaming: $15.00 +fee
URL:https://notoriousjazz.com/event/sachal-vasandani
LOCATION:Keystone Korner Baltimore\, 1350 Lancaster Street\, Baltimore\, MD\, 21231\, United States
CATEGORIES:Club
ATTACH;FMTTYPE=image/png:https://notoriousjazz.com/wp-content/uploads/2025/07/SACHAL-VASANDANI-@-KEYSTONE-KORNER.png
END:VEVENT
BEGIN:VEVENT
DTSTART;TZID=America/New_York:20250711T180000
DTEND;TZID=America/New_York:20250713T230000
DTSTAMP:20260421T152642
CREATED:20250630T022509Z
LAST-MODIFIED:20250630T022509Z
UID:46375-1752256800-1752447600@notoriousjazz.com
SUMMARY:NICOLE HENRY
DESCRIPTION:Since her debut\, Nicole Henry has established herself among the jazz world’s most acclaimed performers\, possessing a potent combination of dynamic vocal abilities\, impeccable phrasing\, and powerful emotional resonance. \nHer passionate\, soulful voice and heartfelt charisma have earned her a Soul Train Award for “Best Traditional Jazz Performance\,” and four Top-10 jazz albums on U.S. Billboard\, Jazz Week\, HMV Japan & UK Sweet Rhythms charts. Heralded by The New York Times\, Wall Street Journal\, The Japan Times\, El Pais\, Jazz Times\, Essence and more\, Ms. Henry tells real stories through peerless interpretations of repertoire from the American Songbook\, classic and contemporary jazz\, popular standards\, blues and originals. \nShowtimes:\nFriday & Saturday:  7:00pm & 9:30pm\nSunday:  6:00pm & 8:30pm \nTickets: $40.00 +fee
URL:https://notoriousjazz.com/event/nicole-henry-21
LOCATION:South\, 600 N. Broad Street\, Philadelphia\, PA\, 19130\, United States
CATEGORIES:Club
ATTACH;FMTTYPE=image/png:https://notoriousjazz.com/wp-content/uploads/2025/06/NICOLE-HENRY-@-SOUTH.png
END:VEVENT
BEGIN:VEVENT
DTSTART;TZID=America/New_York:20250712T200000
DTEND;TZID=America/New_York:20250712T220000
DTSTAMP:20260421T152642
CREATED:20250707T020604Z
LAST-MODIFIED:20250707T020604Z
UID:46437-1752350400-1752357600@notoriousjazz.com
SUMMARY:LAVAHI
DESCRIPTION:Carrie’s Corner Presents: Jazz Under The Stars \nLavahi is a scholar-artist on a mission to better society from the inside out. Through her music\, scholarship\, and performance\, she is building a platform to nourish the heart and mind\, empathize our human experiences\, and vibe together. \nAs a daughter of jazz\, the culture heavily informs her ideology and influences her sound. Acrobatic scatting\, compelling chords\, and the art of improvisation evoke that classic traditional aesthetic and set her contemporary sound apart from the norm of mainstream neo-soul\, hip hop\, and R&B. And with her satisfying blend of analog and digital sounds\, Lavahi shows that the lineage of Black sound is not linear but ever folding and stretching. \nSuggested Donation: $30.00
URL:https://notoriousjazz.com/event/lavahi-2
LOCATION:Carrie’s Corner\, Marietta\, GA\, United States
CATEGORIES:Event
ATTACH;FMTTYPE=image/png:https://notoriousjazz.com/wp-content/uploads/2025/07/LAVAHI-@-CARRIES-CORNER.png
END:VEVENT
BEGIN:VEVENT
DTSTART;TZID=America/New_York:20250718T190000
DTEND;TZID=America/New_York:20250718T223000
DTSTAMP:20260421T152642
CREATED:20250717T195040Z
LAST-MODIFIED:20250720T043448Z
UID:46569-1752865200-1752877800@notoriousjazz.com
SUMMARY:TONY HIGHTOWER
DESCRIPTION:Tony is a veteran professional. As a seasoned percussionist\, songwriter\, recording artist\, vocalist\, and producer\, he has worked with many artists on a variety of projects. Tony has played drums for the following: Jomandi Productions\, the Atlanta production of “Queen of the Blues” – The Life Story of Dinah Washington\, Goodie Mob\, Outkast\, Pebbles\, and Xscape. He has also done session work for several Organized Noize Production artists\, including Goodie Mob and Outkast. Tony has contributed vocals to the successful projects of Gerald Levert\, Jimmy Jam and Terry Lewis\, the soundtrack for “Money Train\,” Goodie Mob’s certified gold album “Soul Food\,” Society of Soul’s album “Brainchild\,” Pebbles’ album “Straight From My Heart\,” Lionel Richie’s album “Louder Than Words\,” and Outkast’s certified double platinum album “Aquemini.” Tony was also an artistic contributor to the song “Together We Can\,” which was a project by The National Academy of Recording Arts & Sciences (also known as the N.A.R.A.S. or The Recording Academy) to raise funds for the victims of the Columbine shooting. \nCover: $40.00
URL:https://notoriousjazz.com/event/tony-hightower-8
LOCATION:The Velvet Note\, 4075 Old Milton Parkway\, Alpharetta\, GA\, 30005\, United States
CATEGORIES:Club
ATTACH;FMTTYPE=image/png:https://notoriousjazz.com/wp-content/uploads/2025/07/TONY-HIGHTOWER-@-VELVET-NOTE.png
END:VEVENT
BEGIN:VEVENT
DTSTART;TZID=America/New_York:20250724T190000
DTEND;TZID=America/New_York:20250724T210000
DTSTAMP:20260421T152642
CREATED:20250720T161350Z
LAST-MODIFIED:20250720T182920Z
UID:46602-1753383600-1753390800@notoriousjazz.com
SUMMARY:TOMI BERRY
DESCRIPTION:A beautiful performer\, inside and out\, Tomi brings natural grace\, a rich soulful voice\, and spiritual essence to her performances throughout the Atlanta area and beyond. Wherever Tomi Berry sings\, she spreads joy.  Whether singing smooth R&B\, swinging jazz\, or sultry ballads\, she holds an audience in rapt attention.  A spiritual song-stylist\, she engages her listeners in musical conversation. \nThe 2016 42nd Annual Lawrence Award Winner for “Best Seasoned Performer” and the runner up for the 2016’s inaugural Atlanta’s Top Vocalist competition\, Susan “Tomi” Berry has an extensive background in  performing and public speaking. An accomplished\, classically trained singer\, Tomi has performed most of her life in multiple music genres\, starting formally in gospel and spiritual church choirs in her hometown of Montclair\, NJ. \nA featured performer at The Velvet Note Acoustic Living Room\, she performed two shows with Grammy winner\, Atlanta-based producer/keyboardist\, Phil Davis\, bassist. Trey Gilbert\, and drummer\, Joey Williams. \nOmar Askew ~ Keyboard \nCover: Free
URL:https://notoriousjazz.com/event/tomi-berry-3
LOCATION:Divinely Elegant Vines Tasting Room\, 2730 Broad Street\, Austell\, GA\, 30106\, United States
CATEGORIES:Club
ATTACH;FMTTYPE=image/png:https://notoriousjazz.com/wp-content/uploads/2025/07/TOMI-BERRY-@-TASTING-ROOM.png
END:VEVENT
BEGIN:VEVENT
DTSTART;TZID=America/New_York:20250724T193000
DTEND;TZID=America/New_York:20250724T210000
DTSTAMP:20260421T152642
CREATED:20250720T194431Z
LAST-MODIFIED:20250720T194431Z
UID:46625-1753385400-1753390800@notoriousjazz.com
SUMMARY:DIANA WEST
DESCRIPTION:A Night with Dee Jazz \nVocalist Dee Jazz\, also known as Diana West\, steps into the spotlight with her highly anticipated breakout performance at Jazz St. Louis. A proud St. Louis native and dynamic young vocalist in her early 20s\, Dee brings a fresh\, soulful energy to the stage as she debuts her new name and musical vision. \nRooted in the tradition but unafraid to take bold steps forward\, Dee Jazz delivers each note with elegance\, emotional depth\, and an unmistakable sense of self. Her voice is rich with nuance—whether she’s interpreting jazz standards or introducing original material\, she sings with heart\, clarity\, and swing. \nCover: Sold Out
URL:https://notoriousjazz.com/event/diana-west
LOCATION:Harold & Dorothy Steward Center For Jazz\, 3536 Washington Avenue\, St. Louis\, MO\, 63103\, United States
CATEGORIES:Concert
ATTACH;FMTTYPE=image/png:https://notoriousjazz.com/wp-content/uploads/2025/07/DIANA-WEST-@-HAROLD-DOROTHY-STEWARD-CENTER-FOR-JAZZ.png
END:VEVENT
BEGIN:VEVENT
DTSTART;TZID=America/New_York:20250729T200000
DTEND;TZID=America/New_York:20250729T213000
DTSTAMP:20260421T152642
CREATED:20250720T061756Z
LAST-MODIFIED:20250720T064133Z
UID:46595-1753819200-1753824600@notoriousjazz.com
SUMMARY:LORI WILLIAMS
DESCRIPTION:Acclaimed international jazz vocalist Lori Williams boasts over 30 years of experience as a performing artist\, music educator\, songwriter\, producer\, actress\, radio host\, and founder of PositiveMusicPM.org. Her dynamic career includes annual vocal jazz tours and performances at prestigious venues and festivals worldwide\, spanning Europe\, Japan\, the Caribbean\, Mexico\, and the United States. As an artist-in-residence\, Lori has mentored students on college campuses globally\, enriching the jazz tradition and inspiring the next generation of musicians. \nLori’s achievements as an educator and performer have earned her numerous accolades\, including the National Hampton Alumni Association’s 2023 Excellence in Arts and Entertainment Award and a 2014 Helen Hayes Award nomination for her portrayal of Ella Fitzgerald. A graduate of Hampton University\, Lori also hosts the weekly radio program “Collector’s Choice With Lori Williams” on JazzRadioWETF.org\, highlighting women in jazz and international talent. She curates live jazz experiences as the producer and host of the Sunday Jazz Lounge at St. James Live! in Atlanta. \nOver her illustrious career\, Lori has collaborated with an impressive roster of artists\, including Oleta Adams\, Norman Brown\, Peabo Bryson\, and George Duke. She has released six independent albums\, with her latest single\, “Take My Wings\,” debuting in October 2023. Lori recently recorded a jazz album in Austria\, anticipated for a 2025 release\, further solidifying her impact on the global jazz scene. \nTickets: $20.00 ~ $35.00
URL:https://notoriousjazz.com/event/lori-williams-5
LOCATION:City Winery Atlanta\, Ponce City Market\, 650 North Avenue NE\, Atlanta\, GA\, 30308\, United States
CATEGORIES:Club
ATTACH;FMTTYPE=image/png:https://notoriousjazz.com/wp-content/uploads/2025/07/LORI-WILLIAMS-@-CITY-WINERY.png
END:VEVENT
END:VCALENDAR