BEGIN:VCALENDAR
VERSION:2.0
PRODID:-//Notorious Jazz - ECPv6.15.17//NONSGML v1.0//EN
CALSCALE:GREGORIAN
METHOD:PUBLISH
X-WR-CALNAME:Notorious Jazz
X-ORIGINAL-URL:https://notoriousjazz.com
X-WR-CALDESC:Events for Notorious Jazz
REFRESH-INTERVAL;VALUE=DURATION:PT1H
X-Robots-Tag:noindex
X-PUBLISHED-TTL:PT1H
BEGIN:VTIMEZONE
TZID:America/New_York
BEGIN:DAYLIGHT
TZOFFSETFROM:-0500
TZOFFSETTO:-0400
TZNAME:EDT
DTSTART:20250309T070000
END:DAYLIGHT
BEGIN:STANDARD
TZOFFSETFROM:-0400
TZOFFSETTO:-0500
TZNAME:EST
DTSTART:20251102T060000
END:STANDARD
BEGIN:DAYLIGHT
TZOFFSETFROM:-0500
TZOFFSETTO:-0400
TZNAME:EDT
DTSTART:20260308T070000
END:DAYLIGHT
BEGIN:STANDARD
TZOFFSETFROM:-0400
TZOFFSETTO:-0500
TZNAME:EST
DTSTART:20261101T060000
END:STANDARD
BEGIN:DAYLIGHT
TZOFFSETFROM:-0500
TZOFFSETTO:-0400
TZNAME:EDT
DTSTART:20270314T070000
END:DAYLIGHT
BEGIN:STANDARD
TZOFFSETFROM:-0400
TZOFFSETTO:-0500
TZNAME:EST
DTSTART:20271107T060000
END:STANDARD
END:VTIMEZONE
BEGIN:VEVENT
DTSTART;TZID=America/New_York:20260101T190000
DTEND;TZID=America/New_York:20260103T230000
DTSTAMP:20260421T044825
CREATED:20251228T165008Z
LAST-MODIFIED:20251228T165008Z
UID:48478-1767294000-1767481200@notoriousjazz.com
SUMMARY:BIRDLAND BIG BAND WITH HILARY KOLE
DESCRIPTION:The Birdland Big Band which was formed in 2006 is a 16-piece jazz orchestra that performs at the Birdland Jazz Club in New York City. The Birdland Big Band is led by saxophonist David DeJesus DeJesus joined as saxophonist and leader in October 2017 and brought with him an emphasis on traditional swing and the blues. \nHilary Kole is the daughter of 1950s Broadway performer Robert Kole\, and was 19 when she fronted a 12-piece band six nights a week singing Great American Songbook standards at New York City’s Rainbow Room. During this time she also studied composition at Manhattan School of Music. After the Rainbow Room\, she sang at the Blue Note\, Birdland\, and the Algonquin Hotel. Her 2009 debut album\, Haunted Heart\, was produced by jazz guitarist John Pizzarelli. \nCover: $35.46 ~ $56.06
URL:https://notoriousjazz.com/event/birdland-big-band-with-hilary-kole
LOCATION:Birdland\, 315 W 44th Street\, #5402\, New York City\, NY\, 10036\, United States
CATEGORIES:Club
ATTACH;FMTTYPE=image/png:https://notoriousjazz.com/wp-content/uploads/2025/12/HILARY-KOLE-@-BIRDLAND.png
END:VEVENT
BEGIN:VEVENT
DTSTART;TZID=America/New_York:20260106T190000
DTEND;TZID=America/New_York:20260110T235900
DTSTAMP:20260421T044825
CREATED:20251228T171315Z
LAST-MODIFIED:20251228T172547Z
UID:48481-1767726000-1768089540@notoriousjazz.com
SUMMARY:DEE DEE BRIDGEWATER & BILL CHRLAP
DESCRIPTION:Two of the most highly respected figures in the world of Jazz — Dee Dee Bridgewater and Bill Charlap — document their critically acclaimed\, sold out live concerts on their first collaborative album\, Elemental. Bridgewater and Charlap curate a repetoire that only they can present: exploring the deep understanding of Jazz Tradition alongside impecable phrasing and a once-in-a-generation dynamic range\, brining a level of sophistication that is sure to be considered a masterpiece for generations to come. \nCover: $45.76 ~ $61.21
URL:https://notoriousjazz.com/event/dee-dee-bridgewater-bill-chrlap
LOCATION:Birdland\, 315 W 44th Street\, #5402\, New York City\, NY\, 10036\, United States
CATEGORIES:Club
ATTACH;FMTTYPE=image/png:https://notoriousjazz.com/wp-content/uploads/2025/12/BRIDGEWATER-CHARLAP-@-BIRDLAND.png
END:VEVENT
BEGIN:VEVENT
DTSTART;TZID=America/New_York:20260108T140000
DTEND;TZID=America/New_York:20260108T150000
DTSTAMP:20260421T044825
CREATED:20260107T050758Z
LAST-MODIFIED:20260107T050758Z
UID:48561-1767880800-1767884400@notoriousjazz.com
SUMMARY:VANESSA RUBIN
DESCRIPTION:Vanessa Rubin is a revered jazz vocalist and storyteller celebrated for her crystalline clarity\, soulful warmth\, and bold improvisational style. Born in Cleveland to Trinidadian and Louisiana parents\, her sound bridges Caribbean rhythm\, classic jazz elegance\, and Motown soul. Since launching her career in 1980 in Cleveland’s legendary clubs\, Rubin has built an international performance and education legacy. \nSigned to Novus/RCA in 1992\, she released five albums\, including chart-topping Soul Eyes (1992) and Pastiche (1993). Her acclaimed one-woman musical\, Yesterdays: An Evening with Billie Holiday\, earned a 2011 Kevin Klein Award nomination. Rubin continues touring globally\, producing\, teaching\, and championing lyrical storytelling in jazz. \nThe Band: Miki Hayama ! Piano | Richie Goods ~ Bass | Alvin Atkinson ~ Drums | Patience Higgins ~ Tenor Saxophone \nCover: Free
URL:https://notoriousjazz.com/event/vanessa-rubin-9
LOCATION:The National Jazz Museum In Harlem\, 58 West 129th Street\, Ground Floor 2203\, New York City\, NY\, 10027\, United States
CATEGORIES:Museum
ATTACH;FMTTYPE=image/png:https://notoriousjazz.com/wp-content/uploads/2026/01/VANESSA-RUBIN-@-NAT-JAZZ-MUSEUM.png
END:VEVENT
BEGIN:VEVENT
DTSTART;TZID=America/New_York:20260109T180000
DTEND;TZID=America/New_York:20260110T210000
DTSTAMP:20260421T044825
CREATED:20260107T053512Z
LAST-MODIFIED:20260107T053512Z
UID:48564-1767981600-1768078800@notoriousjazz.com
SUMMARY:VANESSA RUBIN
DESCRIPTION:Vanessa Rubin is a revered jazz vocalist and storyteller celebrated for her crystalline clarity\, soulful warmth\, and bold improvisational style. Born in Cleveland to Trinidadian and Louisiana parents\, her sound bridges Caribbean rhythm\, classic jazz elegance\, and Motown soul. Since launching her career in 1980 in Cleveland’s legendary clubs\, Rubin has built an international performance and education legacy. \nSigned to Novus/RCA in 1992\, she released five albums\, including chart-topping Soul Eyes (1992) and Pastiche (1993). Her acclaimed one-woman musical\, Yesterdays: An Evening with Billie Holiday\, earned a 2011 Kevin Klein Award nomination. Rubin continues touring globally\, producing\, teaching\, and championing lyrical storytelling in jazz. \nPerformers:\nVanessa Rubin ~ Vocalist\nBrandon McCune ~ Piano\nRichie Goods ~ Bas\nAlvin Atkinson ~ Drums \nCover: $40.00 | Friday\, 7:30 Show ~ Sold Out
URL:https://notoriousjazz.com/event/vanessa-rubin-10
LOCATION:Mezzrow\, 163 W. 10th Street\, New York City\, NY\, 10014\, United States
CATEGORIES:Club
ATTACH;FMTTYPE=image/png:https://notoriousjazz.com/wp-content/uploads/2026/01/VANESSA-RUBIN-@-MEZZROW.png
END:VEVENT
BEGIN:VEVENT
DTSTART;TZID=America/New_York:20260121T183000
DTEND;TZID=America/New_York:20260121T213000
DTSTAMP:20260421T044825
CREATED:20260107T044747Z
LAST-MODIFIED:20260206T231702Z
UID:48558-1769020200-1769031000@notoriousjazz.com
SUMMARY:TOMI BERRY & OMAR ASKEW
DESCRIPTION:Tomi Berry is a beautiful performer\, inside and out\, brings natural grace\, a rich soulful voice\, and spiritual essence to her performances throughout the Atlanta area and beyond. Wherever she sings\, she spreads joy\, whether singing smooth R&B\, swinging jazz\, or sultry ballads\, she holds an audience in rapt attention.  A spiritual song-stylist\, she engages her listeners in musical conversation. \nThe 2016 42nd Annual Lawrence Award Winner for “Best Seasoned Performer” and the runner up for the 2016’s inaugural Atlanta’s Top Vocalist competition\, she has an extensive background in  performing and public speaking. An accomplished\, classically trained singer\, Tomi has performed most of her life in multiple music genres\, starting formally in gospel and spiritual church choirs in her hometown of Montclair\, NJ. \nOmar Askew\, a 19-year-old student at Kennesaw State University\, is dedicated to studying Jazz Performance on the piano. Constantly striving for self-improvement\, he aims to excel every time he touches his instrument. In lessons\, Omar pushes his students to become the best pianists they can be\, helping them achieve their personal goals. \nCover & Parking: Free
URL:https://notoriousjazz.com/event/tomi-berry-omar-askew
LOCATION:Divinely Elegant Vines Tasting Room\, 2730 Broad Street\, Austell\, GA\, 30106\, United States
CATEGORIES:Club
ATTACH;FMTTYPE=image/png:https://notoriousjazz.com/wp-content/uploads/2026/01/TOMI-BERRY-@-DIVINE-ELEGANT-VINES.png
END:VEVENT
BEGIN:VEVENT
DTSTART;TZID=America/New_York:20260125T200000
DTEND;TZID=America/New_York:20260125T220000
DTSTAMP:20260421T044825
CREATED:20260121T220037Z
LAST-MODIFIED:20260121T220037Z
UID:48712-1769371200-1769378400@notoriousjazz.com
SUMMARY:DIANA KRALL
DESCRIPTION:A record-breaking musician\, Diana Krall is the only jazz singer to have eight albums debut at the top of the Billboard Jazz Albums chart. Her albums have garnered two Grammy Awards and 10 Juno Awards\, and include nine gold\, three platinum and seven multiplatinum albums. \nHer 1999 release When I Look in Your Eyes spent an unprecedented 52 weeks in the No. 1 position on Billboard’s Jazz chart\, won two Grammy Awards and went platinum in the U.S. and Canada\, establishing Krall as a powerhouse of the genre. Her album This Dream of You garnered critical acclaim and displayed the effortless virtuosity that has become Krall’s musical signature. Krall’s artistry and musicality transcend any single musical style\, making her one of the most recognizable artists of our time. \nTickets: $76.05 ~ $231.66 (includes fees)
URL:https://notoriousjazz.com/event/diana-krall-2
LOCATION:Adrienne Arsht Center | Knight Concert Hall\, 1300 Biscayne Boulevard\, Miami\, FL\, 33132\, United States
CATEGORIES:Concert
ATTACH;FMTTYPE=image/png:https://notoriousjazz.com/wp-content/uploads/2026/01/DIANA-KRALL-@-ARSHT-CENTER.png
END:VEVENT
BEGIN:VEVENT
DTSTART;TZID=America/New_York:20260130T193000
DTEND;TZID=America/New_York:20260130T210000
DTSTAMP:20260421T044825
CREATED:20260129T213318Z
LAST-MODIFIED:20260130T045827Z
UID:48777-1769801400-1769806800@notoriousjazz.com
SUMMARY:PATTI AUSTIN
DESCRIPTION:A Night of Legacy\, Voice\, and Vision. Patti Austin Pays Tribute to Patrick Williams. \nGrammy Award-winning vocalist Patti Austin joins the Henry Mancini Institute Orchestra and Big Band with Steve Guerra\, conductor\, for a powerful tribute to the late composer\, arranger\, and musical visionary Patrick Williams. This unforgettable evening brings to life Williams’ rich\, genre-defying legacy—music that was\, as lyricist Arthur Hamilton described\, “muscular\, sensuous\, powerful\, and captivatingly rhythmical.” \nKnown for his masterful writing for film\, jazz\, and the concert hall\, Williams received 16 Grammy nominations and a Pulitzer nod for An American Concerto. His music has graced the voices and instruments of legends such as Frank Sinatra\, Eddie Daniels\, and Tom Scott—and\, notably\, Patti Austin. \nAustin\, a revered artist whose career spans jazz\, R&B\, pop\, and the Great American Songbook\, brings her unmatched depth\, honesty\, and elegance to this program. Described by The New York Times as one of the few artists who can authentically channel Ella Fitzgerald\, Austin was a close collaborator of Williams\, recording several of his works including the GRAMMY-nominated “52nd and Broadway” and selections from his Home Suite Home and Sinatraland albums. Her performances offer not only musical brilliance\, but a window into the personal connections that animated Williams’ compositions. \nAudiences will be treated to a two-set concert featuring Williams’ bold orchestral works followed by a dynamic second half of big band music and heartfelt vocal performances by Austin. Central to the program will be selections from her celebrated For Ella album\, bringing Williams’ sophisticated arrangements and Austin’s commanding interpretations of the Great American Songbook to the forefront. \nTickets: $50.00 General Admission | $45.00 Seniors | $15.00 Student \nStream: https://www.youtube.com/live/fyxztdDdmrw
URL:https://notoriousjazz.com/event/patti-austin-2
LOCATION:Gusman Concert Hall\, 1314 Miller Drive\, Coral Gables\, FL\, 33146\, United States
CATEGORIES:Concert
ATTACH;FMTTYPE=image/png:https://notoriousjazz.com/wp-content/uploads/2026/01/PATTI-AUSTIN-@-GUSMAN.png
END:VEVENT
END:VCALENDAR