BEGIN:VCALENDAR
VERSION:2.0
PRODID:-//Notorious Jazz - ECPv6.15.17//NONSGML v1.0//EN
CALSCALE:GREGORIAN
METHOD:PUBLISH
X-ORIGINAL-URL:https://notoriousjazz.com
X-WR-CALDESC:Events for Notorious Jazz
REFRESH-INTERVAL;VALUE=DURATION:PT1H
X-Robots-Tag:noindex
X-PUBLISHED-TTL:PT1H
BEGIN:VTIMEZONE
TZID:America/New_York
BEGIN:DAYLIGHT
TZOFFSETFROM:-0500
TZOFFSETTO:-0400
TZNAME:EDT
DTSTART:20240310T070000
END:DAYLIGHT
BEGIN:STANDARD
TZOFFSETFROM:-0400
TZOFFSETTO:-0500
TZNAME:EST
DTSTART:20241103T060000
END:STANDARD
BEGIN:DAYLIGHT
TZOFFSETFROM:-0500
TZOFFSETTO:-0400
TZNAME:EDT
DTSTART:20250309T070000
END:DAYLIGHT
BEGIN:STANDARD
TZOFFSETFROM:-0400
TZOFFSETTO:-0500
TZNAME:EST
DTSTART:20251102T060000
END:STANDARD
BEGIN:DAYLIGHT
TZOFFSETFROM:-0500
TZOFFSETTO:-0400
TZNAME:EDT
DTSTART:20260308T070000
END:DAYLIGHT
BEGIN:STANDARD
TZOFFSETFROM:-0400
TZOFFSETTO:-0500
TZNAME:EST
DTSTART:20261101T060000
END:STANDARD
END:VTIMEZONE
BEGIN:VEVENT
DTSTART;TZID=America/New_York:20251011T193000
DTEND;TZID=America/New_York:20251011T210000
DTSTAMP:20260421T123618
CREATED:20251004T060556Z
LAST-MODIFIED:20251004T060556Z
UID:47506-1760211000-1760216400@notoriousjazz.com
SUMMARY:DEE DANIELS QUARTET
DESCRIPTION:Music is not a just-discovered thing for her. She has a firm foundation in the church\, singing in a church choir when she was younger. She was then attracted to the soul-touching and enticing beauty of R&B. \nShe is in tune with the music she sings\, respecting its integrities and demanding that its stories are as clear as intended\, adding her own coolness and spicing to give it her unique personal energy. \nIn her spirit is a love for visual art — she was a high-school art teacher — but music has this almost seductive tug\, and all are forgiven for falling deeply for it as Dee did. Music education is a passion. She inspires students of voice through masterclasses\, workshops\, and scholarship offerings. \nThe words of Mary Kunz of The Buffalo News say a lot about the experience of Dee Daniels’ vocal artistry: “Dee Daniels’ voice brings to mind all the most delirious adjectives: Honeyed. Sweet. Low\, rich\, smooth\, and slow as molasses.” David A. Frye’s words about the singer are precious ones: “The Great American Songbook is in her DNA.” \nTickets: $15.00 ~ $35.00 | Student ~ General
URL:https://notoriousjazz.com/event/dee-daniels-quartet
LOCATION:Meydenbauer Center Theatre\, 11100 NE 6th Street\, Bellevue\, WA\, 98004\, United States
CATEGORIES:Theatre
ATTACH;FMTTYPE=image/png:https://notoriousjazz.com/wp-content/uploads/2025/10/DEE-DANIELS-@-MEYDENBAUER-THEATRE.png
END:VEVENT
END:VCALENDAR