BEGIN:VCALENDAR
VERSION:2.0
PRODID:-//Notorious Jazz - ECPv6.15.17//NONSGML v1.0//EN
CALSCALE:GREGORIAN
METHOD:PUBLISH
X-ORIGINAL-URL:https://notoriousjazz.com
X-WR-CALDESC:Events for Notorious Jazz
REFRESH-INTERVAL;VALUE=DURATION:PT1H
X-Robots-Tag:noindex
X-PUBLISHED-TTL:PT1H
BEGIN:VTIMEZONE
TZID:America/New_York
BEGIN:DAYLIGHT
TZOFFSETFROM:-0500
TZOFFSETTO:-0400
TZNAME:EDT
DTSTART:20240310T070000
END:DAYLIGHT
BEGIN:STANDARD
TZOFFSETFROM:-0400
TZOFFSETTO:-0500
TZNAME:EST
DTSTART:20241103T060000
END:STANDARD
BEGIN:DAYLIGHT
TZOFFSETFROM:-0500
TZOFFSETTO:-0400
TZNAME:EDT
DTSTART:20250309T070000
END:DAYLIGHT
BEGIN:STANDARD
TZOFFSETFROM:-0400
TZOFFSETTO:-0500
TZNAME:EST
DTSTART:20251102T060000
END:STANDARD
BEGIN:DAYLIGHT
TZOFFSETFROM:-0500
TZOFFSETTO:-0400
TZNAME:EDT
DTSTART:20260308T070000
END:DAYLIGHT
BEGIN:STANDARD
TZOFFSETFROM:-0400
TZOFFSETTO:-0500
TZNAME:EST
DTSTART:20261101T060000
END:STANDARD
END:VTIMEZONE
BEGIN:VEVENT
DTSTART;TZID=America/New_York:20251101T190000
DTEND;TZID=America/New_York:20251101T230000
DTSTAMP:20260421T091055
CREATED:20251031T171209Z
LAST-MODIFIED:20251101T201254Z
UID:47851-1762023600-1762038000@notoriousjazz.com
SUMMARY:JESSY KYLE
DESCRIPTION:Jessy Kyle is a Philadelphia jazz/soul singer\, songwriter\, & pianist. Years of studio sessions & over 2000 live performances have cultivated her rich\, raspy voice. Jessy has performed worldwide including Madison Square Garden\, & the White House. \nJessy grew up in a family of music lovers and says her childhood lullabies were Barbra Streisand\, Dionne Warwick\, and Ella Fitzgerald. Often times\, the TV was turned off\, her father sat at the piano\, and Jessy and her sisters would sing. Route 66 is the first song she remembers singing\, and it’s still in her sets to this day. \nTickets: $25.00 +$3.95 fee
URL:https://notoriousjazz.com/event/jessy-kyle
LOCATION:South\, 600 N. Broad Street\, Philadelphia\, PA\, 19130\, United States
CATEGORIES:Club
ATTACH;FMTTYPE=image/png:https://notoriousjazz.com/wp-content/uploads/2025/10/JESSY-KYLE-@-SOUTH-1.png
END:VEVENT
BEGIN:VEVENT
DTSTART;TZID=America/New_York:20251101T200000
DTEND;TZID=America/New_York:20251101T213000
DTSTAMP:20260421T091055
CREATED:20251020T011859Z
LAST-MODIFIED:20251020T011859Z
UID:47706-1762027200-1762032600@notoriousjazz.com
SUMMARY:CÉCILE MCLORIN SALVANT
DESCRIPTION:Grammy-winning vocalist Cécile McLorin Salvant returns to Celebrity Series with a spellbinding set of rare gems and reimagined classics—each song a story\, each moment unforgettable. \nWhether unearthing forgotten rarities or reimagining 20th-century standards\, vocalist Cécile McLorin Salvant makes every song unmistakably her own. Each piece on her setlist unfolds like a fully realized drama—beautiful\, complex\, and thought-provoking. \nExperience the artistry of this extraordinary storyteller. \nTickets: $47.50 to $144.50
URL:https://notoriousjazz.com/event/cecile-mclorin-salvant-5
LOCATION:Berklee Performance Center\, 136 Massachusetts Avenue\, Boston\, MA\, 02115\, United States
CATEGORIES:Concert
ATTACH;FMTTYPE=image/png:https://notoriousjazz.com/wp-content/uploads/2025/10/CECILE-MCLORIN-SALVANT-@-BERKLEE-PERFORMANCE-CENTER.png
END:VEVENT
END:VCALENDAR