BEGIN:VCALENDAR
VERSION:2.0
PRODID:-//Notorious Jazz - ECPv6.15.17//NONSGML v1.0//EN
CALSCALE:GREGORIAN
METHOD:PUBLISH
X-WR-CALNAME:Notorious Jazz
X-ORIGINAL-URL:https://notoriousjazz.com
X-WR-CALDESC:Events for Notorious Jazz
REFRESH-INTERVAL;VALUE=DURATION:PT1H
X-Robots-Tag:noindex
X-PUBLISHED-TTL:PT1H
BEGIN:VTIMEZONE
TZID:America/New_York
BEGIN:DAYLIGHT
TZOFFSETFROM:-0500
TZOFFSETTO:-0400
TZNAME:EDT
DTSTART:20240310T070000
END:DAYLIGHT
BEGIN:STANDARD
TZOFFSETFROM:-0400
TZOFFSETTO:-0500
TZNAME:EST
DTSTART:20241103T060000
END:STANDARD
BEGIN:DAYLIGHT
TZOFFSETFROM:-0500
TZOFFSETTO:-0400
TZNAME:EDT
DTSTART:20250309T070000
END:DAYLIGHT
BEGIN:STANDARD
TZOFFSETFROM:-0400
TZOFFSETTO:-0500
TZNAME:EST
DTSTART:20251102T060000
END:STANDARD
BEGIN:DAYLIGHT
TZOFFSETFROM:-0500
TZOFFSETTO:-0400
TZNAME:EDT
DTSTART:20260308T070000
END:DAYLIGHT
BEGIN:STANDARD
TZOFFSETFROM:-0400
TZOFFSETTO:-0500
TZNAME:EST
DTSTART:20261101T060000
END:STANDARD
END:VTIMEZONE
BEGIN:VEVENT
DTSTART;TZID=America/New_York:20251128T180000
DTEND;TZID=America/New_York:20251130T230000
DTSTAMP:20260421T090851
CREATED:20251031T175445Z
LAST-MODIFIED:20251101T201827Z
UID:47859-1764352800-1764543600@notoriousjazz.com
SUMMARY:NICOLE HENRY
DESCRIPTION:Since her debut\, Nicole Henry has established herself among the jazz world’s most acclaimed performers\, possessing a potent combination of dynamic vocal abilities\, impeccable phrasing\, and powerful emotional resonance. \nHer passionate\, soulful voice and heartfelt charisma have earned her a Soul Train Award for “Best Traditional Jazz Performance\,” and four Top-10 jazz albums on U.S. Billboard\, Jazz Week\, HMV Japan & UK Sweet Rhythms charts. Heralded by The New York Times\, Wall Street Journal\, The Japan Times\, El Pais\, Jazz Times\, Essence and more\, Ms. Henry tells real stories through peerless interpretations of repertoire from the American Songbook\, classic and contemporary jazz\, popular standards\, blues and originals. \nFriday & Saturday Showtimes | 7PM & 9:30PM \nSunday Showtimes  6:00PM & 8:30PM \nTickets: $40.00 +$3.95 fee
URL:https://notoriousjazz.com/event/nicole-henry-26
LOCATION:South\, 600 N. Broad Street\, Philadelphia\, PA\, 19130\, United States
CATEGORIES:Club
ATTACH;FMTTYPE=image/png:https://notoriousjazz.com/wp-content/uploads/2025/10/NICOLE-HENRY-@-SOUTH-copy.png
END:VEVENT
BEGIN:VEVENT
DTSTART;TZID=America/New_York:20251129T150000
DTEND;TZID=America/New_York:20251129T160000
DTSTAMP:20260421T090851
CREATED:20251112T050016Z
LAST-MODIFIED:20251124T062738Z
UID:47987-1764428400-1764432000@notoriousjazz.com
SUMMARY:ALLAN HARRIS
DESCRIPTION:Vocalist\, songwriter and guiatarist Allan Harris takes the Rotunda Stage to perform for jazz lovers The Poetry of Jazz. \nHailing from Harlem\, New York\, he has been described as having a “formidable baritone with husky edges and deep resonant low notes. He has been called a protean talent and is known for both his albums and his live performances. \nGeneral Admissions gains you entrance to the museumto the show |. $19.00~$30.00
URL:https://notoriousjazz.com/event/allan-harris-9
LOCATION:Rotunda Stage | Guggenheim Museum\, 1071 5th Avenue\, New York\, NY\, 10128\, United States
CATEGORIES:Museum
ATTACH;FMTTYPE=image/png:https://notoriousjazz.com/wp-content/uploads/2025/11/ALLAN-HARRIS-@-GUGGENHEIM.png
END:VEVENT
END:VCALENDAR