BEGIN:VCALENDAR
VERSION:2.0
PRODID:-//Notorious Jazz - ECPv6.15.17//NONSGML v1.0//EN
CALSCALE:GREGORIAN
METHOD:PUBLISH
X-ORIGINAL-URL:https://notoriousjazz.com
X-WR-CALDESC:Events for Notorious Jazz
REFRESH-INTERVAL;VALUE=DURATION:PT1H
X-Robots-Tag:noindex
X-PUBLISHED-TTL:PT1H
BEGIN:VTIMEZONE
TZID:America/New_York
BEGIN:DAYLIGHT
TZOFFSETFROM:-0500
TZOFFSETTO:-0400
TZNAME:EDT
DTSTART:20240310T070000
END:DAYLIGHT
BEGIN:STANDARD
TZOFFSETFROM:-0400
TZOFFSETTO:-0500
TZNAME:EST
DTSTART:20241103T060000
END:STANDARD
BEGIN:DAYLIGHT
TZOFFSETFROM:-0500
TZOFFSETTO:-0400
TZNAME:EDT
DTSTART:20250309T070000
END:DAYLIGHT
BEGIN:STANDARD
TZOFFSETFROM:-0400
TZOFFSETTO:-0500
TZNAME:EST
DTSTART:20251102T060000
END:STANDARD
BEGIN:DAYLIGHT
TZOFFSETFROM:-0500
TZOFFSETTO:-0400
TZNAME:EDT
DTSTART:20260308T070000
END:DAYLIGHT
BEGIN:STANDARD
TZOFFSETFROM:-0400
TZOFFSETTO:-0500
TZNAME:EST
DTSTART:20261101T060000
END:STANDARD
END:VTIMEZONE
BEGIN:VEVENT
DTSTART;TZID=America/New_York:20251216T190000
DTEND;TZID=America/New_York:20251220T230000
DTSTAMP:20260421T074743
CREATED:20251215T234856Z
LAST-MODIFIED:20251215T234950Z
UID:48386-1765911600-1766271600@notoriousjazz.com
SUMMARY:STACEY KENT
DESCRIPTION:Stacey Kent is an American jazz singer in the mould of the greats\, with a legion of fans\, a host of honors and awards including a Grammy nomination\, album sales in excess of 2 million\, more than half a billion streams\, Platinum\, Double-Gold and Gold-selling albums that have reached a series of chart-topping positions. \nHer worldwide fan base is testimony to her ability to cut to the emotional heart of her songs with delicately nuanced interpretations that transcend borders and defy categorization. Her unique multi-lingual repertoire includes originals written by Jim Tomlinson\, her saxophonist / producer / composer / arranger husband in collaboration with the Nobel Prize-winning author\, Kazuo Ishiguro with whom they have worked since 2006. She has also recorded with Brazilian legends\, Marcos Valle\, Roberto Menescal and Danilo Caymmi\, and the celebrated French string quartet\, the Quatuor Ébène. \nStacey’s new studio album\, Summer Me\, Winter Me\, released on Naïve Records is a collection of requests from her as yet unrecorded concert repertoire\, Summer Me\, Winter Me entered the French jazz charts at number 1 and has quickly established itself as a new highlight in her discography. \nCover: $45.76 ~ $56.06
URL:https://notoriousjazz.com/event/stacey-kent-3
LOCATION:Birdland\, 315 W 44th Street\, #5402\, New York City\, NY\, 10036\, United States
CATEGORIES:Club
ATTACH;FMTTYPE=image/png:https://notoriousjazz.com/wp-content/uploads/2025/12/STACEY-KENT-@-BIRDLAND.png
END:VEVENT
END:VCALENDAR