BEGIN:VCALENDAR
VERSION:2.0
PRODID:-//Notorious Jazz - ECPv6.15.17//NONSGML v1.0//EN
CALSCALE:GREGORIAN
METHOD:PUBLISH
X-ORIGINAL-URL:https://notoriousjazz.com
X-WR-CALDESC:Events for Notorious Jazz
REFRESH-INTERVAL;VALUE=DURATION:PT1H
X-Robots-Tag:noindex
X-PUBLISHED-TTL:PT1H
BEGIN:VTIMEZONE
TZID:America/New_York
BEGIN:DAYLIGHT
TZOFFSETFROM:-0500
TZOFFSETTO:-0400
TZNAME:EDT
DTSTART:20250309T070000
END:DAYLIGHT
BEGIN:STANDARD
TZOFFSETFROM:-0400
TZOFFSETTO:-0500
TZNAME:EST
DTSTART:20251102T060000
END:STANDARD
BEGIN:DAYLIGHT
TZOFFSETFROM:-0500
TZOFFSETTO:-0400
TZNAME:EDT
DTSTART:20260308T070000
END:DAYLIGHT
BEGIN:STANDARD
TZOFFSETFROM:-0400
TZOFFSETTO:-0500
TZNAME:EST
DTSTART:20261101T060000
END:STANDARD
BEGIN:DAYLIGHT
TZOFFSETFROM:-0500
TZOFFSETTO:-0400
TZNAME:EDT
DTSTART:20270314T070000
END:DAYLIGHT
BEGIN:STANDARD
TZOFFSETFROM:-0400
TZOFFSETTO:-0500
TZNAME:EST
DTSTART:20271107T060000
END:STANDARD
END:VTIMEZONE
BEGIN:VEVENT
DTSTART;TZID=America/New_York:20260218T183000
DTEND;TZID=America/New_York:20260218T213000
DTSTAMP:20260421T045807
CREATED:20260206T231436Z
LAST-MODIFIED:20260206T232051Z
UID:48866-1771439400-1771450200@notoriousjazz.com
SUMMARY:TOMI BERRY & OMAR ASKEW
DESCRIPTION:Tomi Berry is a beautiful performer\, inside and out\, brings natural grace\, a rich soulful voice\, and spiritual essence to her performances throughout the Atlanta area and beyond. Wherever she sings\, she spreads joy\, whether singing smooth R&B\, swinging jazz\, or sultry ballads\, she holds an audience in rapt attention.  A spiritual song-stylist\, she engages her listeners in musical conversation. \nOmar Askew\, a 19-year-old student at Kennesaw State University\, is dedicated to studying Jazz Performance on the piano. Constantly striving for self-improvement\, he aims to excel every time he touches his instrument. In lessons\, Omar pushes his students to become the best pianists they can be\, helping them achieve their personal goals. \nCover & Parking: Free
URL:https://notoriousjazz.com/event/tomi-berry-omar-askew-2
LOCATION:Divinely Elegant Vines Tasting Room\, 2730 Broad Street\, Austell\, GA\, 30106\, United States
CATEGORIES:Club
ATTACH;FMTTYPE=image/png:https://notoriousjazz.com/wp-content/uploads/2026/02/TOMI-BERRY-OMAR-ASKEW-@-TASTING-ROOM.png
END:VEVENT
END:VCALENDAR