BEGIN:VCALENDAR
VERSION:2.0
PRODID:-//Notorious Jazz - ECPv6.15.17//NONSGML v1.0//EN
CALSCALE:GREGORIAN
METHOD:PUBLISH
X-WR-CALNAME:Notorious Jazz
X-ORIGINAL-URL:https://notoriousjazz.com
X-WR-CALDESC:Events for Notorious Jazz
REFRESH-INTERVAL;VALUE=DURATION:PT1H
X-Robots-Tag:noindex
X-PUBLISHED-TTL:PT1H
BEGIN:VTIMEZONE
TZID:America/New_York
BEGIN:DAYLIGHT
TZOFFSETFROM:-0500
TZOFFSETTO:-0400
TZNAME:EDT
DTSTART:20250309T070000
END:DAYLIGHT
BEGIN:STANDARD
TZOFFSETFROM:-0400
TZOFFSETTO:-0500
TZNAME:EST
DTSTART:20251102T060000
END:STANDARD
BEGIN:DAYLIGHT
TZOFFSETFROM:-0500
TZOFFSETTO:-0400
TZNAME:EDT
DTSTART:20260308T070000
END:DAYLIGHT
BEGIN:STANDARD
TZOFFSETFROM:-0400
TZOFFSETTO:-0500
TZNAME:EST
DTSTART:20261101T060000
END:STANDARD
BEGIN:DAYLIGHT
TZOFFSETFROM:-0500
TZOFFSETTO:-0400
TZNAME:EDT
DTSTART:20270314T070000
END:DAYLIGHT
BEGIN:STANDARD
TZOFFSETFROM:-0400
TZOFFSETTO:-0500
TZNAME:EST
DTSTART:20271107T060000
END:STANDARD
END:VTIMEZONE
BEGIN:VEVENT
DTSTART;TZID=America/New_York:20260220T193000
DTEND;TZID=America/New_York:20260220T210000
DTSTAMP:20260421T045426
CREATED:20260215T160559Z
LAST-MODIFIED:20260215T161022Z
UID:48905-1771615800-1771621200@notoriousjazz.com
SUMMARY:ALLAN HARRIS
DESCRIPTION:Celebrate Black History Month with a powerful performance that honors the resilience\, creativity\, and legacy of Black Americans. Join us for Harlem After Dark: An Uptown Jazz Party\, a vibrant tribute to Harlem’s golden era\, featuring world-class musicians\, dynamic tap dance\, and soulful performances by Allan Harris\, Maya Azucena\, and AC Lincoln. \nThis electrifying evening celebrates the enduring legacy of Harlem’s jazz icons while embracing the energy of today’s music scene\, making both productions must-see events that highlight the profound impact of Black history and culture. \nTickets: $25.00
URL:https://notoriousjazz.com/event/allan-harris-10
LOCATION:Temecula Theatre\, 42051 Main Street\, Temecula\, CA\, 92590\, United States
CATEGORIES:Theatre
ATTACH;FMTTYPE=image/png:https://notoriousjazz.com/wp-content/uploads/2026/02/ALLAN-HARRIS-@-TEMECULA-THEATRE.png
END:VEVENT
END:VCALENDAR